BEGIN:VCALENDAR
VERSION:2.0
PRODID:-//Dubuque County Library District - ECPv6.15.20//NONSGML v1.0//EN
CALSCALE:GREGORIAN
METHOD:PUBLISH
X-WR-CALNAME:Dubuque County Library District
X-ORIGINAL-URL:https://www.dubcolib.org
X-WR-CALDESC:Events for Dubuque County Library District
REFRESH-INTERVAL;VALUE=DURATION:PT1H
X-Robots-Tag:noindex
X-PUBLISHED-TTL:PT1H
BEGIN:VTIMEZONE
TZID:America/Chicago
BEGIN:DAYLIGHT
TZOFFSETFROM:-0600
TZOFFSETTO:-0500
TZNAME:CDT
DTSTART:20240310T080000
END:DAYLIGHT
BEGIN:STANDARD
TZOFFSETFROM:-0500
TZOFFSETTO:-0600
TZNAME:CST
DTSTART:20241103T070000
END:STANDARD
BEGIN:DAYLIGHT
TZOFFSETFROM:-0600
TZOFFSETTO:-0500
TZNAME:CDT
DTSTART:20250309T080000
END:DAYLIGHT
BEGIN:STANDARD
TZOFFSETFROM:-0500
TZOFFSETTO:-0600
TZNAME:CST
DTSTART:20251102T070000
END:STANDARD
BEGIN:DAYLIGHT
TZOFFSETFROM:-0600
TZOFFSETTO:-0500
TZNAME:CDT
DTSTART:20260308T080000
END:DAYLIGHT
BEGIN:STANDARD
TZOFFSETFROM:-0500
TZOFFSETTO:-0600
TZNAME:CST
DTSTART:20261101T070000
END:STANDARD
END:VTIMEZONE
BEGIN:VEVENT
DTSTART;TZID=America/Chicago:20251118T090000
DTEND;TZID=America/Chicago:20251118T093000
DTSTAMP:20260421T182524
CREATED:20250812T214638Z
LAST-MODIFIED:20251027T214558Z
UID:10004842-1763456400-1763458200@www.dubcolib.org
SUMMARY:Peosta Storytime
DESCRIPTION:Join Teresa for a time of stories\, songs\, fingerplay\, wiggles\, and hands-on activities. Designed for ages 2.5 to 4 \n  \nPlease note: Storytime is automatically cancelled when local schools are closed or delayed due to weather.
URL:https://www.dubcolib.org/event/peosta-storytime-3/2025-11-18/
LOCATION:Peosta Branch\, 8342 NICC Drive\, Peosta\, Iowa\, 52068
CATEGORIES:Preschoolers
ATTACH;FMTTYPE=image/jpeg:https://www.dubcolib.org/wp-content/uploads/2024/05/Website-Resolution-20.jpg
END:VEVENT
BEGIN:VEVENT
DTSTART;TZID=America/Chicago:20251117T161500
DTEND;TZID=America/Chicago:20251117T164500
DTSTAMP:20260421T182524
CREATED:20251003T172400Z
LAST-MODIFIED:20251003T172400Z
UID:10005024-1763396100-1763397900@www.dubcolib.org
SUMMARY:DCLD Kids: Gratitude Wreaths
DESCRIPTION:Get ready for Thanksgiving by joining Julia to make gratitude wreaths.
URL:https://www.dubcolib.org/event/dcld-kids-gratitude-wreaths-3/
LOCATION:Peosta Branch\, 8342 NICC Drive\, Peosta\, Iowa\, 52068
CATEGORIES:Kids
ATTACH;FMTTYPE=image/jpeg:https://www.dubcolib.org/wp-content/uploads/2025/10/newsletter-for-instagram-8.jpg
ORGANIZER;CN="Children's Librarian":MAILTO:LydiaS@dubcolib.org
END:VEVENT
BEGIN:VEVENT
DTSTART;TZID=America/Chicago:20251110T161500
DTEND;TZID=America/Chicago:20251110T164500
DTSTAMP:20260421T182524
CREATED:20251003T173056Z
LAST-MODIFIED:20251003T173056Z
UID:10005022-1762791300-1762793100@www.dubcolib.org
SUMMARY:DCLD Kids: STEM Maze Design
DESCRIPTION:Join Miss Julia to use STEM (Science\, Technology\, Engineering and Math) skills to design your own maze! For kids 5-12.
URL:https://www.dubcolib.org/event/dcld-kids-stem-maze-design-5/
LOCATION:Peosta Branch\, 8342 NICC Drive\, Peosta\, Iowa\, 52068
CATEGORIES:Kids
ATTACH;FMTTYPE=image/jpeg:https://www.dubcolib.org/wp-content/uploads/2025/10/maze-f.jpg
ORGANIZER;CN="Children's Librarian":MAILTO:LydiaS@dubcolib.org
END:VEVENT
BEGIN:VEVENT
DTSTART;TZID=America/Chicago:20251104T180000
DTEND;TZID=America/Chicago:20251104T190000
DTSTAMP:20260421T182524
CREATED:20251001T175010Z
LAST-MODIFIED:20251001T175010Z
UID:10004987-1762279200-1762282800@www.dubcolib.org
SUMMARY:Teens @ the Library
DESCRIPTION:Cut up old comic books and get ready for the new year! Teens will get to create their own personalized 2026 planner with a variety of comics and characters. For ages 13-17.
URL:https://www.dubcolib.org/event/teens-the-library-9/
LOCATION:Peosta Branch\, 8342 NICC Drive\, Peosta\, Iowa\, 52068
CATEGORIES:Teens
ATTACH;FMTTYPE=image/jpeg:https://www.dubcolib.org/wp-content/uploads/2025/10/55dcb2fc-64c9-4d58-ad35-45a1f7092c35.jpg
ORGANIZER;CN="Teen & Adult Programming Librarian":MAILTO:jennm@dubcolib.org
END:VEVENT
BEGIN:VEVENT
DTSTART;TZID=America/Chicago:20251104T090000
DTEND;TZID=America/Chicago:20251104T093000
DTSTAMP:20260421T182524
CREATED:20250812T214638Z
LAST-MODIFIED:20251027T214558Z
UID:10004840-1762246800-1762248600@www.dubcolib.org
SUMMARY:Peosta Storytime
DESCRIPTION:Join Teresa for a time of stories\, songs\, fingerplay\, wiggles\, and hands-on activities. Designed for ages 2.5 to 4 \n  \nPlease note: Storytime is automatically cancelled when local schools are closed or delayed due to weather.
URL:https://www.dubcolib.org/event/peosta-storytime-3/2025-11-04/
LOCATION:Peosta Branch\, 8342 NICC Drive\, Peosta\, Iowa\, 52068
CATEGORIES:Preschoolers
ATTACH;FMTTYPE=image/jpeg:https://www.dubcolib.org/wp-content/uploads/2024/05/Website-Resolution-20.jpg
END:VEVENT
BEGIN:VEVENT
DTSTART;TZID=America/Chicago:20251028T180000
DTEND;TZID=America/Chicago:20251028T190000
DTSTAMP:20260421T182524
CREATED:20250902T172150Z
LAST-MODIFIED:20250902T172150Z
UID:10004932-1761674400-1761678000@www.dubcolib.org
SUMMARY:Craft Club: Hand-Stamped Tea Towel
DESCRIPTION:In October we’re creating a piece of kitchen decor by learning how to hand-stamp on tea towels. RSVP encouraged\, walk-ins welcome while supplies last. For teens and adults.
URL:https://www.dubcolib.org/event/craft-club-hand-stamped-tea-towel-2/
LOCATION:Peosta Branch\, 8342 NICC Drive\, Peosta\, Iowa\, 52068
CATEGORIES:Adults
ATTACH;FMTTYPE=image/jpeg:https://www.dubcolib.org/wp-content/uploads/2025/08/Stamped-and-Embroidered-Dish-Towel.jpg
ORGANIZER;CN="Teen & Adult Programming Librarian":MAILTO:jennm@dubcolib.org
END:VEVENT
BEGIN:VEVENT
DTSTART;TZID=America/Chicago:20251028T090000
DTEND;TZID=America/Chicago:20251028T093000
DTSTAMP:20260421T182524
CREATED:20250812T214638Z
LAST-MODIFIED:20251027T214558Z
UID:10004839-1761642000-1761643800@www.dubcolib.org
SUMMARY:Peosta Storytime
DESCRIPTION:Join Teresa for a time of stories\, songs\, fingerplay\, wiggles\, and hands-on activities. Designed for ages 2.5 to 4 \n  \nPlease note: Storytime is automatically cancelled when local schools are closed or delayed due to weather.
URL:https://www.dubcolib.org/event/peosta-storytime-3/2025-10-28/
LOCATION:Peosta Branch\, 8342 NICC Drive\, Peosta\, Iowa\, 52068
CATEGORIES:Preschoolers
ATTACH;FMTTYPE=image/jpeg:https://www.dubcolib.org/wp-content/uploads/2024/05/Website-Resolution-20.jpg
END:VEVENT
BEGIN:VEVENT
DTSTART;TZID=America/Chicago:20251027T161500
DTEND;TZID=America/Chicago:20251027T170000
DTSTAMP:20260421T182524
CREATED:20250904T220530Z
LAST-MODIFIED:20250904T220530Z
UID:10004952-1761581700-1761584400@www.dubcolib.org
SUMMARY:DCLD Kids: Cozy Games
DESCRIPTION:A cozy Game Day with Julia! Puzzles\, board games and games to celebrate Autumn.
URL:https://www.dubcolib.org/event/dcld-kids-cozy-games-3/
LOCATION:Peosta Branch\, 8342 NICC Drive\, Peosta\, Iowa\, 52068
CATEGORIES:Kids
ATTACH;FMTTYPE=image/jpeg:https://www.dubcolib.org/wp-content/uploads/2025/09/Orange-Cream-Green-Cute-Floral-Birthday-Invite-Instagram-Post-12.jpg
ORGANIZER;CN="Children's Librarian":MAILTO:LydiaS@dubcolib.org
END:VEVENT
BEGIN:VEVENT
DTSTART;TZID=America/Chicago:20251022T173000
DTEND;TZID=America/Chicago:20251022T190000
DTSTAMP:20260421T182524
CREATED:20250902T205416Z
LAST-MODIFIED:20250912T200434Z
UID:10004955-1761154200-1761159600@www.dubcolib.org
SUMMARY:Bling Your Own Book
DESCRIPTION:BYOB… library style! \nBring your own book to create your own personalized\, sparkly masterpiece! We’ll provide the gems and glue\, you bring the reading material. A small selection library books will be available\, but bringing your own is recommended to guarantee there’s something you like. For Teens and Adults. RSVP required.
URL:https://www.dubcolib.org/event/bling-your-own-book/
LOCATION:Peosta Branch\, 8342 NICC Drive\, Peosta\, Iowa\, 52068
CATEGORIES:Adults
ATTACH;FMTTYPE=image/jpeg:https://www.dubcolib.org/wp-content/uploads/2025/09/Orange-Cream-Green-Cute-Floral-Birthday-Invite-Instagram-Post-11.jpg
ORGANIZER;CN="Teen & Adult Programming Librarian":MAILTO:jennm@dubcolib.org
END:VEVENT
BEGIN:VEVENT
DTSTART;TZID=America/Chicago:20251021T090000
DTEND;TZID=America/Chicago:20251021T100000
DTSTAMP:20260421T182524
CREATED:20250904T222245Z
LAST-MODIFIED:20250904T222412Z
UID:10004966-1761037200-1761040800@www.dubcolib.org
SUMMARY:Fire Truck Storytime
DESCRIPTION:Meet a firefighter\, learn about fire safety\, and see the fire truck and ambulance from the Centralia Peosta Fire and EMS Department!
URL:https://www.dubcolib.org/event/fire-truck-storytime-5/
LOCATION:Peosta Branch\, 8342 NICC Drive\, Peosta\, Iowa\, 52068
CATEGORIES:Preschoolers
ATTACH;FMTTYPE=image/jpeg:https://www.dubcolib.org/wp-content/uploads/2024/09/Website-Resolution-72.jpg
ORGANIZER;CN="Children's Librarian":MAILTO:LydiaS@dubcolib.org
END:VEVENT
BEGIN:VEVENT
DTSTART;TZID=America/Chicago:20251014T090000
DTEND;TZID=America/Chicago:20251014T093000
DTSTAMP:20260421T182524
CREATED:20250812T214638Z
LAST-MODIFIED:20251027T214558Z
UID:10004586-1760432400-1760434200@www.dubcolib.org
SUMMARY:Peosta Storytime
DESCRIPTION:Join Teresa for a time of stories\, songs\, fingerplay\, wiggles\, and hands-on activities. Designed for ages 2.5 to 4 \n  \nPlease note: Storytime is automatically cancelled when local schools are closed or delayed due to weather.
URL:https://www.dubcolib.org/event/peosta-storytime-3/2025-10-14/
LOCATION:Peosta Branch\, 8342 NICC Drive\, Peosta\, Iowa\, 52068
CATEGORIES:Preschoolers
ATTACH;FMTTYPE=image/jpeg:https://www.dubcolib.org/wp-content/uploads/2024/05/Website-Resolution-20.jpg
END:VEVENT
BEGIN:VEVENT
DTSTART;TZID=America/Chicago:20251013T161500
DTEND;TZID=America/Chicago:20251013T164500
DTSTAMP:20260421T182524
CREATED:20250904T213653Z
LAST-MODIFIED:20250904T213653Z
UID:10004945-1760372100-1760373900@www.dubcolib.org
SUMMARY:DCLD Kids: Craft Stick Catapult
DESCRIPTION:Join Miss Julia to make a working catapult out of craft sticks! For kids 5-12.
URL:https://www.dubcolib.org/event/dcld-kids-craft-stick-catapult/
LOCATION:Peosta Branch\, 8342 NICC Drive\, Peosta\, Iowa\, 52068
CATEGORIES:Kids
ATTACH;FMTTYPE=image/jpeg:https://www.dubcolib.org/wp-content/uploads/2025/09/816UYUCZmEL._UF8941000_QL80_.jpg
ORGANIZER;CN="Children's Librarian":MAILTO:LydiaS@dubcolib.org
END:VEVENT
BEGIN:VEVENT
DTSTART;TZID=America/Chicago:20251007T180000
DTEND;TZID=America/Chicago:20251007T190000
DTSTAMP:20260421T182524
CREATED:20250902T193113Z
LAST-MODIFIED:20250902T193113Z
UID:10004927-1759860000-1759863600@www.dubcolib.org
SUMMARY:Teens @ the Library
DESCRIPTION:Give an old picture a spooky twist by adding ghosts\, ghouls\, and other creatures to your piece! For teens 13-17.
URL:https://www.dubcolib.org/event/teens-the-library-7/
LOCATION:Peosta Branch\, 8342 NICC Drive\, Peosta\, Iowa\, 52068
CATEGORIES:Teens
ATTACH;FMTTYPE=image/jpeg:https://www.dubcolib.org/wp-content/uploads/2025/08/Orange-Cream-Green-Cute-Floral-Birthday-Invite-Instagram-Post-9.jpg
ORGANIZER;CN="Teen & Adult Programming Librarian":MAILTO:jennm@dubcolib.org
END:VEVENT
BEGIN:VEVENT
DTSTART;TZID=America/Chicago:20251007T090000
DTEND;TZID=America/Chicago:20251007T093000
DTSTAMP:20260421T182524
CREATED:20250812T214638Z
LAST-MODIFIED:20251027T214558Z
UID:10004585-1759827600-1759829400@www.dubcolib.org
SUMMARY:Peosta Storytime
DESCRIPTION:Join Teresa for a time of stories\, songs\, fingerplay\, wiggles\, and hands-on activities. Designed for ages 2.5 to 4 \n  \nPlease note: Storytime is automatically cancelled when local schools are closed or delayed due to weather.
URL:https://www.dubcolib.org/event/peosta-storytime-3/2025-10-07/
LOCATION:Peosta Branch\, 8342 NICC Drive\, Peosta\, Iowa\, 52068
CATEGORIES:Preschoolers
ATTACH;FMTTYPE=image/jpeg:https://www.dubcolib.org/wp-content/uploads/2024/05/Website-Resolution-20.jpg
END:VEVENT
BEGIN:VEVENT
DTSTART;TZID=America/Chicago:20251006T161500
DTEND;TZID=America/Chicago:20251006T164500
DTSTAMP:20260421T182524
CREATED:20250902T164540Z
LAST-MODIFIED:20250909T191145Z
UID:10004941-1759767300-1759769100@www.dubcolib.org
SUMMARY:DCLD Kids: Pony Bead Pumpkins
DESCRIPTION:Get ready for pumpkin season by joining Julia to make pony bead pumpkins!
URL:https://www.dubcolib.org/event/dcld-pony-bead-pumpkins/
LOCATION:Peosta Branch\, 8342 NICC Drive\, Peosta\, Iowa\, 52068
CATEGORIES:Kids
ATTACH;FMTTYPE=image/jpeg:https://www.dubcolib.org/wp-content/uploads/2025/08/Craft-Feature.jpg
ORGANIZER;CN="Children's Librarian":MAILTO:LydiaS@dubcolib.org
END:VEVENT
BEGIN:VEVENT
DTSTART;TZID=America/Chicago:20250930T090000
DTEND;TZID=America/Chicago:20250930T093000
DTSTAMP:20260421T182524
CREATED:20250812T214638Z
LAST-MODIFIED:20251027T214558Z
UID:10004584-1759222800-1759224600@www.dubcolib.org
SUMMARY:Peosta Storytime
DESCRIPTION:Join Teresa for a time of stories\, songs\, fingerplay\, wiggles\, and hands-on activities. Designed for ages 2.5 to 4 \n  \nPlease note: Storytime is automatically cancelled when local schools are closed or delayed due to weather.
URL:https://www.dubcolib.org/event/peosta-storytime-3/2025-09-30/
LOCATION:Peosta Branch\, 8342 NICC Drive\, Peosta\, Iowa\, 52068
CATEGORIES:Preschoolers
ATTACH;FMTTYPE=image/jpeg:https://www.dubcolib.org/wp-content/uploads/2024/05/Website-Resolution-20.jpg
END:VEVENT
BEGIN:VEVENT
DTSTART;TZID=America/Chicago:20250924T180000
DTEND;TZID=America/Chicago:20250924T190000
DTSTAMP:20260421T182524
CREATED:20250818T172742Z
LAST-MODIFIED:20250818T172742Z
UID:10004861-1758736800-1758740400@www.dubcolib.org
SUMMARY:Meet Author Carol Kroh Schmitt
DESCRIPTION:Meet Carol Kroh Schmitt\, author of Dancing Down a Rocky Path! Carol will read from her book and discuss her journey as a local author. Books will be available to purchase and signed by the author. In Dancing Down a Rocky Path\, twelve-year-old Petra Reynolds is blissfully unaware that fate has set her on a rocky path of deceit\, betrayal\, and revenge. This family saga follows four generations as they live through despair and triumph.
URL:https://www.dubcolib.org/event/meet-author-carol-kroh-schmitt/
LOCATION:Peosta Branch\, 8342 NICC Drive\, Peosta\, Iowa\, 52068
CATEGORIES:Adults
ATTACH;FMTTYPE=image/jpeg:https://www.dubcolib.org/wp-content/uploads/2025/08/h6d1m1s6q43dkm1ud8d6drn5ak.jpg
ORGANIZER;CN="Teen & Adult Programming Librarian":MAILTO:jennm@dubcolib.org
END:VEVENT
BEGIN:VEVENT
DTSTART;TZID=America/Chicago:20250923T180000
DTEND;TZID=America/Chicago:20250923T190000
DTSTAMP:20260421T182524
CREATED:20250818T161340Z
LAST-MODIFIED:20250819T145655Z
UID:10004857-1758650400-1758654000@www.dubcolib.org
SUMMARY:Craft Club: Fall Leaf Garlands
DESCRIPTION:Create a bookish decor piece for your home! In September we’re making fall leaf garland using old book pages. RSVP encouraged\, walk-ins welcome while supplies last. For teens and adults.
URL:https://www.dubcolib.org/event/craft-club-fall-leaf-garlands-3/
LOCATION:Peosta Branch\, 8342 NICC Drive\, Peosta\, Iowa\, 52068
CATEGORIES:Adults
ATTACH;FMTTYPE=image/jpeg:https://www.dubcolib.org/wp-content/uploads/2025/08/Orange-Cream-Green-Cute-Floral-Birthday-Invite-Instagram-Post-3.jpg
ORGANIZER;CN="Teen & Adult Programming Librarian":MAILTO:jennm@dubcolib.org
END:VEVENT
BEGIN:VEVENT
DTSTART;TZID=America/Chicago:20250923T090000
DTEND;TZID=America/Chicago:20250923T093000
DTSTAMP:20260421T182524
CREATED:20250812T214638Z
LAST-MODIFIED:20251027T214558Z
UID:10004583-1758618000-1758619800@www.dubcolib.org
SUMMARY:Peosta Storytime
DESCRIPTION:Join Teresa for a time of stories\, songs\, fingerplay\, wiggles\, and hands-on activities. Designed for ages 2.5 to 4 \n  \nPlease note: Storytime is automatically cancelled when local schools are closed or delayed due to weather.
URL:https://www.dubcolib.org/event/peosta-storytime-3/2025-09-23/
LOCATION:Peosta Branch\, 8342 NICC Drive\, Peosta\, Iowa\, 52068
CATEGORIES:Preschoolers
ATTACH;FMTTYPE=image/jpeg:https://www.dubcolib.org/wp-content/uploads/2024/05/Website-Resolution-20.jpg
END:VEVENT
BEGIN:VEVENT
DTSTART;TZID=America/Chicago:20250922T161500
DTEND;TZID=America/Chicago:20250922T164500
DTSTAMP:20260421T182524
CREATED:20250814T190411Z
LAST-MODIFIED:20250814T190411Z
UID:10004873-1758557700-1758559500@www.dubcolib.org
SUMMARY:DCLD Kids: Basket Weaving
DESCRIPTION:Learn how to weave your own mini basket!
URL:https://www.dubcolib.org/event/dcld-kids-basket-weaving-2/
LOCATION:Peosta Branch\, 8342 NICC Drive\, Peosta\, Iowa\, 52068
CATEGORIES:Kids
ATTACH;FMTTYPE=image/jpeg:https://www.dubcolib.org/wp-content/uploads/2025/08/Orange-Cream-Green-Cute-Floral-Birthday-Invite-Instagram-Post-2.jpg
ORGANIZER;CN="Children's Librarian":MAILTO:LydiaS@dubcolib.org
END:VEVENT
BEGIN:VEVENT
DTSTART;TZID=America/Chicago:20250916T090000
DTEND;TZID=America/Chicago:20250916T093000
DTSTAMP:20260421T182524
CREATED:20250812T214638Z
LAST-MODIFIED:20251027T214558Z
UID:10004582-1758013200-1758015000@www.dubcolib.org
SUMMARY:Peosta Storytime
DESCRIPTION:Join Teresa for a time of stories\, songs\, fingerplay\, wiggles\, and hands-on activities. Designed for ages 2.5 to 4 \n  \nPlease note: Storytime is automatically cancelled when local schools are closed or delayed due to weather.
URL:https://www.dubcolib.org/event/peosta-storytime-3/2025-09-16/
LOCATION:Peosta Branch\, 8342 NICC Drive\, Peosta\, Iowa\, 52068
CATEGORIES:Preschoolers
ATTACH;FMTTYPE=image/jpeg:https://www.dubcolib.org/wp-content/uploads/2024/05/Website-Resolution-20.jpg
END:VEVENT
BEGIN:VEVENT
DTSTART;TZID=America/Chicago:20250915T161500
DTEND;TZID=America/Chicago:20250915T164500
DTSTAMP:20260421T182524
CREATED:20250814T183324Z
LAST-MODIFIED:20250814T183324Z
UID:10004864-1757952900-1757954700@www.dubcolib.org
SUMMARY:DCLD Kids: Bouncy Ball
DESCRIPTION:Join Miss Julia to make your own bouncy ball! For kids 5-12.
URL:https://www.dubcolib.org/event/dcld-kids-bouncy-ball-3/
LOCATION:Peosta Branch\, 8342 NICC Drive\, Peosta\, Iowa\, 52068
CATEGORIES:Kids
ATTACH;FMTTYPE=image/jpeg:https://www.dubcolib.org/wp-content/uploads/2025/08/Bouncy-Ball-DIY.jpg
ORGANIZER;CN="Children's Librarian":MAILTO:LydiaS@dubcolib.org
END:VEVENT
BEGIN:VEVENT
DTSTART;TZID=America/Chicago:20250909T090000
DTEND;TZID=America/Chicago:20250909T093000
DTSTAMP:20260421T182524
CREATED:20250812T214638Z
LAST-MODIFIED:20251027T214558Z
UID:10004581-1757408400-1757410200@www.dubcolib.org
SUMMARY:Peosta Storytime
DESCRIPTION:Join Teresa for a time of stories\, songs\, fingerplay\, wiggles\, and hands-on activities. Designed for ages 2.5 to 4 \n  \nPlease note: Storytime is automatically cancelled when local schools are closed or delayed due to weather.
URL:https://www.dubcolib.org/event/peosta-storytime-3/2025-09-09/
LOCATION:Peosta Branch\, 8342 NICC Drive\, Peosta\, Iowa\, 52068
CATEGORIES:Preschoolers
ATTACH;FMTTYPE=image/jpeg:https://www.dubcolib.org/wp-content/uploads/2024/05/Website-Resolution-20.jpg
END:VEVENT
BEGIN:VEVENT
DTSTART;TZID=America/Chicago:20250908T161500
DTEND;TZID=America/Chicago:20250908T164500
DTSTAMP:20260421T182524
CREATED:20250814T185738Z
LAST-MODIFIED:20250814T185738Z
UID:10004867-1757348100-1757349900@www.dubcolib.org
SUMMARY:DCLD Kids: Mini Art
DESCRIPTION:Make your own mini masterpiece!
URL:https://www.dubcolib.org/event/dcld-kids-mini-art-5/
LOCATION:Peosta Branch\, 8342 NICC Drive\, Peosta\, Iowa\, 52068
CATEGORIES:Kids
ATTACH;FMTTYPE=image/jpeg:https://www.dubcolib.org/wp-content/uploads/2025/08/Orange-Cream-Green-Cute-Floral-Birthday-Invite-Instagram-Post-1.jpg
ORGANIZER;CN="Children's Librarian":MAILTO:LydiaS@dubcolib.org
END:VEVENT
BEGIN:VEVENT
DTSTART;TZID=America/Chicago:20250902T180000
DTEND;TZID=America/Chicago:20250902T190000
DTSTAMP:20260421T182524
CREATED:20250818T164050Z
LAST-MODIFIED:20250818T164050Z
UID:10004851-1756836000-1756839600@www.dubcolib.org
SUMMARY:Teens @ the Library
DESCRIPTION:Teens\, come relax at the library and create your own zen garden. You’ll get to personalize your garden with rocks\, moss\, and mini figurines. For ages 13-17.
URL:https://www.dubcolib.org/event/teens-the-library-3/
LOCATION:Peosta Branch\, 8342 NICC Drive\, Peosta\, Iowa\, 52068
CATEGORIES:Teens
ATTACH;FMTTYPE=image/jpeg:https://www.dubcolib.org/wp-content/uploads/2025/08/Orange-Cream-Green-Cute-Floral-Birthday-Invite-Instagram-Post-4.jpg
ORGANIZER;CN="Teen & Adult Programming Librarian":MAILTO:jennm@dubcolib.org
END:VEVENT
BEGIN:VEVENT
DTSTART;TZID=America/Chicago:20250902T090000
DTEND;TZID=America/Chicago:20250902T093000
DTSTAMP:20260421T182524
CREATED:20250812T214638Z
LAST-MODIFIED:20251027T214558Z
UID:10004580-1756803600-1756805400@www.dubcolib.org
SUMMARY:Peosta Storytime
DESCRIPTION:Join Teresa for a time of stories\, songs\, fingerplay\, wiggles\, and hands-on activities. Designed for ages 2.5 to 4 \n  \nPlease note: Storytime is automatically cancelled when local schools are closed or delayed due to weather.
URL:https://www.dubcolib.org/event/peosta-storytime-3/2025-09-02/
LOCATION:Peosta Branch\, 8342 NICC Drive\, Peosta\, Iowa\, 52068
CATEGORIES:Preschoolers
ATTACH;FMTTYPE=image/jpeg:https://www.dubcolib.org/wp-content/uploads/2024/05/Website-Resolution-20.jpg
END:VEVENT
BEGIN:VEVENT
DTSTART;TZID=America/Chicago:20250826T180000
DTEND;TZID=America/Chicago:20250826T190000
DTSTAMP:20260421T182524
CREATED:20250716T213814Z
LAST-MODIFIED:20250716T213814Z
UID:10004526-1756231200-1756234800@www.dubcolib.org
SUMMARY:Craft Club: Pressed Flower Lanterns
DESCRIPTION:Create a piece of cozy home decor with a glass and real pressed flowers. For teens and adults. RSVP recommended\, drop-ins welcome as supplies last.
URL:https://www.dubcolib.org/event/craft-club-pressed-flower-lanterns-2/
LOCATION:Peosta Branch\, 8342 NICC Drive\, Peosta\, Iowa\, 52068
CATEGORIES:Adults
ATTACH;FMTTYPE=image/jpeg:https://www.dubcolib.org/wp-content/uploads/2025/07/Pressed-Flower-Craft.jpg
ORGANIZER;CN="Teen & Adult Programming Librarian":MAILTO:jennm@dubcolib.org
END:VEVENT
BEGIN:VEVENT
DTSTART;TZID=America/Chicago:20250813T093000
DTEND;TZID=America/Chicago:20250813T100000
DTSTAMP:20260421T182524
CREATED:20250430T222619Z
LAST-MODIFIED:20250716T221206Z
UID:10004535-1755077400-1755079200@www.dubcolib.org
SUMMARY:Peosta Storytime
DESCRIPTION:Bring your friends and join Teresa for interactive rhymes and songs\, fingerplay\, and of course\, stories! Designed for children 2 – 4\, but all ages are welcome.
URL:https://www.dubcolib.org/event/peosta-storytime-2/2025-08-13/
LOCATION:Peosta Branch\, 8342 NICC Drive\, Peosta\, Iowa\, 52068
CATEGORIES:Preschoolers
ATTACH;FMTTYPE=image/jpeg:https://www.dubcolib.org/wp-content/uploads/2025/04/Summer-2025-7.jpg
ORGANIZER;CN="Teresa Jack":MAILTO:teresaj@dubcolib.org
END:VEVENT
BEGIN:VEVENT
DTSTART;TZID=America/Chicago:20250806T093000
DTEND;TZID=America/Chicago:20250806T100000
DTSTAMP:20260421T182524
CREATED:20250430T222619Z
LAST-MODIFIED:20250716T221206Z
UID:10004489-1754472600-1754474400@www.dubcolib.org
SUMMARY:Peosta Storytime
DESCRIPTION:Bring your friends and join Teresa for interactive rhymes and songs\, fingerplay\, and of course\, stories! Designed for children 2 – 4\, but all ages are welcome.
URL:https://www.dubcolib.org/event/peosta-storytime-2/2025-08-06/
LOCATION:Peosta Branch\, 8342 NICC Drive\, Peosta\, Iowa\, 52068
CATEGORIES:Preschoolers
ATTACH;FMTTYPE=image/jpeg:https://www.dubcolib.org/wp-content/uploads/2025/04/Summer-2025-7.jpg
ORGANIZER;CN="Teresa Jack":MAILTO:teresaj@dubcolib.org
END:VEVENT
BEGIN:VEVENT
DTSTART;TZID=America/Chicago:20250805T180000
DTEND;TZID=America/Chicago:20250805T190000
DTSTAMP:20260421T182524
CREATED:20250430T214355Z
LAST-MODIFIED:20250510T151945Z
UID:10004346-1754416800-1754420400@www.dubcolib.org
SUMMARY:Teen Adventures
DESCRIPTION:Stop by this summer for crafts\, activities and more! For teens ages 13-17. \n\nBlackout Poetry Write your own poetry by picking random words from the page of an old library book\, or bring your own book from home!\nSugar Scrub: Quick\, easy and luxurious\, this DIY easy homemade sugar scrub exfoliates and moisturizes all at once.\nOrigami String Lights Level up ordinary string lights with cute and easy origami!\nTeen Game Night Compete with friends on Switch\, Wii and board games\nLoom Weaving: Make your own carboard loom and learn the art of weaving.\nHand-Knitting Learn how to hand knit a soft and cozy pillow using just you hands!\nPlant Terrariums Learn how to create a mini world in a glass globe\, with rocks\, sand\, moss\, and an air plant\nFood Science Ice Cream Chemistry + Fibonacci Sequence Lemonade: Science you eat!\n\nWant weekly updates about Teen Adventures? Sign up HERE
URL:https://www.dubcolib.org/event/teen-adventures-3/2025-08-05/
LOCATION:Peosta Branch\, 8342 NICC Drive\, Peosta\, Iowa\, 52068
CATEGORIES:Teens
ATTACH;FMTTYPE=image/jpeg:https://www.dubcolib.org/wp-content/uploads/2025/04/Summer-2025-9.jpg
ORGANIZER;CN="Teen & Adult Programming Librarian":MAILTO:jennm@dubcolib.org
END:VEVENT
END:VCALENDAR