BEGIN:VCALENDAR
VERSION:2.0
PRODID:-//Dubuque County Library District - ECPv6.15.20//NONSGML v1.0//EN
CALSCALE:GREGORIAN
METHOD:PUBLISH
X-ORIGINAL-URL:https://www.dubcolib.org
X-WR-CALDESC:Events for Dubuque County Library District
REFRESH-INTERVAL;VALUE=DURATION:PT1H
X-Robots-Tag:noindex
X-PUBLISHED-TTL:PT1H
BEGIN:VTIMEZONE
TZID:America/Chicago
BEGIN:DAYLIGHT
TZOFFSETFROM:-0600
TZOFFSETTO:-0500
TZNAME:CDT
DTSTART:20250309T080000
END:DAYLIGHT
BEGIN:STANDARD
TZOFFSETFROM:-0500
TZOFFSETTO:-0600
TZNAME:CST
DTSTART:20251102T070000
END:STANDARD
BEGIN:DAYLIGHT
TZOFFSETFROM:-0600
TZOFFSETTO:-0500
TZNAME:CDT
DTSTART:20260308T080000
END:DAYLIGHT
BEGIN:STANDARD
TZOFFSETFROM:-0500
TZOFFSETTO:-0600
TZNAME:CST
DTSTART:20261101T070000
END:STANDARD
BEGIN:DAYLIGHT
TZOFFSETFROM:-0600
TZOFFSETTO:-0500
TZNAME:CDT
DTSTART:20270314T080000
END:DAYLIGHT
BEGIN:STANDARD
TZOFFSETFROM:-0500
TZOFFSETTO:-0600
TZNAME:CST
DTSTART:20271107T070000
END:STANDARD
END:VTIMEZONE
BEGIN:VEVENT
DTSTART;TZID=America/Chicago:20260324T183000
DTEND;TZID=America/Chicago:20260324T193000
DTSTAMP:20260420T120122
CREATED:20260211T173805Z
LAST-MODIFIED:20260211T174012Z
UID:10005384-1774377000-1774380600@www.dubcolib.org
SUMMARY:Diane Wilson Author Event Dubuque County Reads
DESCRIPTION:Join 𝐃𝐮𝐛𝐮𝐪𝐮𝐞 𝐂𝐨𝐮𝐧𝐭𝐲 𝐑𝐞𝐚𝐝𝐬 to meet acclaimed author Diane Wilson for an inspiring keynote on her novel 𝐓𝐡𝐞 𝐒𝐞𝐞𝐝 𝐊𝐞𝐞𝐩𝐞𝐫. Wilson will share stories of Indigenous resilience\, ecological stewardship\, and the sacredness of seeds. A Q&A and book signing will follow.\n\n“𝐴 ℎ𝑎𝑢𝑛𝑡𝑖𝑛𝑔 𝑛𝑜𝑣𝑒𝑙 𝑠𝑝𝑎𝑛𝑛𝑖𝑛𝑔 𝑠𝑒𝑣𝑒𝑟𝑎𝑙 𝑔𝑒𝑛𝑒𝑟𝑎𝑡𝑖𝑜𝑛𝑠\, 𝐓𝐡𝐞 𝐒𝐞𝐞𝐝 𝐊𝐞𝐞𝐩𝐞𝐫 𝑓𝑜𝑙𝑙𝑜𝑤𝑠 𝑎 𝐷𝑎𝑘ℎ𝑜́𝑡𝑎 𝑓𝑎𝑚𝑖𝑙𝑦’𝑠 𝑠𝑡𝑟𝑢𝑔𝑔𝑙𝑒 𝑡𝑜 𝑝𝑟𝑒𝑠𝑒𝑟𝑣𝑒 𝑡ℎ𝑒𝑖𝑟 𝑤𝑎𝑦 𝑜𝑓 𝑙𝑖𝑓𝑒\, 𝑎𝑛𝑑 𝑡ℎ𝑒𝑖𝑟 𝑠𝑎𝑐𝑟𝑖𝑓𝑖𝑐𝑒𝑠 𝑡𝑜 𝑝𝑟𝑜𝑡𝑒𝑐𝑡 𝑤ℎ𝑎𝑡 𝑚𝑎𝑡𝑡𝑒𝑟𝑠 𝑚𝑜𝑠𝑡.”\n\nIn its fourth year\, Dubuque County Reads promotes literacy\, fosters civic engagement\, and encourages respectful dialogue through book discussions\, storytimes\, and special events. The 2026 theme explores ecological sustainability\, Indigenous identity\, food systems\, and cultural heritage. Copies of 𝐓𝐡𝐞 𝐒𝐞𝐞𝐝 𝐊𝐞𝐞𝐩𝐞𝐫 will be available at participating libraries while supplies last.\n\nFor more information on this event\, and to learn more about Dubuque County Reads visit: www.DBQREADS.org.
URL:https://www.dubcolib.org/event/dianewilson/
LOCATION:Off-Site: Steeple Square\, 101 E 15th St\, Dubuque\, IA\, United States
CATEGORIES:Adults
ATTACH;FMTTYPE=image/jpeg:https://www.dubcolib.org/wp-content/uploads/2026/02/Panel-Cover.jpg
ORGANIZER;CN="Community Engagement Librarian":MAILTO:LydiaS@dubcolib.org
END:VEVENT
END:VCALENDAR