BEGIN:VCALENDAR
VERSION:2.0
PRODID:-//Dubuque County Library District - ECPv6.15.20//NONSGML v1.0//EN
CALSCALE:GREGORIAN
METHOD:PUBLISH
X-ORIGINAL-URL:https://www.dubcolib.org
X-WR-CALDESC:Events for Dubuque County Library District
REFRESH-INTERVAL;VALUE=DURATION:PT1H
X-Robots-Tag:noindex
X-PUBLISHED-TTL:PT1H
BEGIN:VTIMEZONE
TZID:America/Chicago
BEGIN:DAYLIGHT
TZOFFSETFROM:-0600
TZOFFSETTO:-0500
TZNAME:CDT
DTSTART:20230312T080000
END:DAYLIGHT
BEGIN:STANDARD
TZOFFSETFROM:-0500
TZOFFSETTO:-0600
TZNAME:CST
DTSTART:20231105T070000
END:STANDARD
BEGIN:DAYLIGHT
TZOFFSETFROM:-0600
TZOFFSETTO:-0500
TZNAME:CDT
DTSTART:20240310T080000
END:DAYLIGHT
BEGIN:STANDARD
TZOFFSETFROM:-0500
TZOFFSETTO:-0600
TZNAME:CST
DTSTART:20241103T070000
END:STANDARD
BEGIN:DAYLIGHT
TZOFFSETFROM:-0600
TZOFFSETTO:-0500
TZNAME:CDT
DTSTART:20250309T080000
END:DAYLIGHT
BEGIN:STANDARD
TZOFFSETFROM:-0500
TZOFFSETTO:-0600
TZNAME:CST
DTSTART:20251102T070000
END:STANDARD
END:VTIMEZONE
BEGIN:VEVENT
DTSTART;TZID=America/Chicago:20240722T103000
DTEND;TZID=America/Chicago:20240722T110000
DTSTAMP:20260422T182733
CREATED:20240503T190128Z
LAST-MODIFIED:20240503T221737Z
UID:10002101-1721644200-1721646000@www.dubcolib.org
SUMMARY:Read! Have fun! Repeat!
DESCRIPTION:An exciting mixture of books\, songs\, juggling\, music\, dance\, messy art\, fingerplay\, scavenger hunts\, large motor activities and more books! Programs are designed for children 2.5 – 5\, but younger and older siblings or friends are welcome and encouraged.
URL:https://www.dubcolib.org/event/__trashed-77/2024-07-22/
LOCATION:Epworth Branch\, 110 Bierman Road\, Epworth\, Iowa\, 52045
CATEGORIES:Preschoolers
ATTACH;FMTTYPE=image/jpeg:https://www.dubcolib.org/wp-content/uploads/2024/05/Website-Resolution-20.jpg
ORGANIZER;CN="Teresa Jack":MAILTO:teresaj@dubcolib.org
END:VEVENT
BEGIN:VEVENT
DTSTART;TZID=America/Chicago:20240722T130000
DTEND;TZID=America/Chicago:20240722T140000
DTSTAMP:20260422T182733
CREATED:20240513T170527Z
LAST-MODIFIED:20240513T170527Z
UID:10002717-1721653200-1721656800@www.dubcolib.org
SUMMARY:Board Game Party
DESCRIPTION:Explore our collection of board games with friends\, or bring your favorite from home!
URL:https://www.dubcolib.org/event/board-game-party-4/
LOCATION:Farley Branch\, 206 1st Street North\, Farley\, IA\, 52046
CATEGORIES:All Ages
ATTACH;FMTTYPE=image/jpeg:https://www.dubcolib.org/wp-content/uploads/2024/05/Website-Resolution-41.jpg
ORGANIZER;CN="John Bogdal":MAILTO:JohnB@dubcolib.org
END:VEVENT
BEGIN:VEVENT
DTSTART;TZID=America/Chicago:20240722T180000
DTEND;TZID=America/Chicago:20240722T190000
DTSTAMP:20260422T182733
CREATED:20240506T195145Z
LAST-MODIFIED:20240506T195226Z
UID:10002658-1721671200-1721674800@www.dubcolib.org
SUMMARY:Adult Craft Club
DESCRIPTION:Join us for this monthly crafting program. RSVP recommended\, drop-ins welcome. July is candle holders. Designed for adults but teens welcome.
URL:https://www.dubcolib.org/event/adult-craft-club-6/
LOCATION:Asbury Branch\, 5290 Grand Meadow Drive\, Asbury\, Iowa\, 52002
CATEGORIES:Adults
ORGANIZER;CN="John Bogdal":MAILTO:JohnB@dubcolib.org
END:VEVENT
BEGIN:VEVENT
DTSTART;TZID=America/Chicago:20240723T090000
DTEND;TZID=America/Chicago:20240723T093000
DTSTAMP:20260422T182733
CREATED:20240503T190129Z
LAST-MODIFIED:20240711T215334Z
UID:10002449-1721725200-1721727000@www.dubcolib.org
SUMMARY:Baby & Toddler Storytime
DESCRIPTION:Songs\, stories and time for playing with friends! For children 0-24 month and their older siblings.
URL:https://www.dubcolib.org/event/__trashed-78/2024-07-23/
LOCATION:Peosta Branch\, 8342 NICC Drive\, Peosta\, Iowa\, 52068
CATEGORIES:Babies & Toddlers
ATTACH;FMTTYPE=image/jpeg:https://www.dubcolib.org/wp-content/uploads/2024/05/Website-Resolution-21.jpg
ORGANIZER;CN="Teresa Jack":MAILTO:teresaj@dubcolib.org
END:VEVENT
BEGIN:VEVENT
DTSTART;TZID=America/Chicago:20240723T100000
DTEND;TZID=America/Chicago:20240723T103000
DTSTAMP:20260422T182733
CREATED:20240503T190129Z
LAST-MODIFIED:20240723T221451Z
UID:10002213-1721728800-1721730600@www.dubcolib.org
SUMMARY:Read! Have fun! Repeat!
DESCRIPTION:An exciting mixture of books\, songs\, juggling\, music\, dance\, messy art\, fingerplay\, scavenger hunts\, and large motor activities ! Programs are designed for children 2.5 – 5\, but younger and older siblings or friends are welcome and encouraged.
URL:https://www.dubcolib.org/event/__trashed-82/2024-07-23/
LOCATION:Farley Branch\, 206 1st Street North\, Farley\, IA\, 52046
CATEGORIES:Preschoolers
ATTACH;FMTTYPE=image/jpeg:https://www.dubcolib.org/wp-content/uploads/2024/05/Website-Resolution-20.jpg
ORGANIZER;CN="Teresa Jack":MAILTO:teresaj@dubcolib.org
END:VEVENT
BEGIN:VEVENT
DTSTART;TZID=America/Chicago:20240723T163000
DTEND;TZID=America/Chicago:20240723T173000
DTSTAMP:20260422T182733
CREATED:20240513T170600Z
LAST-MODIFIED:20240621T190434Z
UID:10002718-1721752200-1721755800@www.dubcolib.org
SUMMARY:Board Game Party
DESCRIPTION:Explore our collection of board games with friends\, or bring your favorite from home!
URL:https://www.dubcolib.org/event/board-game-party-5/
LOCATION:Peosta Branch\, 8342 NICC Drive\, Peosta\, Iowa\, 52068
CATEGORIES:All Ages
ATTACH;FMTTYPE=image/jpeg:https://www.dubcolib.org/wp-content/uploads/2024/05/Website-Resolution-41.jpg
ORGANIZER;CN="John Bogdal":MAILTO:JohnB@dubcolib.org
END:VEVENT
BEGIN:VEVENT
DTSTART;TZID=America/Chicago:20240723T180000
DTEND;TZID=America/Chicago:20240723T190000
DTSTAMP:20260422T182733
CREATED:20240506T195300Z
LAST-MODIFIED:20240506T195300Z
UID:10002659-1721757600-1721761200@www.dubcolib.org
SUMMARY:Adult Craft Club
DESCRIPTION:Join us for this monthly crafting program. RSVP recommended\, drop-ins welcome. July is candle holders. Designed for adults but teens welcome.
URL:https://www.dubcolib.org/event/adult-craft-club-7/
LOCATION:Peosta Branch\, 8342 NICC Drive\, Peosta\, Iowa\, 52068
CATEGORIES:Adults
ORGANIZER;CN="John Bogdal":MAILTO:JohnB@dubcolib.org
END:VEVENT
BEGIN:VEVENT
DTSTART;TZID=America/Chicago:20240724T090000
DTEND;TZID=America/Chicago:20240724T093000
DTSTAMP:20260422T182733
CREATED:20240503T210358Z
LAST-MODIFIED:20240711T215354Z
UID:10002570-1721811600-1721813400@www.dubcolib.org
SUMMARY:Baby & Toddler Storytime
DESCRIPTION:Songs\, stories and time for playing with friends! For children 0-24 month and their older siblings.
URL:https://www.dubcolib.org/event/baby-toddler-storytime-11/2024-07-24/
LOCATION:Asbury Branch\, 5290 Grand Meadow Drive\, Asbury\, Iowa\, 52002
CATEGORIES:Babies & Toddlers
ATTACH;FMTTYPE=image/jpeg:https://www.dubcolib.org/wp-content/uploads/2024/05/Website-Resolution-21.jpg
ORGANIZER;CN="Teresa Jack":MAILTO:teresaj@dubcolib.org
END:VEVENT
BEGIN:VEVENT
DTSTART;TZID=America/Chicago:20240724T100000
DTEND;TZID=America/Chicago:20240724T110000
DTSTAMP:20260422T182733
CREATED:20240503T222428Z
LAST-MODIFIED:20240608T203900Z
UID:10002634-1721815200-1721818800@www.dubcolib.org
SUMMARY:Built It/Break It: Structures and Forces
DESCRIPTION:Build a tower and then break it! Test your structure for strength using gravity loads\, wind loads\, and seismic loads! For kids 7-11 and a caregiver. RSVP Required.
URL:https://www.dubcolib.org/event/built-it-break-it-structures-and-forces/
LOCATION:Asbury Branch\, 5290 Grand Meadow Drive\, Asbury\, Iowa\, 52002
CATEGORIES:Kids
ATTACH;FMTTYPE=image/jpeg:https://www.dubcolib.org/wp-content/uploads/2024/05/Website-Resolution-47.jpg
ORGANIZER;CN="Teresa Jack":MAILTO:teresaj@dubcolib.org
END:VEVENT
BEGIN:VEVENT
DTSTART;TZID=America/Chicago:20240724T110000
DTEND;TZID=America/Chicago:20240724T120000
DTSTAMP:20260422T182733
CREATED:20240503T190917Z
LAST-MODIFIED:20240708T205639Z
UID:10001975-1721818800-1721822400@www.dubcolib.org
SUMMARY:Summer Adventures
DESCRIPTION:Stop by every week for snacks\, crafts\, games and more for kids in 1st – 5th grade. Please RSVP HERE
URL:https://www.dubcolib.org/event/summer-adventures-4/2024-07-24/
LOCATION:Epworth Branch\, 110 Bierman Road\, Epworth\, Iowa\, 52045
CATEGORIES:Kids
ATTACH;FMTTYPE=image/jpeg:https://www.dubcolib.org/wp-content/uploads/2024/05/Website-Resolution-19.jpg
ORGANIZER;CN="Teresa Jack":MAILTO:teresaj@dubcolib.org
END:VEVENT
BEGIN:VEVENT
DTSTART;TZID=America/Chicago:20240724T130000
DTEND;TZID=America/Chicago:20240724T140000
DTSTAMP:20260422T182733
CREATED:20240513T170458Z
LAST-MODIFIED:20240513T170458Z
UID:10002716-1721826000-1721829600@www.dubcolib.org
SUMMARY:Board Game Party
DESCRIPTION:Explore our collection of board games with friends\, or bring your favorite from home!
URL:https://www.dubcolib.org/event/board-game-party-3/
LOCATION:Holy Cross Branch\, 895 Main Street\, Holy Cross\, Iowa\, 52053
CATEGORIES:All Ages
ATTACH;FMTTYPE=image/jpeg:https://www.dubcolib.org/wp-content/uploads/2024/05/Website-Resolution-41.jpg
ORGANIZER;CN="John Bogdal":MAILTO:JohnB@dubcolib.org
END:VEVENT
BEGIN:VEVENT
DTSTART;TZID=America/Chicago:20240724T140000
DTEND;TZID=America/Chicago:20240724T150000
DTSTAMP:20260422T182733
CREATED:20240503T185637Z
LAST-MODIFIED:20240708T205630Z
UID:10001797-1721829600-1721833200@www.dubcolib.org
SUMMARY:Summer Adventures
DESCRIPTION:Stop by every week for snacks\, crafts\, games and more for kids in 1st – 5th grade. Please RSVP HERE
URL:https://www.dubcolib.org/event/summer-adventures/2024-07-24/
LOCATION:Asbury Branch\, 5290 Grand Meadow Drive\, Asbury\, Iowa\, 52002
CATEGORIES:Kids
ATTACH;FMTTYPE=image/jpeg:https://www.dubcolib.org/wp-content/uploads/2024/05/Website-Resolution-19.jpg
ORGANIZER;CN="Teresa Jack":MAILTO:teresaj@dubcolib.org
END:VEVENT
BEGIN:VEVENT
DTSTART;TZID=America/Chicago:20240724T180000
DTEND;TZID=America/Chicago:20240724T190000
DTSTAMP:20260422T182733
CREATED:20240504T220456Z
LAST-MODIFIED:20240504T220456Z
UID:10002660-1721844000-1721847600@www.dubcolib.org
SUMMARY:Trivia Night
DESCRIPTION:Test your knowledge and join us for a thrilling Trivia Night at the library! Gather your friends\, sharpen your wits\, and compete for prizes while enjoying an evening of brain-teasing fun.
URL:https://www.dubcolib.org/event/trivia-night-4/
LOCATION:Epworth Branch\, 110 Bierman Road\, Epworth\, Iowa\, 52045
CATEGORIES:Adults,All Ages
ATTACH;FMTTYPE=image/png:https://www.dubcolib.org/wp-content/uploads/2024/05/Website-Resolution-31.png
ORGANIZER;CN="John Bogdal":MAILTO:JohnB@dubcolib.org
END:VEVENT
BEGIN:VEVENT
DTSTART;TZID=America/Chicago:20240725T130000
DTEND;TZID=America/Chicago:20240725T140000
DTSTAMP:20260422T182733
CREATED:20240503T190003Z
LAST-MODIFIED:20240513T193148Z
UID:10002709-1721912400-1721916000@www.dubcolib.org
SUMMARY:Summer Adventures
DESCRIPTION:Stop by every week for snacks\, crafts\, games and more for kids in 1st – 5th grade. Please RSVP HERE
URL:https://www.dubcolib.org/event/summer-adventures-2/2024-07-25/
LOCATION:Peosta Branch\, 8342 NICC Drive\, Peosta\, Iowa\, 52068
CATEGORIES:Kids
ATTACH;FMTTYPE=image/jpeg:https://www.dubcolib.org/wp-content/uploads/2024/05/Website-Resolution-19.jpg
ORGANIZER;CN="Teresa Jack":MAILTO:teresaj@dubcolib.org
END:VEVENT
BEGIN:VEVENT
DTSTART;TZID=America/Chicago:20240725T143000
DTEND;TZID=America/Chicago:20240725T153000
DTSTAMP:20260422T182733
CREATED:20240503T190715Z
LAST-MODIFIED:20240513T182157Z
UID:10002701-1721917800-1721921400@www.dubcolib.org
SUMMARY:Summer Adventures
DESCRIPTION:Stop by every week for snacks\, crafts\, games and more for kids in 1st – 5th grade. Please RSVP HERE
URL:https://www.dubcolib.org/event/summer-adventures-3/2024-07-25/
LOCATION:Farley Branch\, 206 1st Street North\, Farley\, IA\, 52046
CATEGORIES:Kids
ATTACH;FMTTYPE=image/jpeg:https://www.dubcolib.org/wp-content/uploads/2024/05/Website-Resolution-19.jpg
ORGANIZER;CN="Teresa Jack":MAILTO:teresaj@dubcolib.org
END:VEVENT
BEGIN:VEVENT
DTSTART;TZID=America/Chicago:20240725T160000
DTEND;TZID=America/Chicago:20240725T170000
DTSTAMP:20260422T182733
CREATED:20240503T191003Z
LAST-MODIFIED:20240513T182134Z
UID:10002693-1721923200-1721926800@www.dubcolib.org
SUMMARY:Summer Adventures
DESCRIPTION:Stop by every week for snacks\, crafts\, games and more for kids in 1st – 5th grade. Please RSVP HERE
URL:https://www.dubcolib.org/event/summer-adventures-5/2024-07-25/
LOCATION:Holy Cross Branch\, 895 Main Street\, Holy Cross\, Iowa\, 52053
CATEGORIES:Kids
ATTACH;FMTTYPE=image/jpeg:https://www.dubcolib.org/wp-content/uploads/2024/05/Website-Resolution-19.jpg
ORGANIZER;CN="Teresa Jack":MAILTO:teresaj@dubcolib.org
END:VEVENT
BEGIN:VEVENT
DTSTART;TZID=America/Chicago:20240725T163000
DTEND;TZID=America/Chicago:20240725T173000
DTSTAMP:20260422T182733
CREATED:20240504T204239Z
LAST-MODIFIED:20240621T182444Z
UID:10002661-1721925000-1721928600@www.dubcolib.org
SUMMARY:Ukulele Jam
DESCRIPTION:Strum into summer with our beginner ukulele program at the library! Join us for fun-filled workshops where you’ll learn to play catchy tunes. No prior experience required – just bring your enthusiasm and your ukulele\, or borrow one of ours! RSVP required.
URL:https://www.dubcolib.org/event/ukulele-jam-2/
LOCATION:Farley Branch\, 206 1st Street North\, Farley\, IA\, 52046
CATEGORIES:Teens
ATTACH;FMTTYPE=image/jpeg:https://www.dubcolib.org/wp-content/uploads/2024/05/Website-Resolution-30.jpg
ORGANIZER;CN="John Bogdal":MAILTO:JohnB@dubcolib.org
END:VEVENT
BEGIN:VEVENT
DTSTART;TZID=America/Chicago:20240726T160000
DTEND;TZID=America/Chicago:20240726T170000
DTSTAMP:20260422T182733
CREATED:20240504T204137Z
LAST-MODIFIED:20240726T160612Z
UID:10002662-1722009600-1722013200@www.dubcolib.org
SUMMARY:Ukulele Jam
DESCRIPTION:Strum into summer with our beginner ukulele program at the library! Join us for fun-filled workshops where you’ll learn to play catchy tunes. No prior experience required – just bring your enthusiasm and your ukulele\, or borrow one of ours! RSVP required.
URL:https://www.dubcolib.org/event/ukulele-jam/
LOCATION:Epworth Branch\, 110 Bierman Road\, Epworth\, Iowa\, 52045
CATEGORIES:Teens
ATTACH;FMTTYPE=image/jpeg:https://www.dubcolib.org/wp-content/uploads/2024/05/Website-Resolution-30.jpg
ORGANIZER;CN="John Bogdal":MAILTO:JohnB@dubcolib.org
END:VEVENT
BEGIN:VEVENT
DTSTART;TZID=America/Chicago:20240729T103000
DTEND;TZID=America/Chicago:20240729T110000
DTSTAMP:20260422T182733
CREATED:20240503T190128Z
LAST-MODIFIED:20240503T221737Z
UID:10002102-1722249000-1722250800@www.dubcolib.org
SUMMARY:Read! Have fun! Repeat!
DESCRIPTION:An exciting mixture of books\, songs\, juggling\, music\, dance\, messy art\, fingerplay\, scavenger hunts\, large motor activities and more books! Programs are designed for children 2.5 – 5\, but younger and older siblings or friends are welcome and encouraged.
URL:https://www.dubcolib.org/event/__trashed-77/2024-07-29/
LOCATION:Epworth Branch\, 110 Bierman Road\, Epworth\, Iowa\, 52045
CATEGORIES:Preschoolers
ATTACH;FMTTYPE=image/jpeg:https://www.dubcolib.org/wp-content/uploads/2024/05/Website-Resolution-20.jpg
ORGANIZER;CN="Teresa Jack":MAILTO:teresaj@dubcolib.org
END:VEVENT
BEGIN:VEVENT
DTSTART;TZID=America/Chicago:20240729T163000
DTEND;TZID=America/Chicago:20240729T173000
DTSTAMP:20260422T182733
CREATED:20240504T203600Z
LAST-MODIFIED:20240504T203600Z
UID:10002663-1722270600-1722274200@www.dubcolib.org
SUMMARY:Chess Club
DESCRIPTION:Welcome to the timeless game of chess! Join us for engaging lessons where beginners and seasoned players alike can sharpen their skills and learn winning tactics and strategies.
URL:https://www.dubcolib.org/event/chess-club-9/
LOCATION:Holy Cross Branch\, 895 Main Street\, Holy Cross\, Iowa\, 52053
CATEGORIES:Teens
ATTACH;FMTTYPE=image/png:https://www.dubcolib.org/wp-content/uploads/2024/03/Website-Resolution-3.png
ORGANIZER;CN="John Bogdal":MAILTO:JohnB@dubcolib.org
END:VEVENT
BEGIN:VEVENT
DTSTART;TZID=America/Chicago:20240729T183000
DTEND;TZID=America/Chicago:20240729T193000
DTSTAMP:20260422T182733
CREATED:20240504T220121Z
LAST-MODIFIED:20240718T212458Z
UID:10002653-1722277800-1722281400@www.dubcolib.org
SUMMARY:Trivia Night
DESCRIPTION:Test your knowledge and join us for a thrilling Trivia Night at the library! Gather your friends\, sharpen your wits\, and compete for prizes while enjoying an evening of brain-teasing fun. RSVP Recommended.
URL:https://www.dubcolib.org/event/trivia-night/
LOCATION:Asbury Branch\, 5290 Grand Meadow Drive\, Asbury\, Iowa\, 52002
CATEGORIES:Adults,All Ages
ATTACH;FMTTYPE=image/png:https://www.dubcolib.org/wp-content/uploads/2024/05/Website-Resolution-31.png
ORGANIZER;CN="John Bogdal":MAILTO:JohnB@dubcolib.org
END:VEVENT
BEGIN:VEVENT
DTSTART;TZID=America/Chicago:20240730T090000
DTEND;TZID=America/Chicago:20240730T093000
DTSTAMP:20260422T182733
CREATED:20240503T190129Z
LAST-MODIFIED:20240711T215334Z
UID:10002450-1722330000-1722331800@www.dubcolib.org
SUMMARY:Baby & Toddler Storytime
DESCRIPTION:Songs\, stories and time for playing with friends! For children 0-24 month and their older siblings.
URL:https://www.dubcolib.org/event/__trashed-78/2024-07-30/
LOCATION:Peosta Branch\, 8342 NICC Drive\, Peosta\, Iowa\, 52068
CATEGORIES:Babies & Toddlers
ATTACH;FMTTYPE=image/jpeg:https://www.dubcolib.org/wp-content/uploads/2024/05/Website-Resolution-21.jpg
ORGANIZER;CN="Teresa Jack":MAILTO:teresaj@dubcolib.org
END:VEVENT
BEGIN:VEVENT
DTSTART;TZID=America/Chicago:20240730T100000
DTEND;TZID=America/Chicago:20240730T103000
DTSTAMP:20260422T182733
CREATED:20240503T205432Z
LAST-MODIFIED:20240723T221323Z
UID:10002393-1722333600-1722335400@www.dubcolib.org
SUMMARY:Read! Have fun! Repeat!
DESCRIPTION:An exciting mixture of books\, songs\, juggling\, music\, dance\, messy art\, fingerplay\, scavenger hunts\, large motor activities and more books! Programs are designed for children 2.5 – 5\, but younger and older siblings or friends are welcome and encouraged.
URL:https://www.dubcolib.org/event/read-have-fun-repeat-2/2024-07-30/
LOCATION:Holy Cross Branch\, 895 Main Street\, Holy Cross\, Iowa\, 52053
CATEGORIES:Preschoolers
ATTACH;FMTTYPE=image/jpeg:https://www.dubcolib.org/wp-content/uploads/2024/05/Website-Resolution-20.jpg
ORGANIZER;CN="Teresa Jack":MAILTO:teresaj@dubcolib.org
END:VEVENT
BEGIN:VEVENT
DTSTART;TZID=America/Chicago:20240730T163000
DTEND;TZID=America/Chicago:20240730T173000
DTSTAMP:20260422T182733
CREATED:20240504T203710Z
LAST-MODIFIED:20240504T203935Z
UID:10002664-1722357000-1722360600@www.dubcolib.org
SUMMARY:Chess Club
DESCRIPTION:Welcome to the timeless game of chess! Join us for engaging lessons where beginners and seasoned players alike can sharpen their skills and learn winning tactics and strategies.
URL:https://www.dubcolib.org/event/chess-club-10/
LOCATION:Peosta Branch\, 8342 NICC Drive\, Peosta\, Iowa\, 52068
CATEGORIES:Teens
ATTACH;FMTTYPE=image/png:https://www.dubcolib.org/wp-content/uploads/2024/03/Website-Resolution-3.png
ORGANIZER;CN="John Bogdal":MAILTO:JohnB@dubcolib.org
END:VEVENT
BEGIN:VEVENT
DTSTART;TZID=America/Chicago:20240731T090000
DTEND;TZID=America/Chicago:20240731T093000
DTSTAMP:20260422T182733
CREATED:20240503T210358Z
LAST-MODIFIED:20240711T215354Z
UID:10002571-1722416400-1722418200@www.dubcolib.org
SUMMARY:Baby & Toddler Storytime
DESCRIPTION:Songs\, stories and time for playing with friends! For children 0-24 month and their older siblings.
URL:https://www.dubcolib.org/event/baby-toddler-storytime-11/2024-07-31/
LOCATION:Asbury Branch\, 5290 Grand Meadow Drive\, Asbury\, Iowa\, 52002
CATEGORIES:Babies & Toddlers
ATTACH;FMTTYPE=image/jpeg:https://www.dubcolib.org/wp-content/uploads/2024/05/Website-Resolution-21.jpg
ORGANIZER;CN="Teresa Jack":MAILTO:teresaj@dubcolib.org
END:VEVENT
BEGIN:VEVENT
DTSTART;TZID=America/Chicago:20240731T100000
DTEND;TZID=America/Chicago:20240731T103000
DTSTAMP:20260422T182733
CREATED:20240513T204309Z
LAST-MODIFIED:20240513T204310Z
UID:10002279-1722420000-1722421800@www.dubcolib.org
SUMMARY:Juggle & Jump: Read! Have fun! Repeat!
DESCRIPTION:An exciting mixture of books\, songs\, juggling\, music\, dance\, messy art\, fingerplay\, scavenger hunts\, large motor activities and more books! Programs are designed for children 2.5 – 5\, but younger and older siblings or friends are welcome and encouraged.
URL:https://www.dubcolib.org/event/read-have-fun-repeat-6/
LOCATION:Asbury Branch\, 5290 Grand Meadow Drive\, Asbury\, Iowa\, 52002
CATEGORIES:Preschoolers
ATTACH;FMTTYPE=image/jpeg:https://www.dubcolib.org/wp-content/uploads/2024/05/Website-Resolution-20.jpg
ORGANIZER;CN="Teresa Jack":MAILTO:teresaj@dubcolib.org
END:VEVENT
BEGIN:VEVENT
DTSTART;TZID=America/Chicago:20240731T110000
DTEND;TZID=America/Chicago:20240731T120000
DTSTAMP:20260422T182733
CREATED:20240503T190917Z
LAST-MODIFIED:20240708T205639Z
UID:10001976-1722423600-1722427200@www.dubcolib.org
SUMMARY:Summer Adventures
DESCRIPTION:Stop by every week for snacks\, crafts\, games and more for kids in 1st – 5th grade. Please RSVP HERE
URL:https://www.dubcolib.org/event/summer-adventures-4/2024-07-31/
LOCATION:Epworth Branch\, 110 Bierman Road\, Epworth\, Iowa\, 52045
CATEGORIES:Kids
ATTACH;FMTTYPE=image/jpeg:https://www.dubcolib.org/wp-content/uploads/2024/05/Website-Resolution-19.jpg
ORGANIZER;CN="Teresa Jack":MAILTO:teresaj@dubcolib.org
END:VEVENT
BEGIN:VEVENT
DTSTART;TZID=America/Chicago:20240731T140000
DTEND;TZID=America/Chicago:20240731T150000
DTSTAMP:20260422T182733
CREATED:20240503T185637Z
LAST-MODIFIED:20240708T205630Z
UID:10001798-1722434400-1722438000@www.dubcolib.org
SUMMARY:Summer Adventures
DESCRIPTION:Stop by every week for snacks\, crafts\, games and more for kids in 1st – 5th grade. Please RSVP HERE
URL:https://www.dubcolib.org/event/summer-adventures/2024-07-31/
LOCATION:Asbury Branch\, 5290 Grand Meadow Drive\, Asbury\, Iowa\, 52002
CATEGORIES:Kids
ATTACH;FMTTYPE=image/jpeg:https://www.dubcolib.org/wp-content/uploads/2024/05/Website-Resolution-19.jpg
ORGANIZER;CN="Teresa Jack":MAILTO:teresaj@dubcolib.org
END:VEVENT
BEGIN:VEVENT
DTSTART;TZID=America/Chicago:20240801T130000
DTEND;TZID=America/Chicago:20240801T140000
DTSTAMP:20260422T182733
CREATED:20240513T172134Z
LAST-MODIFIED:20240731T182137Z
UID:10002720-1722517200-1722520800@www.dubcolib.org
SUMMARY:Magic Workshop: Summer Adventures
DESCRIPTION:Learn magic! Bob Beardsley and the Dubuque Magic Club will teach kids card tricks\, slight-of-hand and other magic! RSVP recommended. Sponsored by the Friends of the Dubuque County Library District.
URL:https://www.dubcolib.org/event/magic-workshop-summer-adventures-2/
LOCATION:Peosta Branch\, 8342 NICC Drive\, Peosta\, Iowa\, 52068
CATEGORIES:Kids
ATTACH;FMTTYPE=image/jpeg:https://www.dubcolib.org/wp-content/uploads/2024/05/Website-Resolution-42.jpg
ORGANIZER;CN="Children's Librarian":MAILTO:LydiaS@dubcolib.org
END:VEVENT
BEGIN:VEVENT
DTSTART;TZID=America/Chicago:20240801T143000
DTEND;TZID=America/Chicago:20240801T153000
DTSTAMP:20260422T182733
CREATED:20240513T171859Z
LAST-MODIFIED:20240711T194555Z
UID:10002734-1722522600-1722526200@www.dubcolib.org
SUMMARY:Magic Workshop: Summer Adventures
DESCRIPTION:Learn magic! Bob Beardsley and the Dubuque Magic Club will teach kids card tricks\, slight-of-hand and other magic! RSVP recommended. Sponsored by the Friends of the Dubuque County Library District.
URL:https://www.dubcolib.org/event/magic-workshop-summer-adventures/2024-08-01/
LOCATION:Farley Branch\, 206 1st Street North\, Farley\, IA\, 52046
CATEGORIES:Kids
ATTACH;FMTTYPE=image/jpeg:https://www.dubcolib.org/wp-content/uploads/2024/05/Website-Resolution-42.jpg
ORGANIZER;CN="Children's Librarian":MAILTO:LydiaS@dubcolib.org
END:VEVENT
END:VCALENDAR