BEGIN:VCALENDAR
VERSION:2.0
PRODID:-//Dubuque County Library District - ECPv6.15.20//NONSGML v1.0//EN
CALSCALE:GREGORIAN
METHOD:PUBLISH
X-WR-CALNAME:Dubuque County Library District
X-ORIGINAL-URL:https://www.dubcolib.org
X-WR-CALDESC:Events for Dubuque County Library District
REFRESH-INTERVAL;VALUE=DURATION:PT1H
X-Robots-Tag:noindex
X-PUBLISHED-TTL:PT1H
BEGIN:VTIMEZONE
TZID:America/Chicago
BEGIN:DAYLIGHT
TZOFFSETFROM:-0600
TZOFFSETTO:-0500
TZNAME:CDT
DTSTART:20230312T080000
END:DAYLIGHT
BEGIN:STANDARD
TZOFFSETFROM:-0500
TZOFFSETTO:-0600
TZNAME:CST
DTSTART:20231105T070000
END:STANDARD
BEGIN:DAYLIGHT
TZOFFSETFROM:-0600
TZOFFSETTO:-0500
TZNAME:CDT
DTSTART:20240310T080000
END:DAYLIGHT
BEGIN:STANDARD
TZOFFSETFROM:-0500
TZOFFSETTO:-0600
TZNAME:CST
DTSTART:20241103T070000
END:STANDARD
BEGIN:DAYLIGHT
TZOFFSETFROM:-0600
TZOFFSETTO:-0500
TZNAME:CDT
DTSTART:20250309T080000
END:DAYLIGHT
BEGIN:STANDARD
TZOFFSETFROM:-0500
TZOFFSETTO:-0600
TZNAME:CST
DTSTART:20251102T070000
END:STANDARD
END:VTIMEZONE
BEGIN:VEVENT
DTSTART;TZID=America/Chicago:20240627T130000
DTEND;TZID=America/Chicago:20240627T140000
DTSTAMP:20260423T095319
CREATED:20240513T184604Z
LAST-MODIFIED:20240513T184604Z
UID:10002744-1719493200-1719496800@www.dubcolib.org
SUMMARY:Kids Yoga: Summer Adventures
DESCRIPTION:Join Yoga teacher Lynnea Courtney for Kids Yoga. Stretch your body and build your muscles at the library!
URL:https://www.dubcolib.org/event/kids-yoga-summer-adventures-3/
LOCATION:Peosta Branch\, 8342 NICC Drive\, Peosta\, Iowa\, 52068
CATEGORIES:Kids
ATTACH;FMTTYPE=image/jpeg:https://www.dubcolib.org/wp-content/uploads/2024/05/Website-Resolution-44.jpg
ORGANIZER;CN="Children's Librarian":MAILTO:LydiaS@dubcolib.org
END:VEVENT
BEGIN:VEVENT
DTSTART;TZID=America/Chicago:20240626T180000
DTEND;TZID=America/Chicago:20240626T190000
DTSTAMP:20260423T095319
CREATED:20240504T222613Z
LAST-MODIFIED:20240507T005037Z
UID:10002666-1719424800-1719428400@www.dubcolib.org
SUMMARY:Cybersecurity with Dan Fleming
DESCRIPTION:Learn from cybersecurity expert Daniel Fleming as he shares invaluable insights and practical tips to bolster digital security. Gain essential knowledge to safeguard your online presence and navigate the digital landscape with confidence.
URL:https://www.dubcolib.org/event/cybersecurity-w-dan-fleming-2/
LOCATION:Asbury Branch\, 5290 Grand Meadow Drive\, Asbury\, Iowa\, 52002
CATEGORIES:Adults
ATTACH;FMTTYPE=image/jpeg:https://www.dubcolib.org/wp-content/uploads/2024/05/Website-Resolution-37.jpg
ORGANIZER;CN="John Bogdal":MAILTO:JohnB@dubcolib.org
END:VEVENT
BEGIN:VEVENT
DTSTART;TZID=America/Chicago:20240626T163000
DTEND;TZID=America/Chicago:20240626T173000
DTSTAMP:20260423T095319
CREATED:20240503T190157Z
LAST-MODIFIED:20240504T231536Z
UID:10001780-1719419400-1719423000@www.dubcolib.org
SUMMARY:Chess Club
DESCRIPTION:Welcome to the timeless game of chess! Join us for engaging lessons where beginners and seasoned players alike can sharpen their skills and learn winning tactics and strategies.
URL:https://www.dubcolib.org/event/__trashed-112/
LOCATION:Asbury Branch\, 5290 Grand Meadow Drive\, Asbury\, Iowa\, 52002
CATEGORIES:All Ages
ATTACH;FMTTYPE=image/png:https://www.dubcolib.org/wp-content/uploads/2024/03/Website-Resolution-3.png
ORGANIZER;CN="John Bogdal":MAILTO:JohnB@dubcolib.org
END:VEVENT
BEGIN:VEVENT
DTSTART;TZID=America/Chicago:20240626T140000
DTEND;TZID=America/Chicago:20240626T150000
DTSTAMP:20260423T095319
CREATED:20240513T184113Z
LAST-MODIFIED:20240513T192936Z
UID:10002742-1719410400-1719414000@www.dubcolib.org
SUMMARY:Kids Yoga: Summer Adventures
DESCRIPTION:Join Yoga teacher Lynnea Courtney for Kids Yoga. Stretch your body and build your muscles at the library!
URL:https://www.dubcolib.org/event/kids-yoga-summer-adventures/
LOCATION:Asbury Branch\, 5290 Grand Meadow Drive\, Asbury\, Iowa\, 52002
CATEGORIES:Kids
ATTACH;FMTTYPE=image/jpeg:https://www.dubcolib.org/wp-content/uploads/2024/05/Website-Resolution-44.jpg
ORGANIZER;CN="Children's Librarian":MAILTO:LydiaS@dubcolib.org
END:VEVENT
BEGIN:VEVENT
DTSTART;TZID=America/Chicago:20240626T110000
DTEND;TZID=America/Chicago:20240626T120000
DTSTAMP:20260423T095319
CREATED:20240513T184145Z
LAST-MODIFIED:20240513T184145Z
UID:10002743-1719399600-1719403200@www.dubcolib.org
SUMMARY:Kids Yoga: Summer Adventures
DESCRIPTION:Join Yoga teacher Lynnea Courtney for Kids Yoga. Stretch your body and build your muscles at the library!
URL:https://www.dubcolib.org/event/kids-yoga-summer-adventures-2/
LOCATION:Epworth Branch\, 110 Bierman Road\, Epworth\, Iowa\, 52045
CATEGORIES:Kids
ATTACH;FMTTYPE=image/jpeg:https://www.dubcolib.org/wp-content/uploads/2024/05/Website-Resolution-44.jpg
ORGANIZER;CN="Children's Librarian":MAILTO:LydiaS@dubcolib.org
END:VEVENT
BEGIN:VEVENT
DTSTART;TZID=America/Chicago:20240626T100000
DTEND;TZID=America/Chicago:20240626T103000
DTSTAMP:20260423T095319
CREATED:20240503T204609Z
LAST-MODIFIED:20240513T205048Z
UID:10002276-1719396000-1719397800@www.dubcolib.org
SUMMARY:Read! Have fun! Repeat!
DESCRIPTION:An exciting mixture of books\, songs\, juggling\, music\, dance\, messy art\, fingerplay\, scavenger hunts\, large motor activities and more books! Programs are designed for children 2.5 – 5\, but younger and older siblings or friends are welcome and encouraged.
URL:https://www.dubcolib.org/event/read-have-fun-repeat/2024-06-26/
LOCATION:Asbury Branch\, 5290 Grand Meadow Drive\, Asbury\, Iowa\, 52002
CATEGORIES:Preschoolers
ATTACH;FMTTYPE=image/jpeg:https://www.dubcolib.org/wp-content/uploads/2024/05/Website-Resolution-20.jpg
ORGANIZER;CN="Teresa Jack":MAILTO:teresaj@dubcolib.org
END:VEVENT
BEGIN:VEVENT
DTSTART;TZID=America/Chicago:20240626T093000
DTEND;TZID=America/Chicago:20240626T100000
DTSTAMP:20260423T095319
CREATED:20240503T215727Z
LAST-MODIFIED:20240503T215727Z
UID:10002631-1719394200-1719396000@www.dubcolib.org
SUMMARY:Wiggle & Dance
DESCRIPTION:Let’s have fun with music\, scarves\, ribbons\, balloons and bubbles!  Designed for children aged 18 months – 5 years\, but all ages are welcome
URL:https://www.dubcolib.org/event/wiggle-dance/
LOCATION:Asbury Branch\, 5290 Grand Meadow Drive\, Asbury\, Iowa\, 52002
CATEGORIES:Preschoolers
ATTACH;FMTTYPE=image/jpeg:https://www.dubcolib.org/wp-content/uploads/2024/05/Website-Resolution-23.jpg
ORGANIZER;CN="Teresa Jack":MAILTO:teresaj@dubcolib.org
END:VEVENT
BEGIN:VEVENT
DTSTART;TZID=America/Chicago:20240625T173000
DTEND;TZID=America/Chicago:20240625T183000
DTSTAMP:20260423T095319
CREATED:20240503T190157Z
LAST-MODIFIED:20240504T231959Z
UID:10001779-1719336600-1719340200@www.dubcolib.org
SUMMARY:Zen and the Art of Doodling
DESCRIPTION:Unwind and find your inner calm with Zen and the Art of Doodling\, where we combine the soothing practice of meditation with the creativity of doodling. Join us to learn simple relaxation techniques and explore the art of mindfulness through expressive drawing.
URL:https://www.dubcolib.org/event/__trashed-111/
LOCATION:Epworth Branch\, 110 Bierman Road\, Epworth\, Iowa\, 52045
CATEGORIES:Adults
ATTACH;FMTTYPE=image/jpeg:https://www.dubcolib.org/wp-content/uploads/2024/05/Website-Resolution-39.jpg
ORGANIZER;CN="John Bogdal":MAILTO:JohnB@dubcolib.org
END:VEVENT
BEGIN:VEVENT
DTSTART;TZID=America/Chicago:20240625T100000
DTEND;TZID=America/Chicago:20240625T103000
DTSTAMP:20260423T095319
CREATED:20240503T190129Z
LAST-MODIFIED:20240723T221451Z
UID:10002211-1719309600-1719311400@www.dubcolib.org
SUMMARY:Read! Have fun! Repeat!
DESCRIPTION:An exciting mixture of books\, songs\, juggling\, music\, dance\, messy art\, fingerplay\, scavenger hunts\, and large motor activities ! Programs are designed for children 2.5 – 5\, but younger and older siblings or friends are welcome and encouraged.
URL:https://www.dubcolib.org/event/__trashed-82/2024-06-25/
LOCATION:Farley Branch\, 206 1st Street North\, Farley\, IA\, 52046
CATEGORIES:Preschoolers
ATTACH;FMTTYPE=image/jpeg:https://www.dubcolib.org/wp-content/uploads/2024/05/Website-Resolution-20.jpg
ORGANIZER;CN="Teresa Jack":MAILTO:teresaj@dubcolib.org
END:VEVENT
BEGIN:VEVENT
DTSTART;TZID=America/Chicago:20240625T090000
DTEND;TZID=America/Chicago:20240625T093000
DTSTAMP:20260423T095319
CREATED:20240503T190129Z
LAST-MODIFIED:20240711T215334Z
UID:10002447-1719306000-1719307800@www.dubcolib.org
SUMMARY:Baby & Toddler Storytime
DESCRIPTION:Songs\, stories and time for playing with friends! For children 0-24 month and their older siblings.
URL:https://www.dubcolib.org/event/__trashed-78/2024-06-25/
LOCATION:Peosta Branch\, 8342 NICC Drive\, Peosta\, Iowa\, 52068
CATEGORIES:Babies & Toddlers
ATTACH;FMTTYPE=image/jpeg:https://www.dubcolib.org/wp-content/uploads/2024/05/Website-Resolution-21.jpg
ORGANIZER;CN="Teresa Jack":MAILTO:teresaj@dubcolib.org
END:VEVENT
BEGIN:VEVENT
DTSTART;TZID=America/Chicago:20240624T180000
DTEND;TZID=America/Chicago:20240624T190000
DTSTAMP:20260423T095319
CREATED:20240503T190157Z
LAST-MODIFIED:20240504T231556Z
UID:10001778-1719252000-1719255600@www.dubcolib.org
SUMMARY:Learn Euchre
DESCRIPTION:You’re not a Dubuquer if you can’t play Euchre! Discover the fun and strategy of this classic Midwestern card game. Join us to learn the rules\, tricks\, and tactics of Euchre\, perfect for players of all skill levels.
URL:https://www.dubcolib.org/event/__trashed-110/
LOCATION:Holy Cross Branch\, 895 Main Street\, Holy Cross\, Iowa\, 52053
CATEGORIES:Adults
ATTACH;FMTTYPE=image/jpeg:https://www.dubcolib.org/wp-content/uploads/2024/05/Website-Resolution-35.jpg
ORGANIZER;CN="John Bogdal":MAILTO:JohnB@dubcolib.org
END:VEVENT
BEGIN:VEVENT
DTSTART;TZID=America/Chicago:20240624T103000
DTEND;TZID=America/Chicago:20240624T110000
DTSTAMP:20260423T095319
CREATED:20240503T190128Z
LAST-MODIFIED:20240503T221737Z
UID:10002097-1719225000-1719226800@www.dubcolib.org
SUMMARY:Read! Have fun! Repeat!
DESCRIPTION:An exciting mixture of books\, songs\, juggling\, music\, dance\, messy art\, fingerplay\, scavenger hunts\, large motor activities and more books! Programs are designed for children 2.5 – 5\, but younger and older siblings or friends are welcome and encouraged.
URL:https://www.dubcolib.org/event/__trashed-77/2024-06-24/
LOCATION:Epworth Branch\, 110 Bierman Road\, Epworth\, Iowa\, 52045
CATEGORIES:Preschoolers
ATTACH;FMTTYPE=image/jpeg:https://www.dubcolib.org/wp-content/uploads/2024/05/Website-Resolution-20.jpg
ORGANIZER;CN="Teresa Jack":MAILTO:teresaj@dubcolib.org
END:VEVENT
BEGIN:VEVENT
DTSTART;TZID=America/Chicago:20240624T100000
DTEND;TZID=America/Chicago:20240624T113000
DTSTAMP:20260423T095319
CREATED:20240504T233232Z
LAST-MODIFIED:20240504T233513Z
UID:10002668-1719223200-1719228600@www.dubcolib.org
SUMMARY:Painting with Pam
DESCRIPTION:You CAN learn to paint! \nDo you want to learn to paint but don’t know where to start? Have you put aside your art for years and need a refresher to get back on track? This class will cover the basic skills you need to get started. Pamela will help you put aside your fears and create with joy! \nRSVP Required. This is a 4 week class with limited spots. RSVP only if you can attend all 4 classes. RSVP HERE.
URL:https://www.dubcolib.org/event/painting-with-pam/2024-06-24/
LOCATION:Asbury Branch\, 5290 Grand Meadow Drive\, Asbury\, Iowa\, 52002
CATEGORIES:Adults
ATTACH;FMTTYPE=image/jpeg:https://www.dubcolib.org/wp-content/uploads/2024/05/Website-Resolution-32.jpg
ORGANIZER;CN="John Bogdal":MAILTO:JohnB@dubcolib.org
END:VEVENT
BEGIN:VEVENT
DTSTART;TZID=America/Chicago:20240622T130000
DTEND;TZID=America/Chicago:20240622T160000
DTSTAMP:20260423T095319
CREATED:20240503T190156Z
LAST-MODIFIED:20240618T214453Z
UID:10001776-1719061200-1719072000@www.dubcolib.org
SUMMARY:Escape Room
DESCRIPTION:Oil tycoon Reginald Bartholomew the Third has been found murdered in his mansion. You are tasked with deciphering his final message and discovering which of his many associates was his killer. Was it the butler? The housemaid? The chauffeur? Only you can decide! \nLimit 12 players per round in 2 teams of 6 each. We will do the first round at 1:00 and the next one at 3:00. For ages 10-17. To be on the waitlist for this event please email LydiaS@dubcolib.org
URL:https://www.dubcolib.org/event/__trashed-108/
LOCATION:Asbury Branch\, 5290 Grand Meadow Drive\, Asbury\, Iowa\, 52002
CATEGORIES:Teens
ATTACH;FMTTYPE=image/png:https://www.dubcolib.org/wp-content/uploads/2024/05/Website-Resolution-29.png
ORGANIZER;CN="John Bogdal":MAILTO:JohnB@dubcolib.org
END:VEVENT
BEGIN:VEVENT
DTSTART;TZID=America/Chicago:20240620T160000
DTEND;TZID=America/Chicago:20240620T170000
DTSTAMP:20260423T095319
CREATED:20240503T191003Z
LAST-MODIFIED:20240513T182134Z
UID:10002689-1718899200-1718902800@www.dubcolib.org
SUMMARY:Summer Adventures
DESCRIPTION:Stop by every week for snacks\, crafts\, games and more for kids in 1st – 5th grade. Please RSVP HERE
URL:https://www.dubcolib.org/event/summer-adventures-5/2024-06-20/
LOCATION:Holy Cross Branch\, 895 Main Street\, Holy Cross\, Iowa\, 52053
CATEGORIES:Kids
ATTACH;FMTTYPE=image/jpeg:https://www.dubcolib.org/wp-content/uploads/2024/05/Website-Resolution-19.jpg
ORGANIZER;CN="Teresa Jack":MAILTO:teresaj@dubcolib.org
END:VEVENT
BEGIN:VEVENT
DTSTART;TZID=America/Chicago:20240620T143000
DTEND;TZID=America/Chicago:20240620T153000
DTSTAMP:20260423T095319
CREATED:20240503T190715Z
LAST-MODIFIED:20240513T182157Z
UID:10002697-1718893800-1718897400@www.dubcolib.org
SUMMARY:Summer Adventures
DESCRIPTION:Stop by every week for snacks\, crafts\, games and more for kids in 1st – 5th grade. Please RSVP HERE
URL:https://www.dubcolib.org/event/summer-adventures-3/2024-06-20/
LOCATION:Farley Branch\, 206 1st Street North\, Farley\, IA\, 52046
CATEGORIES:Kids
ATTACH;FMTTYPE=image/jpeg:https://www.dubcolib.org/wp-content/uploads/2024/05/Website-Resolution-19.jpg
ORGANIZER;CN="Teresa Jack":MAILTO:teresaj@dubcolib.org
END:VEVENT
BEGIN:VEVENT
DTSTART;TZID=America/Chicago:20240620T130000
DTEND;TZID=America/Chicago:20240620T140000
DTSTAMP:20260423T095319
CREATED:20240503T190003Z
LAST-MODIFIED:20240513T193148Z
UID:10002705-1718888400-1718892000@www.dubcolib.org
SUMMARY:Summer Adventures
DESCRIPTION:Stop by every week for snacks\, crafts\, games and more for kids in 1st – 5th grade. Please RSVP HERE
URL:https://www.dubcolib.org/event/summer-adventures-2/2024-06-20/
LOCATION:Peosta Branch\, 8342 NICC Drive\, Peosta\, Iowa\, 52068
CATEGORIES:Kids
ATTACH;FMTTYPE=image/jpeg:https://www.dubcolib.org/wp-content/uploads/2024/05/Website-Resolution-19.jpg
ORGANIZER;CN="Teresa Jack":MAILTO:teresaj@dubcolib.org
END:VEVENT
BEGIN:VEVENT
DTSTART;VALUE=DATE:20240619
DTEND;VALUE=DATE:20240620
DTSTAMP:20260423T095319
CREATED:20230809T194248Z
LAST-MODIFIED:20240504T233737Z
UID:10000422-1718755200-1718841599@www.dubcolib.org
SUMMARY:Closed for Juneteeth
DESCRIPTION:NICC Open
URL:https://www.dubcolib.org/event/all-dcld-branches-closed-for-juneteeth/
LOCATION:Iowa
END:VEVENT
BEGIN:VEVENT
DTSTART;TZID=America/Chicago:20240618T133000
DTEND;TZID=America/Chicago:20240618T143000
DTSTAMP:20260423T095319
CREATED:20240503T225206Z
LAST-MODIFIED:20240503T225206Z
UID:10002638-1718717400-1718721000@www.dubcolib.org
SUMMARY:CIRCUS Workshop
DESCRIPTION:Join circus performer Sam Rezz in the morning with her dazzling show of hula hoops\, juggling\, and more! Join her in the afternoon for a workshop for kids where she will teach the basics of multiple circus tricks. \nSponsored by Summer Sponsor Pizza Ranch.
URL:https://www.dubcolib.org/event/circus-workshop/
LOCATION:Farley Branch\, 206 1st Street North\, Farley\, IA\, 52046
CATEGORIES:All Ages
ATTACH;FMTTYPE=image/png:https://www.dubcolib.org/wp-content/uploads/2024/05/Website-Resolution-26.png
ORGANIZER;CN="Teresa Jack":MAILTO:teresaj@dubcolib.org
END:VEVENT
BEGIN:VEVENT
DTSTART;TZID=America/Chicago:20240618T173000
DTEND;TZID=America/Chicago:20240618T183000
DTSTAMP:20260423T095319
CREATED:20230502T171121Z
LAST-MODIFIED:20231229T174432Z
UID:10000083-1718731800-1718735400@www.dubcolib.org
SUMMARY:Dubuque County Library Board of Trustees Meeting
DESCRIPTION:The Board of Trustees will hold their monthly meeting. The agenda for this meeting and minutes from previous meetings can be found online.
URL:https://www.dubcolib.org/event/dubuque-county-library-board-of-trustees-meeting-14/
LOCATION:Asbury Branch\, 5290 Grand Meadow Drive\, Asbury\, Iowa\, 52002
CATEGORIES:All Ages
ATTACH;FMTTYPE=image/png:https://www.dubcolib.org/wp-content/uploads/2023/05/BoT-Img.png
ORGANIZER;CN="Amanda Sand":MAILTO:amandav@dubcolib.org
END:VEVENT
BEGIN:VEVENT
DTSTART;TZID=America/Chicago:20240618T110000
DTEND;TZID=America/Chicago:20240618T120000
DTSTAMP:20260423T095319
CREATED:20240503T225057Z
LAST-MODIFIED:20240503T225057Z
UID:10002637-1718708400-1718712000@www.dubcolib.org
SUMMARY:Sam Rezz CIRCUS
DESCRIPTION:Join circus performer Sam Rezz in the morning with her dazzling show of hula hoops\, juggling\, and more! Join her in the afternoon for a workshop for kids where she will teach the basics of multiple circus tricks. \nSponsored by Summer Sponsor Pizza Ranch.
URL:https://www.dubcolib.org/event/sam-rezz-circus/
LOCATION:Peosta Branch\, 8342 NICC Drive\, Peosta\, Iowa\, 52068
CATEGORIES:All Ages
ATTACH;FMTTYPE=image/png:https://www.dubcolib.org/wp-content/uploads/2024/05/Website-Resolution-26.png
ORGANIZER;CN="Teresa Jack":MAILTO:teresaj@dubcolib.org
END:VEVENT
BEGIN:VEVENT
DTSTART;TZID=America/Chicago:20240618T100000
DTEND;TZID=America/Chicago:20240618T103000
DTSTAMP:20260423T095319
CREATED:20240503T205432Z
LAST-MODIFIED:20240723T221323Z
UID:10002390-1718704800-1718706600@www.dubcolib.org
SUMMARY:Read! Have fun! Repeat!
DESCRIPTION:An exciting mixture of books\, songs\, juggling\, music\, dance\, messy art\, fingerplay\, scavenger hunts\, large motor activities and more books! Programs are designed for children 2.5 – 5\, but younger and older siblings or friends are welcome and encouraged.
URL:https://www.dubcolib.org/event/read-have-fun-repeat-2/2024-06-18/
LOCATION:Holy Cross Branch\, 895 Main Street\, Holy Cross\, Iowa\, 52053
CATEGORIES:Preschoolers
ATTACH;FMTTYPE=image/jpeg:https://www.dubcolib.org/wp-content/uploads/2024/05/Website-Resolution-20.jpg
ORGANIZER;CN="Teresa Jack":MAILTO:teresaj@dubcolib.org
END:VEVENT
BEGIN:VEVENT
DTSTART;TZID=America/Chicago:20240618T090000
DTEND;TZID=America/Chicago:20240618T093000
DTSTAMP:20260423T095319
CREATED:20240503T190129Z
LAST-MODIFIED:20240711T215334Z
UID:10002446-1718701200-1718703000@www.dubcolib.org
SUMMARY:Baby & Toddler Storytime
DESCRIPTION:Songs\, stories and time for playing with friends! For children 0-24 month and their older siblings.
URL:https://www.dubcolib.org/event/__trashed-78/2024-06-18/
LOCATION:Peosta Branch\, 8342 NICC Drive\, Peosta\, Iowa\, 52068
CATEGORIES:Babies & Toddlers
ATTACH;FMTTYPE=image/jpeg:https://www.dubcolib.org/wp-content/uploads/2024/05/Website-Resolution-21.jpg
ORGANIZER;CN="Teresa Jack":MAILTO:teresaj@dubcolib.org
END:VEVENT
BEGIN:VEVENT
DTSTART;TZID=America/Chicago:20240617T180000
DTEND;TZID=America/Chicago:20240617T190000
DTSTAMP:20260423T095319
CREATED:20240503T190156Z
LAST-MODIFIED:20240504T232116Z
UID:10001773-1718647200-1718650800@www.dubcolib.org
SUMMARY:Zen and the Art of Doodling
DESCRIPTION:Unwind and find your inner calm with Zen and the Art of Doodling\, where we combine the soothing practice of meditation with the creativity of doodling. Join us to learn simple relaxation techniques and explore the art of mindfulness through expressive drawing.
URL:https://www.dubcolib.org/event/__trashed-105/
LOCATION:Asbury Branch\, 5290 Grand Meadow Drive\, Asbury\, Iowa\, 52002
CATEGORIES:Adults
ATTACH;FMTTYPE=image/jpeg:https://www.dubcolib.org/wp-content/uploads/2024/05/Website-Resolution-39.jpg
ORGANIZER;CN="John Bogdal":MAILTO:JohnB@dubcolib.org
END:VEVENT
BEGIN:VEVENT
DTSTART;TZID=America/Chicago:20240617T103000
DTEND;TZID=America/Chicago:20240617T110000
DTSTAMP:20260423T095319
CREATED:20240503T190128Z
LAST-MODIFIED:20240503T221737Z
UID:10002096-1718620200-1718622000@www.dubcolib.org
SUMMARY:Read! Have fun! Repeat!
DESCRIPTION:An exciting mixture of books\, songs\, juggling\, music\, dance\, messy art\, fingerplay\, scavenger hunts\, large motor activities and more books! Programs are designed for children 2.5 – 5\, but younger and older siblings or friends are welcome and encouraged.
URL:https://www.dubcolib.org/event/__trashed-77/2024-06-17/
LOCATION:Epworth Branch\, 110 Bierman Road\, Epworth\, Iowa\, 52045
CATEGORIES:Preschoolers
ATTACH;FMTTYPE=image/jpeg:https://www.dubcolib.org/wp-content/uploads/2024/05/Website-Resolution-20.jpg
ORGANIZER;CN="Teresa Jack":MAILTO:teresaj@dubcolib.org
END:VEVENT
BEGIN:VEVENT
DTSTART;TZID=America/Chicago:20240617T100000
DTEND;TZID=America/Chicago:20240617T113000
DTSTAMP:20260423T095319
CREATED:20240503T190156Z
LAST-MODIFIED:20240504T233051Z
UID:10001772-1718618400-1718623800@www.dubcolib.org
SUMMARY:Painting with Pam
DESCRIPTION:You CAN learn to paint! \nDo you want to learn to paint but don’t know where to start? Have you put aside your art for years and need a refresher to get back on track? This class will cover the basic skills you need to get started. Pamela will help you put aside your fears and create with joy! \nRSVP Required. This is a 4 week class with limited spots. RSVP only if you can attend all 4 classes.
URL:https://www.dubcolib.org/event/__trashed-104/
LOCATION:Asbury Branch\, 5290 Grand Meadow Drive\, Asbury\, Iowa\, 52002
CATEGORIES:Adults
ATTACH;FMTTYPE=image/jpeg:https://www.dubcolib.org/wp-content/uploads/2024/05/Website-Resolution-32.jpg
ORGANIZER;CN="John Bogdal":MAILTO:JohnB@dubcolib.org
END:VEVENT
BEGIN:VEVENT
DTSTART;TZID=America/Chicago:20240615T133000
DTEND;TZID=America/Chicago:20240615T143000
DTSTAMP:20260423T095319
CREATED:20240511T165443Z
LAST-MODIFIED:20240511T165443Z
UID:10002712-1718458200-1718461800@www.dubcolib.org
SUMMARY:Bluey Party!
DESCRIPTION:Get your Dance Mode on to celebrate all things BLUEY at the library For Real Life!
URL:https://www.dubcolib.org/event/bluey-party-2/
LOCATION:Asbury Branch\, 5290 Grand Meadow Drive\, Asbury\, Iowa\, 52002
CATEGORIES:All Ages
ATTACH;FMTTYPE=image/jpeg:https://www.dubcolib.org/wp-content/uploads/2024/05/PARTY.jpg
ORGANIZER;CN="Children's Librarian":MAILTO:LydiaS@dubcolib.org
END:VEVENT
BEGIN:VEVENT
DTSTART;TZID=America/Chicago:20240615T100000
DTEND;TZID=America/Chicago:20240615T110000
DTSTAMP:20260423T095319
CREATED:20240511T165407Z
LAST-MODIFIED:20240511T165407Z
UID:10002711-1718445600-1718449200@www.dubcolib.org
SUMMARY:Bluey Party!
DESCRIPTION:Get your Dance Mode on to celebrate all things BLUEY at the library For Real Life!
URL:https://www.dubcolib.org/event/bluey-party/
LOCATION:Epworth Branch\, 110 Bierman Road\, Epworth\, Iowa\, 52045
CATEGORIES:All Ages
ATTACH;FMTTYPE=image/jpeg:https://www.dubcolib.org/wp-content/uploads/2024/05/PARTY.jpg
ORGANIZER;CN="Children's Librarian":MAILTO:LydiaS@dubcolib.org
END:VEVENT
BEGIN:VEVENT
DTSTART;TZID=America/Chicago:20240614T170000
DTEND;TZID=America/Chicago:20240614T180000
DTSTAMP:20260423T095319
CREATED:20240503T190155Z
LAST-MODIFIED:20240504T231345Z
UID:10001771-1718384400-1718388000@www.dubcolib.org
SUMMARY:Learn Euchre
DESCRIPTION:You’re not a Dubuquer if you can’t play Euchre! Discover the fun and strategy of this classic Midwestern card game. Join us to learn the rules\, tricks\, and tactics of Euchre\, perfect for players of all skill levels.
URL:https://www.dubcolib.org/event/__trashed-103/
LOCATION:Asbury Branch\, 5290 Grand Meadow Drive\, Asbury\, Iowa\, 52002
CATEGORIES:Adults
ATTACH;FMTTYPE=image/jpeg:https://www.dubcolib.org/wp-content/uploads/2024/05/Website-Resolution-35.jpg
ORGANIZER;CN="John Bogdal":MAILTO:JohnB@dubcolib.org
END:VEVENT
BEGIN:VEVENT
DTSTART;TZID=America/Chicago:20240614T110000
DTEND;TZID=America/Chicago:20240614T120000
DTSTAMP:20260423T095319
CREATED:20240409T183054Z
LAST-MODIFIED:20240415T223042Z
UID:10001676-1718362800-1718366400@www.dubcolib.org
SUMMARY:Chair Yoga
DESCRIPTION:Come and stretch your body in the most relaxed way… from your chair! You’ll get a full body strength and stretching workout from head to toe every time in only 60 minutes! This is a 4 week class\, May 24th – June 14th. \nRSVP HERE by May 24th
URL:https://www.dubcolib.org/event/chair-yoga-4/
LOCATION:Asbury Branch\, 5290 Grand Meadow Drive\, Asbury\, Iowa\, 52002
CATEGORIES:Adults
ATTACH;FMTTYPE=image/jpeg:https://www.dubcolib.org/wp-content/uploads/2024/04/Website-Resolution-15.jpg
ORGANIZER;CN="John Bogdal":MAILTO:JohnB@dubcolib.org
END:VEVENT
END:VCALENDAR