BEGIN:VCALENDAR
VERSION:2.0
PRODID:-//Dubuque County Library District - ECPv6.15.20//NONSGML v1.0//EN
CALSCALE:GREGORIAN
METHOD:PUBLISH
X-WR-CALNAME:Dubuque County Library District
X-ORIGINAL-URL:https://www.dubcolib.org
X-WR-CALDESC:Events for Dubuque County Library District
REFRESH-INTERVAL;VALUE=DURATION:PT1H
X-Robots-Tag:noindex
X-PUBLISHED-TTL:PT1H
BEGIN:VTIMEZONE
TZID:America/Chicago
BEGIN:DAYLIGHT
TZOFFSETFROM:-0600
TZOFFSETTO:-0500
TZNAME:CDT
DTSTART:20230312T080000
END:DAYLIGHT
BEGIN:STANDARD
TZOFFSETFROM:-0500
TZOFFSETTO:-0600
TZNAME:CST
DTSTART:20231105T070000
END:STANDARD
BEGIN:DAYLIGHT
TZOFFSETFROM:-0600
TZOFFSETTO:-0500
TZNAME:CDT
DTSTART:20240310T080000
END:DAYLIGHT
BEGIN:STANDARD
TZOFFSETFROM:-0500
TZOFFSETTO:-0600
TZNAME:CST
DTSTART:20241103T070000
END:STANDARD
BEGIN:DAYLIGHT
TZOFFSETFROM:-0600
TZOFFSETTO:-0500
TZNAME:CDT
DTSTART:20250309T080000
END:DAYLIGHT
BEGIN:STANDARD
TZOFFSETFROM:-0500
TZOFFSETTO:-0600
TZNAME:CST
DTSTART:20251102T070000
END:STANDARD
END:VTIMEZONE
BEGIN:VEVENT
DTSTART;TZID=America/Chicago:20240502T160000
DTEND;TZID=America/Chicago:20240502T170000
DTSTAMP:20260425T224713
CREATED:20240329T162644Z
LAST-MODIFIED:20240329T162644Z
UID:10001655-1714665600-1714669200@www.dubcolib.org
SUMMARY:Beginner Crochet
DESCRIPTION:Interested in learning crochet? Join us for an introductory lesson on beginning crochet stitches. Yarn and hooks provided. Teens and adults welcome. RSVP recommended\, drop-ins welcome.
URL:https://www.dubcolib.org/event/beginner-crochet/
LOCATION:Asbury Branch\, 5290 Grand Meadow Drive\, Asbury\, Iowa\, 52002
CATEGORIES:Adults,Teens
ATTACH;FMTTYPE=image/jpeg:https://www.dubcolib.org/wp-content/uploads/2024/03/Website-Resolution-9.jpg
ORGANIZER;CN="John Bogdal":MAILTO:JohnB@dubcolib.org
END:VEVENT
BEGIN:VEVENT
DTSTART;TZID=America/Chicago:20240502T110000
DTEND;TZID=America/Chicago:20240502T120000
DTSTAMP:20260425T224713
CREATED:20240226T202337Z
LAST-MODIFIED:20240326T200353Z
UID:10001594-1714647600-1714651200@www.dubcolib.org
SUMMARY:Tai Chi
DESCRIPTION:Tai Chi consists of slow\, fluid\, gentle movements. It can be practiced almost anywhere and is accessible for individuals at any fitness level.\nThis class is taught by a certified Tai Chi instructor and is suitable for beginners. Class is held Tuesday and Thursday mornings 11:00 – Noon. Registration is full for this class\, if you would like to be placed on a waitlist please email LydiaS@dubcolib.org.
URL:https://www.dubcolib.org/event/tai-chi/2024-05-02/
LOCATION:Asbury Branch\, 5290 Grand Meadow Drive\, Asbury\, Iowa\, 52002
CATEGORIES:Adults
ATTACH;FMTTYPE=image/png:https://www.dubcolib.org/wp-content/uploads/2024/02/4.png
ORGANIZER;CN="John Bogdal":MAILTO:JohnB@dubcolib.org
END:VEVENT
BEGIN:VEVENT
DTSTART;TZID=America/Chicago:20240501T180000
DTEND;TZID=America/Chicago:20240501T190000
DTSTAMP:20260425T224713
CREATED:20240329T162154Z
LAST-MODIFIED:20240329T162154Z
UID:10001654-1714586400-1714590000@www.dubcolib.org
SUMMARY:Yarn Spinners
DESCRIPTION:Calling all handicrafters! Bring your crochet hooks and knitting needles for an evening of crafting and conversation at the library.
URL:https://www.dubcolib.org/event/yarn-spinners-4/
LOCATION:Asbury Branch\, 5290 Grand Meadow Drive\, Asbury\, Iowa\, 52002
CATEGORIES:Adults
ATTACH;FMTTYPE=image/png:https://www.dubcolib.org/wp-content/uploads/2024/03/21.png
ORGANIZER;CN="John Bogdal":MAILTO:JohnB@dubcolib.org
END:VEVENT
BEGIN:VEVENT
DTSTART;TZID=America/Chicago:20240501T094500
DTEND;TZID=America/Chicago:20240501T101500
DTSTAMP:20260425T224713
CREATED:20231209T165658Z
LAST-MODIFIED:20240316T144900Z
UID:10001410-1714556700-1714558500@www.dubcolib.org
SUMMARY:Storytime
DESCRIPTION:(Recommended for ages 2-5) Join Ms. Teresa for a half hour with some reading\, rhymes\, and playing with friends. No registration required.
URL:https://www.dubcolib.org/event/storytime-21/2024-05-01/
LOCATION:Asbury Branch\, 5290 Grand Meadow Drive\, Asbury\, Iowa\, 52002
CATEGORIES:Preschoolers
ATTACH;FMTTYPE=image/png:https://www.dubcolib.org/wp-content/uploads/2023/12/Website-Resolution-7-1.png
ORGANIZER;CN="Teresa Jack":MAILTO:teresaj@dubcolib.org
END:VEVENT
BEGIN:VEVENT
DTSTART;TZID=America/Chicago:20240501T090000
DTEND;TZID=America/Chicago:20240501T093000
DTSTAMP:20260425T224713
CREATED:20231209T171243Z
LAST-MODIFIED:20240316T144021Z
UID:10001461-1714554000-1714555800@www.dubcolib.org
SUMMARY:Baby & Toddler Storytime
DESCRIPTION:Songs\, stories and socializing for children 0-2 and their big siblings and caregivers.
URL:https://www.dubcolib.org/event/baby-toddler-storytime-10/2024-05-01/
LOCATION:Asbury Branch\, 5290 Grand Meadow Drive\, Asbury\, Iowa\, 52002
CATEGORIES:Babies & Toddlers
ATTACH;FMTTYPE=image/png:https://www.dubcolib.org/wp-content/uploads/2023/12/Website-Resolution-8.png
ORGANIZER;CN="Teresa Jack":MAILTO:teresaj@dubcolib.org
END:VEVENT
BEGIN:VEVENT
DTSTART;TZID=America/Chicago:20240430T110000
DTEND;TZID=America/Chicago:20240430T120000
DTSTAMP:20260425T224713
CREATED:20240226T202337Z
LAST-MODIFIED:20240326T200353Z
UID:10001593-1714474800-1714478400@www.dubcolib.org
SUMMARY:Tai Chi
DESCRIPTION:Tai Chi consists of slow\, fluid\, gentle movements. It can be practiced almost anywhere and is accessible for individuals at any fitness level.\nThis class is taught by a certified Tai Chi instructor and is suitable for beginners. Class is held Tuesday and Thursday mornings 11:00 – Noon. Registration is full for this class\, if you would like to be placed on a waitlist please email LydiaS@dubcolib.org.
URL:https://www.dubcolib.org/event/tai-chi/2024-04-30/
LOCATION:Asbury Branch\, 5290 Grand Meadow Drive\, Asbury\, Iowa\, 52002
CATEGORIES:Adults
ATTACH;FMTTYPE=image/png:https://www.dubcolib.org/wp-content/uploads/2024/02/4.png
ORGANIZER;CN="John Bogdal":MAILTO:JohnB@dubcolib.org
END:VEVENT
BEGIN:VEVENT
DTSTART;TZID=America/Chicago:20240430T100000
DTEND;TZID=America/Chicago:20240430T103000
DTSTAMP:20260425T224713
CREATED:20231209T165017Z
LAST-MODIFIED:20240316T144925Z
UID:10001376-1714471200-1714473000@www.dubcolib.org
SUMMARY:Storytime
DESCRIPTION:(Recommended for ages 2-5) Join Ms. Teresa for a half hour with some reading\, rhymes\, and playing with friends.  No registration required.
URL:https://www.dubcolib.org/event/storytime-20/2024-04-30/
LOCATION:Farley Branch\, 206 1st Street North\, Farley\, IA\, 52046
CATEGORIES:Preschoolers
ATTACH;FMTTYPE=image/png:https://www.dubcolib.org/wp-content/uploads/2023/12/Website-Resolution-7-1.png
ORGANIZER;CN="Teresa Jack":MAILTO:teresaj@dubcolib.org
END:VEVENT
BEGIN:VEVENT
DTSTART;TZID=America/Chicago:20240430T090000
DTEND;TZID=America/Chicago:20240430T093000
DTSTAMP:20260425T224713
CREATED:20231209T171053Z
LAST-MODIFIED:20240316T144054Z
UID:10001427-1714467600-1714469400@www.dubcolib.org
SUMMARY:Baby & Toddler Storytime
DESCRIPTION:Songs\, stories and socializing for children 0-2 and their big siblings and caregivers.
URL:https://www.dubcolib.org/event/baby-toddler-storytime-9/2024-04-30/
LOCATION:Peosta Branch\, 8342 NICC Drive\, Peosta\, Iowa\, 52068
CATEGORIES:Babies & Toddlers
ATTACH;FMTTYPE=image/png:https://www.dubcolib.org/wp-content/uploads/2023/12/Website-Resolution-8.png
ORGANIZER;CN="Teresa Jack":MAILTO:teresaj@dubcolib.org
END:VEVENT
BEGIN:VEVENT
DTSTART;TZID=America/Chicago:20240429T180000
DTEND;TZID=America/Chicago:20240429T190000
DTSTAMP:20260425T224713
CREATED:20240301T195930Z
LAST-MODIFIED:20240314T204554Z
UID:10001637-1714413600-1714417200@www.dubcolib.org
SUMMARY:Craft Club - Spring Wreaths
DESCRIPTION:(Ages 16+) Join us for this monthly crafting program. Registration recommended\, drop-ins welcome as supplies last. In March we’re making spring wreaths.
URL:https://www.dubcolib.org/event/craft-club-spring-wreaths/
LOCATION:Holy Cross Branch\, 895 Main Street\, Holy Cross\, Iowa\, 52053
CATEGORIES:Adults
ATTACH;FMTTYPE=image/png:https://www.dubcolib.org/wp-content/uploads/2023/11/17.png
ORGANIZER;CN="John Bogdal":MAILTO:JohnB@dubcolib.org
END:VEVENT
BEGIN:VEVENT
DTSTART;TZID=America/Chicago:20240429T103000
DTEND;TZID=America/Chicago:20240429T110000
DTSTAMP:20260425T224713
CREATED:20231209T160104Z
LAST-MODIFIED:20240316T144948Z
UID:10001342-1714386600-1714388400@www.dubcolib.org
SUMMARY:Storytime
DESCRIPTION:(Recommended for ages 2-5) Join Ms. Teresa for a half hour with some reading\, rhymes\, and playing with friends. No registration required.
URL:https://www.dubcolib.org/event/storytime-19/2024-04-29/
LOCATION:Epworth Branch\, 110 Bierman Road\, Epworth\, Iowa\, 52045
CATEGORIES:Preschoolers
ATTACH;FMTTYPE=image/png:https://www.dubcolib.org/wp-content/uploads/2023/12/Website-Resolution-7-1.png
ORGANIZER;CN="Teresa Jack":MAILTO:teresaj@dubcolib.org
END:VEVENT
BEGIN:VEVENT
DTSTART;TZID=America/Chicago:20240429T093000
DTEND;TZID=America/Chicago:20240429T100000
DTSTAMP:20260425T224713
CREATED:20231209T155513Z
LAST-MODIFIED:20240325T221125Z
UID:10001256-1714383000-1714384800@www.dubcolib.org
SUMMARY:Storytime
DESCRIPTION:(Recommended for ages 2-5) Join Ms. Teresa for a half hour with some reading\, rhymes\, and playing with friends.  No registration required.
URL:https://www.dubcolib.org/event/storytime-18/2024-04-29/
LOCATION:Peosta Branch\, 8342 NICC Drive\, Peosta\, Iowa\, 52068
CATEGORIES:Preschoolers
ATTACH;FMTTYPE=image/png:https://www.dubcolib.org/wp-content/uploads/2023/12/Website-Resolution-7-1.png
ORGANIZER;CN="Teresa Jack":MAILTO:teresaj@dubcolib.org
END:VEVENT
BEGIN:VEVENT
DTSTART;TZID=America/Chicago:20240427T110000
DTEND;TZID=America/Chicago:20240427T120000
DTSTAMP:20260425T224713
CREATED:20240301T200510Z
LAST-MODIFIED:20240314T205011Z
UID:10001626-1714215600-1714219200@www.dubcolib.org
SUMMARY:No Pressure Book Club
DESCRIPTION:Welcome to the No Pressure Book Club\, a friendly space to chat about whatever books have captured your imagination lately. Join fellow book lovers for engaging conversations and insightful recommendations.
URL:https://www.dubcolib.org/event/no-pressure-book-club-2/
LOCATION:Farley Branch\, 206 1st Street North\, Farley\, IA\, 52046
CATEGORIES:Adults
ATTACH;FMTTYPE=image/png:https://www.dubcolib.org/wp-content/uploads/2024/03/7.png
ORGANIZER;CN="John Bogdal":MAILTO:JohnB@dubcolib.org
END:VEVENT
BEGIN:VEVENT
DTSTART;TZID=America/Chicago:20240425T153000
DTEND;TZID=America/Chicago:20240425T163000
DTSTAMP:20260425T224713
CREATED:20240301T204833Z
LAST-MODIFIED:20240314T204510Z
UID:10001636-1714059000-1714062600@www.dubcolib.org
SUMMARY:Welcome to Libby!
DESCRIPTION:Learn how to browse and borrow ebooks\, audiobooks\, magazines\, and more from your local library for free! Libby is the library reading app by OverDrive\, loved by millions of readers worldwide and available to you through Dubuque County Library District!
URL:https://www.dubcolib.org/event/welcome-to-libby/
LOCATION:Holy Cross Branch\, 895 Main Street\, Holy Cross\, Iowa\, 52053
CATEGORIES:Adults
ATTACH;FMTTYPE=image/png:https://www.dubcolib.org/wp-content/uploads/2024/03/16.png
ORGANIZER;CN="John Bogdal":MAILTO:JohnB@dubcolib.org
END:VEVENT
BEGIN:VEVENT
DTSTART;TZID=America/Chicago:20240425T110000
DTEND;TZID=America/Chicago:20240425T120000
DTSTAMP:20260425T224713
CREATED:20240226T202337Z
LAST-MODIFIED:20240326T200353Z
UID:10001592-1714042800-1714046400@www.dubcolib.org
SUMMARY:Tai Chi
DESCRIPTION:Tai Chi consists of slow\, fluid\, gentle movements. It can be practiced almost anywhere and is accessible for individuals at any fitness level.\nThis class is taught by a certified Tai Chi instructor and is suitable for beginners. Class is held Tuesday and Thursday mornings 11:00 – Noon. Registration is full for this class\, if you would like to be placed on a waitlist please email LydiaS@dubcolib.org.
URL:https://www.dubcolib.org/event/tai-chi/2024-04-25/
LOCATION:Asbury Branch\, 5290 Grand Meadow Drive\, Asbury\, Iowa\, 52002
CATEGORIES:Adults
ATTACH;FMTTYPE=image/png:https://www.dubcolib.org/wp-content/uploads/2024/02/4.png
ORGANIZER;CN="John Bogdal":MAILTO:JohnB@dubcolib.org
END:VEVENT
BEGIN:VEVENT
DTSTART;TZID=America/Chicago:20240424T163000
DTEND;TZID=America/Chicago:20240424T173000
DTSTAMP:20260425T224713
CREATED:20240306T183517Z
LAST-MODIFIED:20240408T192532Z
UID:10001644-1713976200-1713979800@www.dubcolib.org
SUMMARY:Houseplant Clinic
DESCRIPTION:Have questions about your houseplants? Bring your plants\, photos\, and/or questions to Laura\, owner of Planted in Dubuque for an open “Clinic” and preliminary plant diagnostic services.\nLaura will help address pest management and pest identification\, watering challenges\, lighting\, and other common houseplant issues to help you and your houseplants thrive!  \nLaura has a Horticulture Degree from Iowa State University with over fifteen years of experience growing\, teaching\, tending\, and admiring tropical plants\, growing food\, and teaching people about plants. Laura has a true passion for building community around plants. Sponsored by the Friends of the Dubuque County Library District. \nThe clinic is free and open to all\, drop-ins welcome\, attendees who RSVP will be given priority.
URL:https://www.dubcolib.org/event/houseplant-clinic-2/
LOCATION:Asbury Branch\, 5290 Grand Meadow Drive\, Asbury\, Iowa\, 52002
CATEGORIES:Adults
ATTACH;FMTTYPE=image/png:https://www.dubcolib.org/wp-content/uploads/2024/03/15.png
ORGANIZER;CN="John Bogdal":MAILTO:JohnB@dubcolib.org
END:VEVENT
BEGIN:VEVENT
DTSTART;TZID=America/Chicago:20240424T113000
DTEND;TZID=America/Chicago:20240424T123000
DTSTAMP:20260425T224713
CREATED:20240327T171726Z
LAST-MODIFIED:20240415T154715Z
UID:10001653-1713958200-1713961800@www.dubcolib.org
SUMMARY:Smartphone Savvy: Androids
DESCRIPTION:Receive practical tips and newfound confidence in navigating your android smartphone features and functions. Students from Cornerstone Academy will be on hand to provide one-on-one assistance to attendees. RSVP Required.
URL:https://www.dubcolib.org/event/smartphone-savvy-tech-help-hour-2/
LOCATION:Asbury Branch\, 5290 Grand Meadow Drive\, Asbury\, Iowa\, 52002
CATEGORIES:Adults
ATTACH;FMTTYPE=image/png:https://www.dubcolib.org/wp-content/uploads/2024/02/9.png
ORGANIZER;CN="John Bogdal":MAILTO:JohnB@dubcolib.org
END:VEVENT
BEGIN:VEVENT
DTSTART;TZID=America/Chicago:20240424T094500
DTEND;TZID=America/Chicago:20240424T101500
DTSTAMP:20260425T224713
CREATED:20231209T165658Z
LAST-MODIFIED:20240316T144900Z
UID:10001409-1713951900-1713953700@www.dubcolib.org
SUMMARY:Storytime
DESCRIPTION:(Recommended for ages 2-5) Join Ms. Teresa for a half hour with some reading\, rhymes\, and playing with friends. No registration required.
URL:https://www.dubcolib.org/event/storytime-21/2024-04-24/
LOCATION:Asbury Branch\, 5290 Grand Meadow Drive\, Asbury\, Iowa\, 52002
CATEGORIES:Preschoolers
ATTACH;FMTTYPE=image/png:https://www.dubcolib.org/wp-content/uploads/2023/12/Website-Resolution-7-1.png
ORGANIZER;CN="Teresa Jack":MAILTO:teresaj@dubcolib.org
END:VEVENT
BEGIN:VEVENT
DTSTART;TZID=America/Chicago:20240424T090000
DTEND;TZID=America/Chicago:20240424T093000
DTSTAMP:20260425T224713
CREATED:20231209T171243Z
LAST-MODIFIED:20240316T144021Z
UID:10001460-1713949200-1713951000@www.dubcolib.org
SUMMARY:Baby & Toddler Storytime
DESCRIPTION:Songs\, stories and socializing for children 0-2 and their big siblings and caregivers.
URL:https://www.dubcolib.org/event/baby-toddler-storytime-10/2024-04-24/
LOCATION:Asbury Branch\, 5290 Grand Meadow Drive\, Asbury\, Iowa\, 52002
CATEGORIES:Babies & Toddlers
ATTACH;FMTTYPE=image/png:https://www.dubcolib.org/wp-content/uploads/2023/12/Website-Resolution-8.png
ORGANIZER;CN="Teresa Jack":MAILTO:teresaj@dubcolib.org
END:VEVENT
BEGIN:VEVENT
DTSTART;TZID=America/Chicago:20240423T173000
DTEND;TZID=America/Chicago:20240423T183000
DTSTAMP:20260425T224713
CREATED:20230502T171120Z
LAST-MODIFIED:20240416T202945Z
UID:10000081-1713893400-1713897000@www.dubcolib.org
SUMMARY:Dubuque County Library Board of Trustees Meeting
DESCRIPTION:The Board of Trustees will hold their monthly meeting. The agenda for this meeting and minutes from previous meetings can be found online.
URL:https://www.dubcolib.org/event/dubuque-county-library-board-of-trustees-meeting-12/
LOCATION:Peosta Branch\, 8342 NICC Drive\, Peosta\, Iowa\, 52068
CATEGORIES:All Ages
ATTACH;FMTTYPE=image/png:https://www.dubcolib.org/wp-content/uploads/2023/05/BoT-Img.png
ORGANIZER;CN="Amanda Sand":MAILTO:amandav@dubcolib.org
END:VEVENT
BEGIN:VEVENT
DTSTART;TZID=America/Chicago:20240423T160000
DTEND;TZID=America/Chicago:20240423T170000
DTSTAMP:20260425T224713
CREATED:20240301T180553Z
LAST-MODIFIED:20240416T203502Z
UID:10001641-1713888000-1713891600@www.dubcolib.org
SUMMARY:Chess Club
DESCRIPTION:Welcome to the timeless game of chess! Join us for engaging lessons where beginners and seasoned players alike can sharpen their skills and learn winning tactics and strategies.
URL:https://www.dubcolib.org/event/chess-club-2/
LOCATION:Epworth Branch\, 110 Bierman Road\, Epworth\, Iowa\, 52045
CATEGORIES:All Ages,Teens
ATTACH;FMTTYPE=image/png:https://www.dubcolib.org/wp-content/uploads/2024/03/Website-Resolution-3.png
ORGANIZER;CN="John Bogdal":MAILTO:JohnB@dubcolib.org
END:VEVENT
BEGIN:VEVENT
DTSTART;TZID=America/Chicago:20240423T110000
DTEND;TZID=America/Chicago:20240423T120000
DTSTAMP:20260425T224713
CREATED:20240226T202337Z
LAST-MODIFIED:20240326T200353Z
UID:10001591-1713870000-1713873600@www.dubcolib.org
SUMMARY:Tai Chi
DESCRIPTION:Tai Chi consists of slow\, fluid\, gentle movements. It can be practiced almost anywhere and is accessible for individuals at any fitness level.\nThis class is taught by a certified Tai Chi instructor and is suitable for beginners. Class is held Tuesday and Thursday mornings 11:00 – Noon. Registration is full for this class\, if you would like to be placed on a waitlist please email LydiaS@dubcolib.org.
URL:https://www.dubcolib.org/event/tai-chi/2024-04-23/
LOCATION:Asbury Branch\, 5290 Grand Meadow Drive\, Asbury\, Iowa\, 52002
CATEGORIES:Adults
ATTACH;FMTTYPE=image/png:https://www.dubcolib.org/wp-content/uploads/2024/02/4.png
ORGANIZER;CN="John Bogdal":MAILTO:JohnB@dubcolib.org
END:VEVENT
BEGIN:VEVENT
DTSTART;TZID=America/Chicago:20240423T100000
DTEND;TZID=America/Chicago:20240423T103000
DTSTAMP:20260425T224713
CREATED:20231209T165017Z
LAST-MODIFIED:20240316T144925Z
UID:10001375-1713866400-1713868200@www.dubcolib.org
SUMMARY:Storytime
DESCRIPTION:(Recommended for ages 2-5) Join Ms. Teresa for a half hour with some reading\, rhymes\, and playing with friends.  No registration required.
URL:https://www.dubcolib.org/event/storytime-20/2024-04-23/
LOCATION:Farley Branch\, 206 1st Street North\, Farley\, IA\, 52046
CATEGORIES:Preschoolers
ATTACH;FMTTYPE=image/png:https://www.dubcolib.org/wp-content/uploads/2023/12/Website-Resolution-7-1.png
ORGANIZER;CN="Teresa Jack":MAILTO:teresaj@dubcolib.org
END:VEVENT
BEGIN:VEVENT
DTSTART;TZID=America/Chicago:20240423T090000
DTEND;TZID=America/Chicago:20240423T093000
DTSTAMP:20260425T224713
CREATED:20231209T171053Z
LAST-MODIFIED:20240316T144054Z
UID:10001426-1713862800-1713864600@www.dubcolib.org
SUMMARY:Baby & Toddler Storytime
DESCRIPTION:Songs\, stories and socializing for children 0-2 and their big siblings and caregivers.
URL:https://www.dubcolib.org/event/baby-toddler-storytime-9/2024-04-23/
LOCATION:Peosta Branch\, 8342 NICC Drive\, Peosta\, Iowa\, 52068
CATEGORIES:Babies & Toddlers
ATTACH;FMTTYPE=image/png:https://www.dubcolib.org/wp-content/uploads/2023/12/Website-Resolution-8.png
ORGANIZER;CN="Teresa Jack":MAILTO:teresaj@dubcolib.org
END:VEVENT
BEGIN:VEVENT
DTSTART;TZID=America/Chicago:20240422T180000
DTEND;TZID=America/Chicago:20240422T190000
DTSTAMP:20260425T224713
CREATED:20240304T225716Z
LAST-MODIFIED:20240314T210326Z
UID:10001551-1713808800-1713812400@www.dubcolib.org
SUMMARY:Culture Club
DESCRIPTION:Learn about cultures from all over the world! Try a snack\, do a craft\, learn some language\, and play games from this month’s culture. April’s culture is the Navajo Nation.
URL:https://www.dubcolib.org/event/culture-club-6/
LOCATION:Holy Cross Branch\, 895 Main Street\, Holy Cross\, Iowa\, 52053
CATEGORIES:Kids
ATTACH;FMTTYPE=image/png:https://www.dubcolib.org/wp-content/uploads/2024/03/Website-Resolution-4.png
ORGANIZER;CN="Kayla Ferguson":MAILTO:kaylaf@dubcolib.org
END:VEVENT
BEGIN:VEVENT
DTSTART;TZID=America/Chicago:20240422T170000
DTEND;TZID=America/Chicago:20240422T180000
DTSTAMP:20260425T224713
CREATED:20240301T180517Z
LAST-MODIFIED:20240403T165136Z
UID:10001640-1713805200-1713808800@www.dubcolib.org
SUMMARY:Chess Club
DESCRIPTION:Welcome to the timeless game of chess! Join us for engaging lessons where beginners and seasoned players alike can sharpen their skills and learn winning tactics and strategies.
URL:https://www.dubcolib.org/event/chess-club/
LOCATION:Farley Branch\, 206 1st Street North\, Farley\, IA\, 52046
CATEGORIES:All Ages,Teens
ATTACH;FMTTYPE=image/png:https://www.dubcolib.org/wp-content/uploads/2024/03/Website-Resolution-3.png
ORGANIZER;CN="John Bogdal":MAILTO:JohnB@dubcolib.org
END:VEVENT
BEGIN:VEVENT
DTSTART;TZID=America/Chicago:20240422T163000
DTEND;TZID=America/Chicago:20240422T171500
DTSTAMP:20260425T224713
CREATED:20240209T184308Z
LAST-MODIFIED:20240416T191222Z
UID:10001546-1713803400-1713806100@www.dubcolib.org
SUMMARY:Snack on Science: Birds
DESCRIPTION:Learn about a science topic and do an experiment you can eat to go along with it. April’s topic is Birds.
URL:https://www.dubcolib.org/event/snack-on-science-birds-4/
LOCATION:Peosta Branch\, 8342 NICC Drive\, Peosta\, Iowa\, 52068
CATEGORIES:Kids
ATTACH;FMTTYPE=image/png:https://www.dubcolib.org/wp-content/uploads/2024/02/18.png
ORGANIZER;CN="Kayla Ferguson":MAILTO:kaylaf@dubcolib.org
END:VEVENT
BEGIN:VEVENT
DTSTART;TZID=America/Chicago:20240422T160000
DTEND;TZID=America/Chicago:20240422T170000
DTSTAMP:20260425T224713
CREATED:20240301T204837Z
LAST-MODIFIED:20240314T204532Z
UID:10001635-1713801600-1713805200@www.dubcolib.org
SUMMARY:Welcome to Libby!
DESCRIPTION:Learn how to browse and borrow ebooks\, audiobooks\, magazines\, and more from your local library for free! Libby is the library reading app by OverDrive\, loved by millions of readers worldwide and available to you through Dubuque County Library District!
URL:https://www.dubcolib.org/event/welcome-to-libby-2/
LOCATION:Farley Branch\, 206 1st Street North\, Farley\, IA\, 52046
CATEGORIES:Adults
ATTACH;FMTTYPE=image/png:https://www.dubcolib.org/wp-content/uploads/2024/03/16.png
ORGANIZER;CN="John Bogdal":MAILTO:JohnB@dubcolib.org
END:VEVENT
BEGIN:VEVENT
DTSTART;TZID=America/Chicago:20240422T103000
DTEND;TZID=America/Chicago:20240422T110000
DTSTAMP:20260425T224713
CREATED:20231209T160104Z
LAST-MODIFIED:20240316T144948Z
UID:10001341-1713781800-1713783600@www.dubcolib.org
SUMMARY:Storytime
DESCRIPTION:(Recommended for ages 2-5) Join Ms. Teresa for a half hour with some reading\, rhymes\, and playing with friends. No registration required.
URL:https://www.dubcolib.org/event/storytime-19/2024-04-22/
LOCATION:Epworth Branch\, 110 Bierman Road\, Epworth\, Iowa\, 52045
CATEGORIES:Preschoolers
ATTACH;FMTTYPE=image/png:https://www.dubcolib.org/wp-content/uploads/2023/12/Website-Resolution-7-1.png
ORGANIZER;CN="Teresa Jack":MAILTO:teresaj@dubcolib.org
END:VEVENT
BEGIN:VEVENT
DTSTART;TZID=America/Chicago:20240422T093000
DTEND;TZID=America/Chicago:20240422T100000
DTSTAMP:20260425T224713
CREATED:20231209T155513Z
LAST-MODIFIED:20240325T221125Z
UID:10001255-1713778200-1713780000@www.dubcolib.org
SUMMARY:Storytime
DESCRIPTION:(Recommended for ages 2-5) Join Ms. Teresa for a half hour with some reading\, rhymes\, and playing with friends.  No registration required.
URL:https://www.dubcolib.org/event/storytime-18/2024-04-22/
LOCATION:Peosta Branch\, 8342 NICC Drive\, Peosta\, Iowa\, 52068
CATEGORIES:Preschoolers
ATTACH;FMTTYPE=image/png:https://www.dubcolib.org/wp-content/uploads/2023/12/Website-Resolution-7-1.png
ORGANIZER;CN="Teresa Jack":MAILTO:teresaj@dubcolib.org
END:VEVENT
BEGIN:VEVENT
DTSTART;TZID=America/Chicago:20240420T130000
DTEND;TZID=America/Chicago:20240420T150000
DTSTAMP:20260425T224713
CREATED:20240312T220027Z
LAST-MODIFIED:20240416T162342Z
UID:10001645-1713618000-1713625200@www.dubcolib.org
SUMMARY:Caricature Sketching Class
DESCRIPTION:Join local artist Isiah Hessling from Silly Sketch to learn the art of caricature drawing. Learn how to make facial features and expressions that bring your drawings to life! Registration required.
URL:https://www.dubcolib.org/event/caricature-sketching-class-3/
LOCATION:Holy Cross Branch\, 895 Main Street\, Holy Cross\, Iowa\, 52053
CATEGORIES:Kids
ATTACH;FMTTYPE=image/png:https://www.dubcolib.org/wp-content/uploads/2024/03/Website-Resolution-6.png
ORGANIZER;CN="Kayla Ferguson":MAILTO:kaylaf@dubcolib.org
END:VEVENT
END:VCALENDAR