BEGIN:VCALENDAR
VERSION:2.0
PRODID:-//Dubuque County Library District - ECPv6.15.20//NONSGML v1.0//EN
CALSCALE:GREGORIAN
METHOD:PUBLISH
X-ORIGINAL-URL:https://www.dubcolib.org
X-WR-CALDESC:Events for Dubuque County Library District
REFRESH-INTERVAL;VALUE=DURATION:PT1H
X-Robots-Tag:noindex
X-PUBLISHED-TTL:PT1H
BEGIN:VTIMEZONE
TZID:America/Chicago
BEGIN:DAYLIGHT
TZOFFSETFROM:-0600
TZOFFSETTO:-0500
TZNAME:CDT
DTSTART:20230312T080000
END:DAYLIGHT
BEGIN:STANDARD
TZOFFSETFROM:-0500
TZOFFSETTO:-0600
TZNAME:CST
DTSTART:20231105T070000
END:STANDARD
BEGIN:DAYLIGHT
TZOFFSETFROM:-0600
TZOFFSETTO:-0500
TZNAME:CDT
DTSTART:20240310T080000
END:DAYLIGHT
BEGIN:STANDARD
TZOFFSETFROM:-0500
TZOFFSETTO:-0600
TZNAME:CST
DTSTART:20241103T070000
END:STANDARD
BEGIN:DAYLIGHT
TZOFFSETFROM:-0600
TZOFFSETTO:-0500
TZNAME:CDT
DTSTART:20250309T080000
END:DAYLIGHT
BEGIN:STANDARD
TZOFFSETFROM:-0500
TZOFFSETTO:-0600
TZNAME:CST
DTSTART:20251102T070000
END:STANDARD
END:VTIMEZONE
BEGIN:VEVENT
DTSTART;TZID=America/Chicago:20240710T090000
DTEND;TZID=America/Chicago:20240710T093000
DTSTAMP:20260423T045932
CREATED:20240503T215206Z
LAST-MODIFIED:20240503T215206Z
UID:10002629-1720602000-1720603800@www.dubcolib.org
SUMMARY:Tot Sign
DESCRIPTION:Tot Sign aims to teach a supplemental method of communication for children under 5 and their parents – used along with spoken language\, sign language gives kids a chance to tell you what they need!
URL:https://www.dubcolib.org/event/tot-sign-4/
LOCATION:Asbury Branch\, 5290 Grand Meadow Drive\, Asbury\, Iowa\, 52002
CATEGORIES:Babies & Toddlers
ATTACH;FMTTYPE=image/jpeg:https://www.dubcolib.org/wp-content/uploads/2024/05/Website-Resolution-22.jpg
ORGANIZER;CN="Teresa Jack":MAILTO:teresaj@dubcolib.org
END:VEVENT
BEGIN:VEVENT
DTSTART;TZID=America/Chicago:20240710T100000
DTEND;TZID=America/Chicago:20240710T103000
DTSTAMP:20260423T045932
CREATED:20240513T204216Z
LAST-MODIFIED:20240513T204237Z
UID:10002278-1720605600-1720607400@www.dubcolib.org
SUMMARY:Animal Stomp: Read! Have fun! Repeat!
DESCRIPTION:An exciting mixture of books\, songs\, juggling\, music\, dance\, messy art\, fingerplay\, scavenger hunts\, large motor activities and more books! Programs are designed for children 2.5 – 5\, but younger and older siblings or friends are welcome and encouraged.
URL:https://www.dubcolib.org/event/read-have-fun-repeat-5/
LOCATION:Asbury Branch\, 5290 Grand Meadow Drive\, Asbury\, Iowa\, 52002
CATEGORIES:Preschoolers
ATTACH;FMTTYPE=image/jpeg:https://www.dubcolib.org/wp-content/uploads/2024/05/Website-Resolution-20.jpg
ORGANIZER;CN="Teresa Jack":MAILTO:teresaj@dubcolib.org
END:VEVENT
BEGIN:VEVENT
DTSTART;TZID=America/Chicago:20240710T110000
DTEND;TZID=America/Chicago:20240710T120000
DTSTAMP:20260423T045932
CREATED:20240503T190917Z
LAST-MODIFIED:20240708T205639Z
UID:10001973-1720609200-1720612800@www.dubcolib.org
SUMMARY:Summer Adventures
DESCRIPTION:Stop by every week for snacks\, crafts\, games and more for kids in 1st – 5th grade. Please RSVP HERE
URL:https://www.dubcolib.org/event/summer-adventures-4/2024-07-10/
LOCATION:Epworth Branch\, 110 Bierman Road\, Epworth\, Iowa\, 52045
CATEGORIES:Kids
ATTACH;FMTTYPE=image/jpeg:https://www.dubcolib.org/wp-content/uploads/2024/05/Website-Resolution-19.jpg
ORGANIZER;CN="Teresa Jack":MAILTO:teresaj@dubcolib.org
END:VEVENT
BEGIN:VEVENT
DTSTART;TZID=America/Chicago:20240710T140000
DTEND;TZID=America/Chicago:20240710T150000
DTSTAMP:20260423T045932
CREATED:20240503T185637Z
LAST-MODIFIED:20240708T205630Z
UID:10001795-1720620000-1720623600@www.dubcolib.org
SUMMARY:Summer Adventures
DESCRIPTION:Stop by every week for snacks\, crafts\, games and more for kids in 1st – 5th grade. Please RSVP HERE
URL:https://www.dubcolib.org/event/summer-adventures/2024-07-10/
LOCATION:Asbury Branch\, 5290 Grand Meadow Drive\, Asbury\, Iowa\, 52002
CATEGORIES:Kids
ATTACH;FMTTYPE=image/jpeg:https://www.dubcolib.org/wp-content/uploads/2024/05/Website-Resolution-19.jpg
ORGANIZER;CN="Teresa Jack":MAILTO:teresaj@dubcolib.org
END:VEVENT
BEGIN:VEVENT
DTSTART;TZID=America/Chicago:20240710T180000
DTEND;TZID=America/Chicago:20240710T190000
DTSTAMP:20260423T045932
CREATED:20240504T204919Z
LAST-MODIFIED:20240504T204919Z
UID:10002650-1720634400-1720638000@www.dubcolib.org
SUMMARY:Yarn Spinners
DESCRIPTION:Calling all yarn spinners! Bring your crochet hooks and knitting needles for an evening of crafting and conversation at the library.
URL:https://www.dubcolib.org/event/yarn-spinners-6/
LOCATION:Asbury Branch\, 5290 Grand Meadow Drive\, Asbury\, Iowa\, 52002
CATEGORIES:Adults
ATTACH;FMTTYPE=image/png:https://www.dubcolib.org/wp-content/uploads/2024/03/21.png
ORGANIZER;CN="John Bogdal":MAILTO:JohnB@dubcolib.org
END:VEVENT
BEGIN:VEVENT
DTSTART;TZID=America/Chicago:20240711T130000
DTEND;TZID=America/Chicago:20240711T140000
DTSTAMP:20260423T045932
CREATED:20240503T190003Z
LAST-MODIFIED:20240513T193148Z
UID:10002707-1720702800-1720706400@www.dubcolib.org
SUMMARY:Summer Adventures
DESCRIPTION:Stop by every week for snacks\, crafts\, games and more for kids in 1st – 5th grade. Please RSVP HERE
URL:https://www.dubcolib.org/event/summer-adventures-2/2024-07-11/
LOCATION:Peosta Branch\, 8342 NICC Drive\, Peosta\, Iowa\, 52068
CATEGORIES:Kids
ATTACH;FMTTYPE=image/jpeg:https://www.dubcolib.org/wp-content/uploads/2024/05/Website-Resolution-19.jpg
ORGANIZER;CN="Teresa Jack":MAILTO:teresaj@dubcolib.org
END:VEVENT
BEGIN:VEVENT
DTSTART;TZID=America/Chicago:20240711T143000
DTEND;TZID=America/Chicago:20240711T153000
DTSTAMP:20260423T045932
CREATED:20240503T190715Z
LAST-MODIFIED:20240513T182157Z
UID:10002699-1720708200-1720711800@www.dubcolib.org
SUMMARY:Summer Adventures
DESCRIPTION:Stop by every week for snacks\, crafts\, games and more for kids in 1st – 5th grade. Please RSVP HERE
URL:https://www.dubcolib.org/event/summer-adventures-3/2024-07-11/
LOCATION:Farley Branch\, 206 1st Street North\, Farley\, IA\, 52046
CATEGORIES:Kids
ATTACH;FMTTYPE=image/jpeg:https://www.dubcolib.org/wp-content/uploads/2024/05/Website-Resolution-19.jpg
ORGANIZER;CN="Teresa Jack":MAILTO:teresaj@dubcolib.org
END:VEVENT
BEGIN:VEVENT
DTSTART;TZID=America/Chicago:20240711T160000
DTEND;TZID=America/Chicago:20240711T170000
DTSTAMP:20260423T045932
CREATED:20240503T191003Z
LAST-MODIFIED:20240513T182134Z
UID:10002691-1720713600-1720717200@www.dubcolib.org
SUMMARY:Summer Adventures
DESCRIPTION:Stop by every week for snacks\, crafts\, games and more for kids in 1st – 5th grade. Please RSVP HERE
URL:https://www.dubcolib.org/event/summer-adventures-5/2024-07-11/
LOCATION:Holy Cross Branch\, 895 Main Street\, Holy Cross\, Iowa\, 52053
CATEGORIES:Kids
ATTACH;FMTTYPE=image/jpeg:https://www.dubcolib.org/wp-content/uploads/2024/05/Website-Resolution-19.jpg
ORGANIZER;CN="Teresa Jack":MAILTO:teresaj@dubcolib.org
END:VEVENT
BEGIN:VEVENT
DTSTART;TZID=America/Chicago:20240711T163000
DTEND;TZID=America/Chicago:20240711T173000
DTSTAMP:20260423T045932
CREATED:20240503T190156Z
LAST-MODIFIED:20240617T183959Z
UID:10001775-1720715400-1720719000@www.dubcolib.org
SUMMARY:Zen and the Art of Doodling
DESCRIPTION:Unwind and find your inner calm with Zen and the Art of Doodling\, where we combine the soothing practice of meditation with the creativity of doodling. Join us to learn simple relaxation techniques and explore the art of mindfulness through expressive drawing.
URL:https://www.dubcolib.org/event/__trashed-107/
LOCATION:Farley Branch\, 206 1st Street North\, Farley\, IA\, 52046
CATEGORIES:Adults
ATTACH;FMTTYPE=image/jpeg:https://www.dubcolib.org/wp-content/uploads/2024/05/Website-Resolution-39.jpg
ORGANIZER;CN="John Bogdal":MAILTO:JohnB@dubcolib.org
END:VEVENT
BEGIN:VEVENT
DTSTART;TZID=America/Chicago:20240711T180000
DTEND;TZID=America/Chicago:20240711T190000
DTSTAMP:20260423T045932
CREATED:20240504T204450Z
LAST-MODIFIED:20240504T204450Z
UID:10002651-1720720800-1720724400@www.dubcolib.org
SUMMARY:No Pressure Book Club
DESCRIPTION:Welcome to the No Pressure Book Club\, a friendly space to chat about whatever books have captured your imagination lately. Join fellow book lovers for engaging conversations and insightful recommendations.
URL:https://www.dubcolib.org/event/no-pressure-book-club-7/
LOCATION:Farley Branch\, 206 1st Street North\, Farley\, IA\, 52046
CATEGORIES:Adults
ATTACH;FMTTYPE=image/png:https://www.dubcolib.org/wp-content/uploads/2024/03/7.png
ORGANIZER;CN="John Bogdal":MAILTO:JohnB@dubcolib.org
END:VEVENT
BEGIN:VEVENT
DTSTART;TZID=America/Chicago:20240712T170000
DTEND;TZID=America/Chicago:20240712T180000
DTSTAMP:20260423T045932
CREATED:20240504T204514Z
LAST-MODIFIED:20240504T204514Z
UID:10002652-1720803600-1720807200@www.dubcolib.org
SUMMARY:No Pressure Book Club
DESCRIPTION:Welcome to the No Pressure Book Club\, a friendly space to chat about whatever books have captured your imagination lately. Join fellow book lovers for engaging conversations and insightful recommendations.
URL:https://www.dubcolib.org/event/no-pressure-book-club-8/
LOCATION:Epworth Branch\, 110 Bierman Road\, Epworth\, Iowa\, 52045
CATEGORIES:Adults
ATTACH;FMTTYPE=image/png:https://www.dubcolib.org/wp-content/uploads/2024/03/7.png
ORGANIZER;CN="John Bogdal":MAILTO:JohnB@dubcolib.org
END:VEVENT
BEGIN:VEVENT
DTSTART;TZID=America/Chicago:20240713T110000
DTEND;TZID=America/Chicago:20240713T123000
DTSTAMP:20260423T045932
CREATED:20240506T194807Z
LAST-MODIFIED:20240702T040106Z
UID:10002642-1720868400-1720873800@www.dubcolib.org
SUMMARY:Beekeeping with Diane Thoma
DESCRIPTION:Dubuque Swiss Valley Bee Club’s Diane Thoma will be teaching the basics of beekeeping and how to get started in this rewarding hobby. This family-friendly event includes a sneak peek into an actual beehive and a honey tasting to follow.
URL:https://www.dubcolib.org/event/beekeeping-with-diane-thoma/
LOCATION:Asbury Branch\, 5290 Grand Meadow Drive\, Asbury\, Iowa\, 52002
CATEGORIES:Adults
ATTACH;FMTTYPE=image/jpeg:https://www.dubcolib.org/wp-content/uploads/2024/05/CA-Beekeeping-Classes-XD-1658-002_700x410.jpg
ORGANIZER;CN="John Bogdal":MAILTO:JohnB@dubcolib.org
END:VEVENT
BEGIN:VEVENT
DTSTART;TZID=America/Chicago:20240715T103000
DTEND;TZID=America/Chicago:20240715T110000
DTSTAMP:20260423T045932
CREATED:20240503T190128Z
LAST-MODIFIED:20240503T221737Z
UID:10002100-1721039400-1721041200@www.dubcolib.org
SUMMARY:Read! Have fun! Repeat!
DESCRIPTION:An exciting mixture of books\, songs\, juggling\, music\, dance\, messy art\, fingerplay\, scavenger hunts\, large motor activities and more books! Programs are designed for children 2.5 – 5\, but younger and older siblings or friends are welcome and encouraged.
URL:https://www.dubcolib.org/event/__trashed-77/2024-07-15/
LOCATION:Epworth Branch\, 110 Bierman Road\, Epworth\, Iowa\, 52045
CATEGORIES:Preschoolers
ATTACH;FMTTYPE=image/jpeg:https://www.dubcolib.org/wp-content/uploads/2024/05/Website-Resolution-20.jpg
ORGANIZER;CN="Teresa Jack":MAILTO:teresaj@dubcolib.org
END:VEVENT
BEGIN:VEVENT
DTSTART;TZID=America/Chicago:20240715T133000
DTEND;TZID=America/Chicago:20240715T143000
DTSTAMP:20260423T045932
CREATED:20240504T201054Z
LAST-MODIFIED:20240504T201054Z
UID:10002639-1721050200-1721053800@www.dubcolib.org
SUMMARY:Ocean Odyssey: Shark Touch Tank
DESCRIPTION:Touch live sharks! Get up close and personal with sharks\, learning how they play an important role in the ocean with Mississippi River Museum.
URL:https://www.dubcolib.org/event/ocean-odyssey-shark-touch-tank/
LOCATION:Epworth Branch\, 110 Bierman Road\, Epworth\, Iowa\, 52045
CATEGORIES:All Ages
ATTACH;FMTTYPE=image/jpeg:https://www.dubcolib.org/wp-content/uploads/2024/05/Website-Resolution-34.jpg
ORGANIZER;CN="Kayla Ferguson":MAILTO:kaylaf@dubcolib.org
END:VEVENT
BEGIN:VEVENT
DTSTART;TZID=America/Chicago:20240716T093000
DTEND;TZID=America/Chicago:20240716T100000
DTSTAMP:20260423T045932
CREATED:20240503T215806Z
LAST-MODIFIED:20240503T215806Z
UID:10002632-1721122200-1721124000@www.dubcolib.org
SUMMARY:Wiggle & Dance
DESCRIPTION:Let’s have fun with music\, scarves\, ribbons\, balloons and bubbles!  Designed for children aged 18 months – 5 years\, but all ages are welcome
URL:https://www.dubcolib.org/event/wiggle-dance-2/
LOCATION:Peosta Branch\, 8342 NICC Drive\, Peosta\, Iowa\, 52068
CATEGORIES:Preschoolers
ATTACH;FMTTYPE=image/jpeg:https://www.dubcolib.org/wp-content/uploads/2024/05/Website-Resolution-23.jpg
ORGANIZER;CN="Teresa Jack":MAILTO:teresaj@dubcolib.org
END:VEVENT
BEGIN:VEVENT
DTSTART;TZID=America/Chicago:20240716T173000
DTEND;TZID=America/Chicago:20240716T183000
DTSTAMP:20260423T045932
CREATED:20240802T224139Z
LAST-MODIFIED:20240802T224244Z
UID:10002807-1721151000-1721154600@www.dubcolib.org
SUMMARY:Dubuque County Library Board of Trustees Meeting
DESCRIPTION:The Board of Trustees will hold their monthly meeting. The agenda for this meeting and minutes from previous meetings can be found online.
URL:https://www.dubcolib.org/event/dubuque-county-library-board-of-trustees-meeting-15/
LOCATION:Asbury Branch\, 5290 Grand Meadow Drive\, Asbury\, Iowa\, 52002
CATEGORIES:All Ages
ATTACH;FMTTYPE=image/png:https://www.dubcolib.org/wp-content/uploads/2024/08/Website-Resolution-53.png
END:VEVENT
BEGIN:VEVENT
DTSTART;TZID=America/Chicago:20240716T180000
DTEND;TZID=America/Chicago:20240716T190000
DTSTAMP:20260423T045932
CREATED:20240504T220205Z
LAST-MODIFIED:20240504T220205Z
UID:10002654-1721152800-1721156400@www.dubcolib.org
SUMMARY:Trivia Night
DESCRIPTION:Test your knowledge and join us for a thrilling Trivia Night at the library! Gather your friends\, sharpen your wits\, and compete for prizes while enjoying an evening of brain-teasing fun.
URL:https://www.dubcolib.org/event/trivia-night-2/
LOCATION:Peosta Branch\, 8342 NICC Drive\, Peosta\, Iowa\, 52068
CATEGORIES:Adults
ATTACH;FMTTYPE=image/png:https://www.dubcolib.org/wp-content/uploads/2024/05/Website-Resolution-31.png
ORGANIZER;CN="John Bogdal":MAILTO:JohnB@dubcolib.org
END:VEVENT
BEGIN:VEVENT
DTSTART;TZID=America/Chicago:20240717T090000
DTEND;TZID=America/Chicago:20240717T093000
DTSTAMP:20260423T045932
CREATED:20240503T210358Z
LAST-MODIFIED:20240711T215354Z
UID:10002569-1721206800-1721208600@www.dubcolib.org
SUMMARY:Baby & Toddler Storytime
DESCRIPTION:Songs\, stories and time for playing with friends! For children 0-24 month and their older siblings.
URL:https://www.dubcolib.org/event/baby-toddler-storytime-11/2024-07-17/
LOCATION:Asbury Branch\, 5290 Grand Meadow Drive\, Asbury\, Iowa\, 52002
CATEGORIES:Babies & Toddlers
ATTACH;FMTTYPE=image/jpeg:https://www.dubcolib.org/wp-content/uploads/2024/05/Website-Resolution-21.jpg
ORGANIZER;CN="Teresa Jack":MAILTO:teresaj@dubcolib.org
END:VEVENT
BEGIN:VEVENT
DTSTART;TZID=America/Chicago:20240717T110000
DTEND;TZID=America/Chicago:20240717T120000
DTSTAMP:20260423T045932
CREATED:20240513T193908Z
LAST-MODIFIED:20240708T205224Z
UID:10002747-1721214000-1721217600@www.dubcolib.org
SUMMARY:Kids Cooking Class: Summer Adventures
DESCRIPTION:Join us at the library for our mini chef adventures sponsored by Dee Berman\, culinary adventurer and founder of the The Tangy Loaf. Dee will teach fundamental cooking techniques like mixing\, chopping\, and cooking on the stovetop. Participants will learn how to make a simple salad\, fruit kabobs\, and grilled cheese sandwiches!  For kids in grades 1st – 5th\, RSVP required.
URL:https://www.dubcolib.org/event/kids-cooking-class-summer-adventures/
LOCATION:Epworth Branch\, 110 Bierman Road\, Epworth\, Iowa\, 52045
CATEGORIES:Kids
ATTACH;FMTTYPE=image/jpeg:https://www.dubcolib.org/wp-content/uploads/2024/05/Website-Resolution-45.jpg
ORGANIZER;CN="Children's Librarian":MAILTO:LydiaS@dubcolib.org
END:VEVENT
BEGIN:VEVENT
DTSTART;TZID=America/Chicago:20240717T140000
DTEND;TZID=America/Chicago:20240717T150000
DTSTAMP:20260423T045932
CREATED:20240513T193956Z
LAST-MODIFIED:20240708T205410Z
UID:10002748-1721224800-1721228400@www.dubcolib.org
SUMMARY:Kids Cooking Class: Summer Adventures
DESCRIPTION:Join us at the library for our mini chef adventures sponsored by Dee Berman\, culinary adventurer and founder of the The Tangy Loaf. Dee will teach fundamental cooking techniques like mixing\, chopping\, and cooking on the stovetop. Participants will learn how to make a simple salad\, fruit kabobs\, and grilled cheese sandwiches!  For kids in grades 1st – 5th\, RSVP required. If this event is full\, please email JohnB@dubcolib.org to get on the waitlist
URL:https://www.dubcolib.org/event/kids-cooking-class-summer-adventures-2/
LOCATION:Asbury Branch\, 5290 Grand Meadow Drive\, Asbury\, Iowa\, 52002
CATEGORIES:Kids
ATTACH;FMTTYPE=image/jpeg:https://www.dubcolib.org/wp-content/uploads/2024/05/Website-Resolution-45.jpg
ORGANIZER;CN="Children's Librarian":MAILTO:LydiaS@dubcolib.org
END:VEVENT
BEGIN:VEVENT
DTSTART;TZID=America/Chicago:20240717T183000
DTEND;TZID=America/Chicago:20240717T193000
DTSTAMP:20260423T045932
CREATED:20240504T204805Z
LAST-MODIFIED:20240504T204805Z
UID:10002655-1721241000-1721244600@www.dubcolib.org
SUMMARY:Page Turners
DESCRIPTION:This month’s book club read is tbd. Copies available at the Asbury branch. New members should email JohnB@dubcolib.org
URL:https://www.dubcolib.org/event/page-turners-13/
LOCATION:Asbury Branch\, 5290 Grand Meadow Drive\, Asbury\, Iowa\, 52002
CATEGORIES:Adults
ATTACH;FMTTYPE=image/png:https://www.dubcolib.org/wp-content/uploads/2023/10/3rd-Wednesday-of-Every-Month-630-730-Asbury-Branch-1.png
ORGANIZER;CN="John Bogdal":MAILTO:JohnB@dubcolib.org
END:VEVENT
BEGIN:VEVENT
DTSTART;TZID=America/Chicago:20240718T130000
DTEND;TZID=America/Chicago:20240718T140000
DTSTAMP:20260423T045932
CREATED:20240503T190003Z
LAST-MODIFIED:20240513T193148Z
UID:10002708-1721307600-1721311200@www.dubcolib.org
SUMMARY:Summer Adventures
DESCRIPTION:Stop by every week for snacks\, crafts\, games and more for kids in 1st – 5th grade. Please RSVP HERE
URL:https://www.dubcolib.org/event/summer-adventures-2/2024-07-18/
LOCATION:Peosta Branch\, 8342 NICC Drive\, Peosta\, Iowa\, 52068
CATEGORIES:Kids
ATTACH;FMTTYPE=image/jpeg:https://www.dubcolib.org/wp-content/uploads/2024/05/Website-Resolution-19.jpg
ORGANIZER;CN="Teresa Jack":MAILTO:teresaj@dubcolib.org
END:VEVENT
BEGIN:VEVENT
DTSTART;TZID=America/Chicago:20240718T143000
DTEND;TZID=America/Chicago:20240718T153000
DTSTAMP:20260423T045932
CREATED:20240503T190715Z
LAST-MODIFIED:20240513T182157Z
UID:10002700-1721313000-1721316600@www.dubcolib.org
SUMMARY:Summer Adventures
DESCRIPTION:Stop by every week for snacks\, crafts\, games and more for kids in 1st – 5th grade. Please RSVP HERE
URL:https://www.dubcolib.org/event/summer-adventures-3/2024-07-18/
LOCATION:Farley Branch\, 206 1st Street North\, Farley\, IA\, 52046
CATEGORIES:Kids
ATTACH;FMTTYPE=image/jpeg:https://www.dubcolib.org/wp-content/uploads/2024/05/Website-Resolution-19.jpg
ORGANIZER;CN="Teresa Jack":MAILTO:teresaj@dubcolib.org
END:VEVENT
BEGIN:VEVENT
DTSTART;TZID=America/Chicago:20240718T160000
DTEND;TZID=America/Chicago:20240718T170000
DTSTAMP:20260423T045932
CREATED:20240503T191003Z
LAST-MODIFIED:20240513T182134Z
UID:10002692-1721318400-1721322000@www.dubcolib.org
SUMMARY:Summer Adventures
DESCRIPTION:Stop by every week for snacks\, crafts\, games and more for kids in 1st – 5th grade. Please RSVP HERE
URL:https://www.dubcolib.org/event/summer-adventures-5/2024-07-18/
LOCATION:Holy Cross Branch\, 895 Main Street\, Holy Cross\, Iowa\, 52053
CATEGORIES:Kids
ATTACH;FMTTYPE=image/jpeg:https://www.dubcolib.org/wp-content/uploads/2024/05/Website-Resolution-19.jpg
ORGANIZER;CN="Teresa Jack":MAILTO:teresaj@dubcolib.org
END:VEVENT
BEGIN:VEVENT
DTSTART;TZID=America/Chicago:20240718T180000
DTEND;TZID=America/Chicago:20240718T190000
DTSTAMP:20260423T045932
CREATED:20240504T201221Z
LAST-MODIFIED:20240715T221109Z
UID:10002640-1721325600-1721329200@www.dubcolib.org
SUMMARY:Rockin' Reptiles & Awesome Amphibians
DESCRIPTION:Learn about the amazing role that reptiles and amphibians play in nature and meet live animals from the Mississippi River Museum.\nUPDATE: This event has been rescheduled to Thursday\, 7/18.
URL:https://www.dubcolib.org/event/rockin-reptiles-awesome-amphibians/
LOCATION:Holy Cross Branch\, 895 Main Street\, Holy Cross\, Iowa\, 52053
CATEGORIES:All Ages
ATTACH;FMTTYPE=image/jpeg:https://www.dubcolib.org/wp-content/uploads/2024/05/Website-Resolution-28.jpg
ORGANIZER;CN="Kayla Ferguson":MAILTO:kaylaf@dubcolib.org
END:VEVENT
BEGIN:VEVENT
DTSTART;TZID=America/Chicago:20240718T180000
DTEND;TZID=America/Chicago:20240718T190000
DTSTAMP:20260423T045932
CREATED:20240504T220331Z
LAST-MODIFIED:20240504T220331Z
UID:10002656-1721325600-1721329200@www.dubcolib.org
SUMMARY:Trivia Night
DESCRIPTION:Test your knowledge and join us for a thrilling Trivia Night at the library! Gather your friends\, sharpen your wits\, and compete for prizes while enjoying an evening of brain-teasing fun.
URL:https://www.dubcolib.org/event/trivia-night-3/
LOCATION:Farley Branch\, 206 1st Street North\, Farley\, IA\, 52046
CATEGORIES:Adults,All Ages
ATTACH;FMTTYPE=image/png:https://www.dubcolib.org/wp-content/uploads/2024/05/Website-Resolution-31.png
ORGANIZER;CN="John Bogdal":MAILTO:JohnB@dubcolib.org
END:VEVENT
BEGIN:VEVENT
DTSTART;TZID=America/Chicago:20240719T160000
DTEND;TZID=America/Chicago:20240719T170000
DTSTAMP:20260423T045932
CREATED:20240504T204329Z
LAST-MODIFIED:20240504T204329Z
UID:10002657-1721404800-1721408400@www.dubcolib.org
SUMMARY:Ukulele Jam
DESCRIPTION:Strum into summer with our beginner ukulele program at the library! Join us for fun-filled workshops where you’ll learn to play catchy tunes. No prior experience required – just bring your enthusiasm and your ukulele\, or borrow one of ours! RSVP required.
URL:https://www.dubcolib.org/event/ukulele-jam-3/
LOCATION:Asbury Branch\, 5290 Grand Meadow Drive\, Asbury\, Iowa\, 52002
CATEGORIES:Teens
ATTACH;FMTTYPE=image/jpeg:https://www.dubcolib.org/wp-content/uploads/2024/05/Website-Resolution-30.jpg
ORGANIZER;CN="John Bogdal":MAILTO:JohnB@dubcolib.org
END:VEVENT
BEGIN:VEVENT
DTSTART;TZID=America/Chicago:20240720T110000
DTEND;TZID=America/Chicago:20240720T120000
DTSTAMP:20260423T045932
CREATED:20240513T151150Z
LAST-MODIFIED:20240513T151150Z
UID:10002714-1721473200-1721476800@www.dubcolib.org
SUMMARY:Board Game Party
DESCRIPTION:Explore our collection of board games with friends\, or bring your favorite from home!
URL:https://www.dubcolib.org/event/board-game-party/
LOCATION:Epworth Branch\, 110 Bierman Road\, Epworth\, Iowa\, 52045
CATEGORIES:All Ages
ATTACH;FMTTYPE=image/jpeg:https://www.dubcolib.org/wp-content/uploads/2024/05/Website-Resolution-41.jpg
ORGANIZER;CN="John Bogdal":MAILTO:JohnB@dubcolib.org
END:VEVENT
BEGIN:VEVENT
DTSTART;TZID=America/Chicago:20240720T130000
DTEND;TZID=America/Chicago:20240720T140000
DTSTAMP:20260423T045932
CREATED:20240513T170323Z
LAST-MODIFIED:20240513T170323Z
UID:10002715-1721480400-1721484000@www.dubcolib.org
SUMMARY:Board Game Party
DESCRIPTION:Explore our collection of board games with friends\, or bring your favorite from home!
URL:https://www.dubcolib.org/event/board-game-party-2/
LOCATION:Asbury Branch\, 5290 Grand Meadow Drive\, Asbury\, Iowa\, 52002
CATEGORIES:All Ages
ATTACH;FMTTYPE=image/jpeg:https://www.dubcolib.org/wp-content/uploads/2024/05/Website-Resolution-41.jpg
ORGANIZER;CN="John Bogdal":MAILTO:JohnB@dubcolib.org
END:VEVENT
BEGIN:VEVENT
DTSTART;TZID=America/Chicago:20240722T103000
DTEND;TZID=America/Chicago:20240722T110000
DTSTAMP:20260423T045932
CREATED:20240503T190128Z
LAST-MODIFIED:20240503T221737Z
UID:10002101-1721644200-1721646000@www.dubcolib.org
SUMMARY:Read! Have fun! Repeat!
DESCRIPTION:An exciting mixture of books\, songs\, juggling\, music\, dance\, messy art\, fingerplay\, scavenger hunts\, large motor activities and more books! Programs are designed for children 2.5 – 5\, but younger and older siblings or friends are welcome and encouraged.
URL:https://www.dubcolib.org/event/__trashed-77/2024-07-22/
LOCATION:Epworth Branch\, 110 Bierman Road\, Epworth\, Iowa\, 52045
CATEGORIES:Preschoolers
ATTACH;FMTTYPE=image/jpeg:https://www.dubcolib.org/wp-content/uploads/2024/05/Website-Resolution-20.jpg
ORGANIZER;CN="Teresa Jack":MAILTO:teresaj@dubcolib.org
END:VEVENT
END:VCALENDAR