BEGIN:VCALENDAR
VERSION:2.0
PRODID:-//Dubuque County Library District - ECPv6.15.20//NONSGML v1.0//EN
CALSCALE:GREGORIAN
METHOD:PUBLISH
X-ORIGINAL-URL:https://www.dubcolib.org
X-WR-CALDESC:Events for Dubuque County Library District
REFRESH-INTERVAL;VALUE=DURATION:PT1H
X-Robots-Tag:noindex
X-PUBLISHED-TTL:PT1H
BEGIN:VTIMEZONE
TZID:America/Chicago
BEGIN:DAYLIGHT
TZOFFSETFROM:-0600
TZOFFSETTO:-0500
TZNAME:CDT
DTSTART:20230312T080000
END:DAYLIGHT
BEGIN:STANDARD
TZOFFSETFROM:-0500
TZOFFSETTO:-0600
TZNAME:CST
DTSTART:20231105T070000
END:STANDARD
BEGIN:DAYLIGHT
TZOFFSETFROM:-0600
TZOFFSETTO:-0500
TZNAME:CDT
DTSTART:20240310T080000
END:DAYLIGHT
BEGIN:STANDARD
TZOFFSETFROM:-0500
TZOFFSETTO:-0600
TZNAME:CST
DTSTART:20241103T070000
END:STANDARD
BEGIN:DAYLIGHT
TZOFFSETFROM:-0600
TZOFFSETTO:-0500
TZNAME:CDT
DTSTART:20250309T080000
END:DAYLIGHT
BEGIN:STANDARD
TZOFFSETFROM:-0500
TZOFFSETTO:-0600
TZNAME:CST
DTSTART:20251102T070000
END:STANDARD
END:VTIMEZONE
BEGIN:VEVENT
DTSTART;TZID=America/Chicago:20240517T163000
DTEND;TZID=America/Chicago:20240517T171500
DTSTAMP:20260425T224640
CREATED:20240209T185149Z
LAST-MODIFIED:20240517T213608Z
UID:10001564-1715963400-1715966100@www.dubcolib.org
SUMMARY:Snack on Science: Solar System
DESCRIPTION:Learn about a science topic and do an experiment you can eat to go along with it. May’s topic is the Solar System.
URL:https://www.dubcolib.org/event/snack-on-science-solar-system-5/
LOCATION:Farley Branch\, 206 1st Street North\, Farley\, IA\, 52046
CATEGORIES:Kids
ATTACH;FMTTYPE=image/png:https://www.dubcolib.org/wp-content/uploads/2024/02/10.png
ORGANIZER;CN="Kayla Ferguson":MAILTO:kaylaf@dubcolib.org
END:VEVENT
BEGIN:VEVENT
DTSTART;TZID=America/Chicago:20240518T110000
DTEND;TZID=America/Chicago:20240518T120000
DTSTAMP:20260425T224640
CREATED:20240329T172358Z
LAST-MODIFIED:20240508T221328Z
UID:10001663-1716030000-1716033600@www.dubcolib.org
SUMMARY:Virtual Craft Club May
DESCRIPTION:(Ages 16+) Join us for this monthly crafting program. Registration required. May is rope coasters.
URL:https://www.dubcolib.org/event/virtual-craft-club-may/
LOCATION:Virtual
CATEGORIES:Adults
ATTACH;FMTTYPE=image/jpeg:https://www.dubcolib.org/wp-content/uploads/2024/03/Website-Resolution-10.jpg
ORGANIZER;CN="John Bogdal":MAILTO:JohnB@dubcolib.org
END:VEVENT
BEGIN:VEVENT
DTSTART;TZID=America/Chicago:20240521T110000
DTEND;TZID=America/Chicago:20240521T120000
DTSTAMP:20260425T224640
CREATED:20240226T202337Z
LAST-MODIFIED:20240326T200353Z
UID:10001599-1716289200-1716292800@www.dubcolib.org
SUMMARY:Tai Chi
DESCRIPTION:Tai Chi consists of slow\, fluid\, gentle movements. It can be practiced almost anywhere and is accessible for individuals at any fitness level.\nThis class is taught by a certified Tai Chi instructor and is suitable for beginners. Class is held Tuesday and Thursday mornings 11:00 – Noon. Registration is full for this class\, if you would like to be placed on a waitlist please email LydiaS@dubcolib.org.
URL:https://www.dubcolib.org/event/tai-chi/2024-05-21/
LOCATION:Asbury Branch\, 5290 Grand Meadow Drive\, Asbury\, Iowa\, 52002
CATEGORIES:Adults
ATTACH;FMTTYPE=image/png:https://www.dubcolib.org/wp-content/uploads/2024/02/4.png
ORGANIZER;CN="John Bogdal":MAILTO:JohnB@dubcolib.org
END:VEVENT
BEGIN:VEVENT
DTSTART;TZID=America/Chicago:20240521T163000
DTEND;TZID=America/Chicago:20240521T173000
DTSTAMP:20260425T224640
CREATED:20240301T210842Z
LAST-MODIFIED:20240301T210916Z
UID:10001566-1716309000-1716312600@www.dubcolib.org
SUMMARY:3D Pen Crafts
DESCRIPTION:Use 3D Pens to create cool keychains\, charms\, and more for all ages!
URL:https://www.dubcolib.org/event/3d-pen-craft/
LOCATION:Peosta Branch\, 8342 NICC Drive\, Peosta\, Iowa\, 52068
CATEGORIES:All Ages
ATTACH;FMTTYPE=image/webp:https://www.dubcolib.org/wp-content/uploads/2024/02/3d-pen-owl-drawing-480x480.jpg.webp
ORGANIZER;CN="Kayla Ferguson":MAILTO:kaylaf@dubcolib.org
END:VEVENT
BEGIN:VEVENT
DTSTART;TZID=America/Chicago:20240521T173000
DTEND;TZID=America/Chicago:20240521T183000
DTSTAMP:20260425T224640
CREATED:20230502T171121Z
LAST-MODIFIED:20231229T174432Z
UID:10000082-1716312600-1716316200@www.dubcolib.org
SUMMARY:Dubuque County Library Board of Trustees Meeting
DESCRIPTION:The Board of Trustees will hold their monthly meeting. The agenda for this meeting and minutes from previous meetings can be found online.
URL:https://www.dubcolib.org/event/dubuque-county-library-board-of-trustees-meeting-13/
LOCATION:Holy Cross Branch\, 895 Main Street\, Holy Cross\, Iowa\, 52053
CATEGORIES:All Ages
ATTACH;FMTTYPE=image/png:https://www.dubcolib.org/wp-content/uploads/2023/05/BoT-Img.png
ORGANIZER;CN="Amanda Sand":MAILTO:amandav@dubcolib.org
END:VEVENT
BEGIN:VEVENT
DTSTART;TZID=America/Chicago:20240522T113000
DTEND;TZID=America/Chicago:20240522T123000
DTSTAMP:20260425T224640
CREATED:20240409T184933Z
LAST-MODIFIED:20240409T184933Z
UID:10001680-1716377400-1716381000@www.dubcolib.org
SUMMARY:Tech Help Hour
DESCRIPTION:Receive practical tips and newfound confidence in navigating your technology. Students from Cornerstone Academy will be on hand to provide one-on-one assistance to attendees. RSVP recommended.
URL:https://www.dubcolib.org/event/tech-help-hour-2/
LOCATION:Asbury Branch\, 5290 Grand Meadow Drive\, Asbury\, Iowa\, 52002
CATEGORIES:Adults
ATTACH;FMTTYPE=image/png:https://www.dubcolib.org/wp-content/uploads/2024/02/9.png
ORGANIZER;CN="John Bogdal":MAILTO:JohnB@dubcolib.org
END:VEVENT
BEGIN:VEVENT
DTSTART;TZID=America/Chicago:20240522T163000
DTEND;TZID=America/Chicago:20240522T173000
DTSTAMP:20260425T224640
CREATED:20240329T173105Z
LAST-MODIFIED:20240329T173105Z
UID:10001666-1716395400-1716399000@www.dubcolib.org
SUMMARY:Chess Club
DESCRIPTION:Welcome to the timeless game of chess! Join us for engaging lessons where beginners and seasoned players alike can sharpen their skills and learn winning tactics and strategies.
URL:https://www.dubcolib.org/event/chess-club-5/
LOCATION:Asbury Branch\, 5290 Grand Meadow Drive\, Asbury\, Iowa\, 52002
CATEGORIES:Teens
ATTACH;FMTTYPE=image/png:https://www.dubcolib.org/wp-content/uploads/2024/03/Website-Resolution-3.png
ORGANIZER;CN="John Bogdal":MAILTO:JohnB@dubcolib.org
END:VEVENT
BEGIN:VEVENT
DTSTART;TZID=America/Chicago:20240523T110000
DTEND;TZID=America/Chicago:20240523T120000
DTSTAMP:20260425T224640
CREATED:20240226T202337Z
LAST-MODIFIED:20240326T200353Z
UID:10001600-1716462000-1716465600@www.dubcolib.org
SUMMARY:Tai Chi
DESCRIPTION:Tai Chi consists of slow\, fluid\, gentle movements. It can be practiced almost anywhere and is accessible for individuals at any fitness level.\nThis class is taught by a certified Tai Chi instructor and is suitable for beginners. Class is held Tuesday and Thursday mornings 11:00 – Noon. Registration is full for this class\, if you would like to be placed on a waitlist please email LydiaS@dubcolib.org.
URL:https://www.dubcolib.org/event/tai-chi/2024-05-23/
LOCATION:Asbury Branch\, 5290 Grand Meadow Drive\, Asbury\, Iowa\, 52002
CATEGORIES:Adults
ATTACH;FMTTYPE=image/png:https://www.dubcolib.org/wp-content/uploads/2024/02/4.png
ORGANIZER;CN="John Bogdal":MAILTO:JohnB@dubcolib.org
END:VEVENT
BEGIN:VEVENT
DTSTART;TZID=America/Chicago:20240523T163000
DTEND;TZID=America/Chicago:20240523T173000
DTSTAMP:20260425T224640
CREATED:20240301T210936Z
LAST-MODIFIED:20240301T210936Z
UID:10001568-1716481800-1716485400@www.dubcolib.org
SUMMARY:3D Pen Crafts
DESCRIPTION:Use 3D Pens to create cool keychains\, charms\, and more for all ages!
URL:https://www.dubcolib.org/event/3d-pen-crafts-2/
LOCATION:Asbury Branch\, 5290 Grand Meadow Drive\, Asbury\, Iowa\, 52002
CATEGORIES:All Ages
ATTACH;FMTTYPE=image/webp:https://www.dubcolib.org/wp-content/uploads/2024/02/3d-pen-owl-drawing-480x480.jpg.webp
ORGANIZER;CN="Kayla Ferguson":MAILTO:kaylaf@dubcolib.org
END:VEVENT
BEGIN:VEVENT
DTSTART;TZID=America/Chicago:20240523T163000
DTEND;TZID=America/Chicago:20240523T173000
DTSTAMP:20260425T224640
CREATED:20240329T173117Z
LAST-MODIFIED:20240329T173117Z
UID:10001667-1716481800-1716485400@www.dubcolib.org
SUMMARY:Chess Club
DESCRIPTION:Welcome to the timeless game of chess! Join us for engaging lessons where beginners and seasoned players alike can sharpen their skills and learn winning tactics and strategies.
URL:https://www.dubcolib.org/event/chess-club-6/
LOCATION:Farley Branch\, 206 1st Street North\, Farley\, IA\, 52046
CATEGORIES:Teens
ATTACH;FMTTYPE=image/png:https://www.dubcolib.org/wp-content/uploads/2024/03/Website-Resolution-3.png
ORGANIZER;CN="John Bogdal":MAILTO:JohnB@dubcolib.org
END:VEVENT
BEGIN:VEVENT
DTSTART;TZID=America/Chicago:20240524T110000
DTEND;TZID=America/Chicago:20240524T120000
DTSTAMP:20260425T224640
CREATED:20240409T182756Z
LAST-MODIFIED:20240415T222948Z
UID:10001673-1716548400-1716552000@www.dubcolib.org
SUMMARY:Chair Yoga
DESCRIPTION:Come and stretch your body in the most relaxed way… from your chair! You’ll get a full body strength and stretching workout from head to toe every time in only 60 minutes! This is a 4 week class\, May 24th – June 14th. \nRSVP Required by May 24th.
URL:https://www.dubcolib.org/event/chair-yoga/
LOCATION:Asbury Branch\, 5290 Grand Meadow Drive\, Asbury\, Iowa\, 52002
CATEGORIES:Adults
ATTACH;FMTTYPE=image/jpeg:https://www.dubcolib.org/wp-content/uploads/2024/04/Website-Resolution-15.jpg
ORGANIZER;CN="John Bogdal":MAILTO:JohnB@dubcolib.org
END:VEVENT
BEGIN:VEVENT
DTSTART;TZID=America/Chicago:20240524T163000
DTEND;TZID=America/Chicago:20240524T173000
DTSTAMP:20260425T224640
CREATED:20240301T210853Z
LAST-MODIFIED:20240301T211601Z
UID:10001569-1716568200-1716571800@www.dubcolib.org
SUMMARY:3D Pen Crafts
DESCRIPTION:Use 3D Pens to create cool keychains\, charms\, and more for all ages!
URL:https://www.dubcolib.org/event/3d-pen-craft-2/
LOCATION:Farley Branch\, 206 1st Street North\, Farley\, IA\, 52046
CATEGORIES:All Ages
ATTACH;FMTTYPE=image/webp:https://www.dubcolib.org/wp-content/uploads/2024/02/3d-pen-owl-drawing-480x480.jpg.webp
ORGANIZER;CN="Kayla Ferguson":MAILTO:kaylaf@dubcolib.org
END:VEVENT
BEGIN:VEVENT
DTSTART;VALUE=DATE:20240527
DTEND;VALUE=DATE:20240528
DTSTAMP:20260425T224640
CREATED:20230809T194210Z
LAST-MODIFIED:20240504T233745Z
UID:10000421-1716768000-1716854399@www.dubcolib.org
SUMMARY:All DCLD Branches Closed for Memorial Day
DESCRIPTION:
URL:https://www.dubcolib.org/event/all-dcld-branches-closed-for-memorial-day/
END:VEVENT
BEGIN:VEVENT
DTSTART;TZID=America/Chicago:20240528T110000
DTEND;TZID=America/Chicago:20240528T120000
DTSTAMP:20260425T224640
CREATED:20240226T202337Z
LAST-MODIFIED:20240326T200353Z
UID:10001601-1716894000-1716897600@www.dubcolib.org
SUMMARY:Tai Chi
DESCRIPTION:Tai Chi consists of slow\, fluid\, gentle movements. It can be practiced almost anywhere and is accessible for individuals at any fitness level.\nThis class is taught by a certified Tai Chi instructor and is suitable for beginners. Class is held Tuesday and Thursday mornings 11:00 – Noon. Registration is full for this class\, if you would like to be placed on a waitlist please email LydiaS@dubcolib.org.
URL:https://www.dubcolib.org/event/tai-chi/2024-05-28/
LOCATION:Asbury Branch\, 5290 Grand Meadow Drive\, Asbury\, Iowa\, 52002
CATEGORIES:Adults
ATTACH;FMTTYPE=image/png:https://www.dubcolib.org/wp-content/uploads/2024/02/4.png
ORGANIZER;CN="John Bogdal":MAILTO:JohnB@dubcolib.org
END:VEVENT
BEGIN:VEVENT
DTSTART;TZID=America/Chicago:20240528T163000
DTEND;TZID=America/Chicago:20240528T173000
DTSTAMP:20260425T224640
CREATED:20240329T173132Z
LAST-MODIFIED:20240329T173132Z
UID:10001668-1716913800-1716917400@www.dubcolib.org
SUMMARY:Chess Club
DESCRIPTION:Welcome to the timeless game of chess! Join us for engaging lessons where beginners and seasoned players alike can sharpen their skills and learn winning tactics and strategies.
URL:https://www.dubcolib.org/event/chess-club-7/
LOCATION:Peosta Branch\, 8342 NICC Drive\, Peosta\, Iowa\, 52068
CATEGORIES:Teens
ATTACH;FMTTYPE=image/png:https://www.dubcolib.org/wp-content/uploads/2024/03/Website-Resolution-3.png
ORGANIZER;CN="John Bogdal":MAILTO:JohnB@dubcolib.org
END:VEVENT
BEGIN:VEVENT
DTSTART;TZID=America/Chicago:20240528T173000
DTEND;TZID=America/Chicago:20240528T183000
DTSTAMP:20260425T224640
CREATED:20240425T193454Z
LAST-MODIFIED:20240521T215135Z
UID:10001681-1716917400-1716921000@www.dubcolib.org
SUMMARY:Houseplant Clinic
DESCRIPTION:The plant doctor is IN!  \nHave questions about your houseplants? Bring your plants\, photos\, and/or questions to Laura\, owner of Planted in Dubuque for an open “Clinic” and preliminary plant diagnostic services.\nLaura will help address pest management and pest identification\, watering challenges\, lighting\, and other common houseplant issues to help you and your houseplants thrive!  \nLaura has a Horticulture Degree from Iowa State University with over fifteen years of experience growing\, teaching\, tending\, and admiring tropical plants\, growing food\, and teaching people about plants. Laura has a true passion for building community around plants. Sponsored by the Friends of the Dubuque County Library District. \nThe clinic is free and open to all\, drop-ins welcome\, attendees who RSVP will be given priority.
URL:https://www.dubcolib.org/event/houseplant-clinic-3/
LOCATION:Peosta Branch\, 8342 NICC Drive\, Peosta\, Iowa\, 52068
CATEGORIES:Adults
ATTACH;FMTTYPE=image/png:https://www.dubcolib.org/wp-content/uploads/2024/03/15.png
ORGANIZER;CN="John Bogdal":MAILTO:JohnB@dubcolib.org
END:VEVENT
BEGIN:VEVENT
DTSTART;TZID=America/Chicago:20240530T110000
DTEND;TZID=America/Chicago:20240530T120000
DTSTAMP:20260425T224640
CREATED:20240226T202337Z
LAST-MODIFIED:20240326T200353Z
UID:10001602-1717066800-1717070400@www.dubcolib.org
SUMMARY:Tai Chi
DESCRIPTION:Tai Chi consists of slow\, fluid\, gentle movements. It can be practiced almost anywhere and is accessible for individuals at any fitness level.\nThis class is taught by a certified Tai Chi instructor and is suitable for beginners. Class is held Tuesday and Thursday mornings 11:00 – Noon. Registration is full for this class\, if you would like to be placed on a waitlist please email LydiaS@dubcolib.org.
URL:https://www.dubcolib.org/event/tai-chi/2024-05-30/
LOCATION:Asbury Branch\, 5290 Grand Meadow Drive\, Asbury\, Iowa\, 52002
CATEGORIES:Adults
ATTACH;FMTTYPE=image/png:https://www.dubcolib.org/wp-content/uploads/2024/02/4.png
ORGANIZER;CN="John Bogdal":MAILTO:JohnB@dubcolib.org
END:VEVENT
BEGIN:VEVENT
DTSTART;TZID=America/Chicago:20240530T163000
DTEND;TZID=America/Chicago:20240530T173000
DTSTAMP:20260425T224640
CREATED:20240330T171030Z
LAST-MODIFIED:20240330T171030Z
UID:10001670-1717086600-1717090200@www.dubcolib.org
SUMMARY:Chess Club
DESCRIPTION:Welcome to the timeless game of chess! Join us for engaging lessons where beginners and seasoned players alike can sharpen their skills and learn winning tactics and strategies.
URL:https://www.dubcolib.org/event/chess-club-8/
LOCATION:Epworth Branch\, 110 Bierman Road\, Epworth\, Iowa\, 52045
CATEGORIES:Teens
ATTACH;FMTTYPE=image/png:https://www.dubcolib.org/wp-content/uploads/2024/03/Website-Resolution-3.png
ORGANIZER;CN="John Bogdal":MAILTO:JohnB@dubcolib.org
END:VEVENT
BEGIN:VEVENT
DTSTART;TZID=America/Chicago:20240530T180000
DTEND;TZID=America/Chicago:20240530T190000
DTSTAMP:20260425T224640
CREATED:20240330T171228Z
LAST-MODIFIED:20240330T171403Z
UID:10001671-1717092000-1717095600@www.dubcolib.org
SUMMARY:Yarn Spinners
DESCRIPTION:Calling all handicrafters! Bring your crochet hooks and knitting needles for an evening of crafting and conversation at the library.
URL:https://www.dubcolib.org/event/yarn-spinners-5/
LOCATION:Epworth Branch\, 110 Bierman Road\, Epworth\, Iowa\, 52045
CATEGORIES:Adults
ATTACH;FMTTYPE=image/png:https://www.dubcolib.org/wp-content/uploads/2024/03/21.png
ORGANIZER;CN="John Bogdal":MAILTO:JohnB@dubcolib.org
END:VEVENT
BEGIN:VEVENT
DTSTART;TZID=America/Chicago:20240531T110000
DTEND;TZID=America/Chicago:20240531T120000
DTSTAMP:20260425T224640
CREATED:20240409T182934Z
LAST-MODIFIED:20240415T223032Z
UID:10001674-1717153200-1717156800@www.dubcolib.org
SUMMARY:Chair Yoga
DESCRIPTION:Come and stretch your body in the most relaxed way… from your chair! You’ll get a full body strength and stretching workout from head to toe every time in only 60 minutes! This is a 4 week class\, May 24th – June 14th. \nRSVP HERE by May 24th
URL:https://www.dubcolib.org/event/chair-yoga-2/
LOCATION:Asbury Branch\, 5290 Grand Meadow Drive\, Asbury\, Iowa\, 52002
CATEGORIES:Adults
ATTACH;FMTTYPE=image/jpeg:https://www.dubcolib.org/wp-content/uploads/2024/04/Website-Resolution-15.jpg
ORGANIZER;CN="John Bogdal":MAILTO:JohnB@dubcolib.org
END:VEVENT
BEGIN:VEVENT
DTSTART;TZID=America/Chicago:20240531T170000
DTEND;TZID=America/Chicago:20240531T180000
DTSTAMP:20260425T224640
CREATED:20240330T171500Z
LAST-MODIFIED:20240330T171500Z
UID:10001672-1717174800-1717178400@www.dubcolib.org
SUMMARY:No Pressure Book Club
DESCRIPTION:Welcome to the No Pressure Book Club\, a friendly space to chat about whatever books have captured your imagination lately. Join fellow book lovers for engaging conversations and insightful recommendations.
URL:https://www.dubcolib.org/event/no-pressure-book-club-4/
LOCATION:Asbury Branch\, 5290 Grand Meadow Drive\, Asbury\, Iowa\, 52002
CATEGORIES:Adults
ATTACH;FMTTYPE=image/png:https://www.dubcolib.org/wp-content/uploads/2024/03/7.png
ORGANIZER;CN="John Bogdal":MAILTO:JohnB@dubcolib.org
END:VEVENT
BEGIN:VEVENT
DTSTART;TZID=America/Chicago:20240601T103000
DTEND;TZID=America/Chicago:20240601T113000
DTSTAMP:20260425T224640
CREATED:20240409T184027Z
LAST-MODIFIED:20240409T184134Z
UID:10001677-1717237800-1717241400@www.dubcolib.org
SUMMARY:Summer Kick-Off Party!
DESCRIPTION:Read\, Renew\, Repeat! Start summer off with crafts\, games\, snacks and more!
URL:https://www.dubcolib.org/event/summer-kick-off-party/
LOCATION:Peosta Branch\, 8342 NICC Drive\, Peosta\, Iowa\, 52068
CATEGORIES:All Ages
ATTACH;FMTTYPE=image/jpeg:https://www.dubcolib.org/wp-content/uploads/2024/04/Website-Resolution-16.jpg
ORGANIZER;CN="Kayla Ferguson":MAILTO:kaylaf@dubcolib.org
END:VEVENT
BEGIN:VEVENT
DTSTART;TZID=America/Chicago:20240601T130000
DTEND;TZID=America/Chicago:20240601T140000
DTSTAMP:20260425T224640
CREATED:20240409T184110Z
LAST-MODIFIED:20240409T184130Z
UID:10001678-1717246800-1717250400@www.dubcolib.org
SUMMARY:Summer Kick-Off Party!
DESCRIPTION:Read\, Renew\, Repeat! Start summer off with crafts\, games\, snacks and more!
URL:https://www.dubcolib.org/event/summer-kick-off-party-2/
LOCATION:Holy Cross Branch\, 895 Main Street\, Holy Cross\, Iowa\, 52053
CATEGORIES:All Ages
ATTACH;FMTTYPE=image/jpeg:https://www.dubcolib.org/wp-content/uploads/2024/04/Website-Resolution-16.jpg
ORGANIZER;CN="Kayla Ferguson":MAILTO:kaylaf@dubcolib.org
END:VEVENT
BEGIN:VEVENT
DTSTART;TZID=America/Chicago:20240603T103000
DTEND;TZID=America/Chicago:20240603T110000
DTSTAMP:20260425T224640
CREATED:20240513T211207Z
LAST-MODIFIED:20240513T211535Z
UID:10001745-1717410600-1717412400@www.dubcolib.org
SUMMARY:Cardboard Creations: Read! Have fun! Repeat!
DESCRIPTION:An exciting mixture of books\, songs\, juggling\, music\, dance\, messy art\, fingerplay\, scavenger hunts\, large motor activities and more books! Programs are designed for children 2.5 – 5\, but younger and older siblings or friends are welcome and encouraged.
URL:https://www.dubcolib.org/event/__trashed-77-2/
LOCATION:Epworth Branch\, 110 Bierman Road\, Epworth\, Iowa\, 52045
CATEGORIES:Preschoolers
ATTACH;FMTTYPE=image/jpeg:https://www.dubcolib.org/wp-content/uploads/2024/05/Website-Resolution-20.jpg
ORGANIZER;CN="Teresa Jack":MAILTO:teresaj@dubcolib.org
END:VEVENT
BEGIN:VEVENT
DTSTART;TZID=America/Chicago:20240604T090000
DTEND;TZID=America/Chicago:20240604T093000
DTSTAMP:20260425T224640
CREATED:20240503T190129Z
LAST-MODIFIED:20240711T215334Z
UID:10001746-1717491600-1717493400@www.dubcolib.org
SUMMARY:Baby & Toddler Storytime
DESCRIPTION:Songs\, stories and time for playing with friends! For children 0-24 month and their older siblings.
URL:https://www.dubcolib.org/event/__trashed-78/2024-06-04/
LOCATION:Peosta Branch\, 8342 NICC Drive\, Peosta\, Iowa\, 52068
CATEGORIES:Babies & Toddlers
ATTACH;FMTTYPE=image/jpeg:https://www.dubcolib.org/wp-content/uploads/2024/05/Website-Resolution-21.jpg
ORGANIZER;CN="Teresa Jack":MAILTO:teresaj@dubcolib.org
END:VEVENT
BEGIN:VEVENT
DTSTART;TZID=America/Chicago:20240604T163000
DTEND;TZID=America/Chicago:20240604T173000
DTSTAMP:20260425T224640
CREATED:20240503T190132Z
LAST-MODIFIED:20240504T223418Z
UID:10001761-1717518600-1717522200@www.dubcolib.org
SUMMARY:Life Skills: Domestic Edition
DESCRIPTION:Join us at the library for our Life Skills Workshop\, where teens can learn how to sew a button and master the art of laundry folding. Gain practical skills in a fun and interactive environment.
URL:https://www.dubcolib.org/event/__trashed-93/
LOCATION:Peosta Branch\, 8342 NICC Drive\, Peosta\, Iowa\, 52068
CATEGORIES:Teens
ATTACH;FMTTYPE=image/jpeg:https://www.dubcolib.org/wp-content/uploads/2024/05/Website-Resolution-38.jpg
ORGANIZER;CN="John Bogdal":MAILTO:JohnB@dubcolib.org
END:VEVENT
BEGIN:VEVENT
DTSTART;TZID=America/Chicago:20240605T090000
DTEND;TZID=America/Chicago:20240605T093000
DTSTAMP:20260425T224640
CREATED:20240503T210358Z
LAST-MODIFIED:20240711T215354Z
UID:10002567-1717578000-1717579800@www.dubcolib.org
SUMMARY:Baby & Toddler Storytime
DESCRIPTION:Songs\, stories and time for playing with friends! For children 0-24 month and their older siblings.
URL:https://www.dubcolib.org/event/baby-toddler-storytime-11/2024-06-05/
LOCATION:Asbury Branch\, 5290 Grand Meadow Drive\, Asbury\, Iowa\, 52002
CATEGORIES:Babies & Toddlers
ATTACH;FMTTYPE=image/jpeg:https://www.dubcolib.org/wp-content/uploads/2024/05/Website-Resolution-21.jpg
ORGANIZER;CN="Teresa Jack":MAILTO:teresaj@dubcolib.org
END:VEVENT
BEGIN:VEVENT
DTSTART;TZID=America/Chicago:20240605T100000
DTEND;TZID=America/Chicago:20240605T103000
DTSTAMP:20260425T224640
CREATED:20240513T203901Z
LAST-MODIFIED:20240513T204042Z
UID:10002274-1717581600-1717583400@www.dubcolib.org
SUMMARY:Read! Have fun! Repeat! KICK OFF PARTY!
DESCRIPTION:Let’s kick-off summer to a great start! Meet us in the Asbury Park Pavilion for books\, songs\, and more with Dubuque Leisure Services! Designed for children 2.5 – 5\, but younger and older siblings or friends are welcome and encouraged.
URL:https://www.dubcolib.org/event/read-have-fun-repeat-3/
LOCATION:Asbury Branch\, 5290 Grand Meadow Drive\, Asbury\, Iowa\, 52002
CATEGORIES:Preschoolers
ATTACH;FMTTYPE=image/jpeg:https://www.dubcolib.org/wp-content/uploads/2024/05/Website-Resolution-20.jpg
ORGANIZER;CN="Teresa Jack":MAILTO:teresaj@dubcolib.org
END:VEVENT
BEGIN:VEVENT
DTSTART;TZID=America/Chicago:20240605T110000
DTEND;TZID=America/Chicago:20240605T120000
DTSTAMP:20260425T224640
CREATED:20240503T190917Z
LAST-MODIFIED:20240708T205639Z
UID:10001786-1717585200-1717588800@www.dubcolib.org
SUMMARY:Summer Adventures
DESCRIPTION:Stop by every week for snacks\, crafts\, games and more for kids in 1st – 5th grade. Please RSVP HERE
URL:https://www.dubcolib.org/event/summer-adventures-4/2024-06-05/
LOCATION:Epworth Branch\, 110 Bierman Road\, Epworth\, Iowa\, 52045
CATEGORIES:Kids
ATTACH;FMTTYPE=image/jpeg:https://www.dubcolib.org/wp-content/uploads/2024/05/Website-Resolution-19.jpg
ORGANIZER;CN="Teresa Jack":MAILTO:teresaj@dubcolib.org
END:VEVENT
BEGIN:VEVENT
DTSTART;TZID=America/Chicago:20240605T140000
DTEND;TZID=America/Chicago:20240605T150000
DTSTAMP:20260425T224640
CREATED:20240503T185637Z
LAST-MODIFIED:20240708T205630Z
UID:10001785-1717596000-1717599600@www.dubcolib.org
SUMMARY:Summer Adventures
DESCRIPTION:Stop by every week for snacks\, crafts\, games and more for kids in 1st – 5th grade. Please RSVP HERE
URL:https://www.dubcolib.org/event/summer-adventures/2024-06-05/
LOCATION:Asbury Branch\, 5290 Grand Meadow Drive\, Asbury\, Iowa\, 52002
CATEGORIES:Kids
ATTACH;FMTTYPE=image/jpeg:https://www.dubcolib.org/wp-content/uploads/2024/05/Website-Resolution-19.jpg
ORGANIZER;CN="Teresa Jack":MAILTO:teresaj@dubcolib.org
END:VEVENT
END:VCALENDAR