BEGIN:VCALENDAR
VERSION:2.0
PRODID:-//Dubuque County Library District - ECPv6.15.20//NONSGML v1.0//EN
CALSCALE:GREGORIAN
METHOD:PUBLISH
X-ORIGINAL-URL:https://www.dubcolib.org
X-WR-CALDESC:Events for Dubuque County Library District
REFRESH-INTERVAL;VALUE=DURATION:PT1H
X-Robots-Tag:noindex
X-PUBLISHED-TTL:PT1H
BEGIN:VTIMEZONE
TZID:America/Chicago
BEGIN:DAYLIGHT
TZOFFSETFROM:-0600
TZOFFSETTO:-0500
TZNAME:CDT
DTSTART:20230312T080000
END:DAYLIGHT
BEGIN:STANDARD
TZOFFSETFROM:-0500
TZOFFSETTO:-0600
TZNAME:CST
DTSTART:20231105T070000
END:STANDARD
BEGIN:DAYLIGHT
TZOFFSETFROM:-0600
TZOFFSETTO:-0500
TZNAME:CDT
DTSTART:20240310T080000
END:DAYLIGHT
BEGIN:STANDARD
TZOFFSETFROM:-0500
TZOFFSETTO:-0600
TZNAME:CST
DTSTART:20241103T070000
END:STANDARD
BEGIN:DAYLIGHT
TZOFFSETFROM:-0600
TZOFFSETTO:-0500
TZNAME:CDT
DTSTART:20250309T080000
END:DAYLIGHT
BEGIN:STANDARD
TZOFFSETFROM:-0500
TZOFFSETTO:-0600
TZNAME:CST
DTSTART:20251102T070000
END:STANDARD
END:VTIMEZONE
BEGIN:VEVENT
DTSTART;TZID=America/Chicago:20240506T093000
DTEND;TZID=America/Chicago:20240506T100000
DTSTAMP:20260425T221146
CREATED:20231209T155513Z
LAST-MODIFIED:20240325T221125Z
UID:10001257-1714987800-1714989600@www.dubcolib.org
SUMMARY:Storytime
DESCRIPTION:(Recommended for ages 2-5) Join Ms. Teresa for a half hour with some reading\, rhymes\, and playing with friends.  No registration required.
URL:https://www.dubcolib.org/event/storytime-18/2024-05-06/
LOCATION:Peosta Branch\, 8342 NICC Drive\, Peosta\, Iowa\, 52068
CATEGORIES:Preschoolers
ATTACH;FMTTYPE=image/png:https://www.dubcolib.org/wp-content/uploads/2023/12/Website-Resolution-7-1.png
ORGANIZER;CN="Teresa Jack":MAILTO:teresaj@dubcolib.org
END:VEVENT
BEGIN:VEVENT
DTSTART;TZID=America/Chicago:20240506T103000
DTEND;TZID=America/Chicago:20240506T110000
DTSTAMP:20260425T221146
CREATED:20231209T160104Z
LAST-MODIFIED:20240316T144948Z
UID:10001343-1714991400-1714993200@www.dubcolib.org
SUMMARY:Storytime
DESCRIPTION:(Recommended for ages 2-5) Join Ms. Teresa for a half hour with some reading\, rhymes\, and playing with friends. No registration required.
URL:https://www.dubcolib.org/event/storytime-19/2024-05-06/
LOCATION:Epworth Branch\, 110 Bierman Road\, Epworth\, Iowa\, 52045
CATEGORIES:Preschoolers
ATTACH;FMTTYPE=image/png:https://www.dubcolib.org/wp-content/uploads/2023/12/Website-Resolution-7-1.png
ORGANIZER;CN="Teresa Jack":MAILTO:teresaj@dubcolib.org
END:VEVENT
BEGIN:VEVENT
DTSTART;TZID=America/Chicago:20240506T163000
DTEND;TZID=America/Chicago:20240506T170000
DTSTAMP:20260425T221146
CREATED:20240209T184509Z
LAST-MODIFIED:20240314T203240Z
UID:10001554-1715013000-1715014800@www.dubcolib.org
SUMMARY:Kids Craft Club: Glitter Galaxy Slime.
DESCRIPTION:Join Miss Kayla for a monthly craft. May’s craft is glitter galaxy slime.
URL:https://www.dubcolib.org/event/kids-craft-club-glitter-galaxy-slime-5/
LOCATION:Epworth Branch\, 110 Bierman Road\, Epworth\, Iowa\, 52045
CATEGORIES:Kids
ATTACH;FMTTYPE=image/png:https://www.dubcolib.org/wp-content/uploads/2024/02/20.png
ORGANIZER;CN="Kayla Ferguson":MAILTO:kaylaf@dubcolib.org
END:VEVENT
BEGIN:VEVENT
DTSTART;TZID=America/Chicago:20240506T180000
DTEND;TZID=America/Chicago:20240506T183000
DTSTAMP:20260425T221146
CREATED:20240209T183715Z
LAST-MODIFIED:20240314T203228Z
UID:10001555-1715018400-1715020200@www.dubcolib.org
SUMMARY:Kids Craft Club: Glitter Galaxy Slime
DESCRIPTION:Join Miss Kayla for a monthly craft. May’s craft is glitter galaxy slime.
URL:https://www.dubcolib.org/event/kids-craft-club-glitter-galaxy-slime/
LOCATION:Holy Cross Branch\, 895 Main Street\, Holy Cross\, Iowa\, 52053
CATEGORIES:Kids
ATTACH;FMTTYPE=image/png:https://www.dubcolib.org/wp-content/uploads/2024/02/20.png
ORGANIZER;CN="Kayla Ferguson":MAILTO:kaylaf@dubcolib.org
END:VEVENT
BEGIN:VEVENT
DTSTART;TZID=America/Chicago:20240506T180000
DTEND;TZID=America/Chicago:20240506T190000
DTSTAMP:20260425T221146
CREATED:20240318T164554Z
LAST-MODIFIED:20240318T174052Z
UID:10001647-1715018400-1715022000@www.dubcolib.org
SUMMARY:Document Organization with Organizer Jessi
DESCRIPTION:Paper\, paper\, paper! \nLet’s talk about daily mail\, bills\, action items\, subscriptions\, business cards\, proof of identity\, our ownership\, legal\, financial and tax documents; not to mention\, family pieces and keepsakes; the list seems endless and overwhelming! Add to that\, there’s our collection of electronic documents! \nJoin Professional Organizer Jessi Bushman as she shares methods and ideas to create both a short term filing system and a long term accessible system for storing all the many documents we have to maintain throughout our life. \nOnce we identify what we have\, and where it’s stored\, we relieve the stress for ourselves\, our loved ones and our care takers. \nRSVP Recommended.
URL:https://www.dubcolib.org/event/document-organization-with-organizer-jessie/
LOCATION:Asbury Branch\, 5290 Grand Meadow Drive\, Asbury\, Iowa\, 52002
CATEGORIES:Adults
ATTACH;FMTTYPE=image/png:https://www.dubcolib.org/wp-content/uploads/2024/02/8.png
ORGANIZER;CN="John Bogdal":MAILTO:JohnB@dubcolib.org
END:VEVENT
BEGIN:VEVENT
DTSTART;TZID=America/Chicago:20240507T090000
DTEND;TZID=America/Chicago:20240507T093000
DTSTAMP:20260425T221146
CREATED:20231209T171053Z
LAST-MODIFIED:20240316T144054Z
UID:10001428-1715072400-1715074200@www.dubcolib.org
SUMMARY:Baby & Toddler Storytime
DESCRIPTION:Songs\, stories and socializing for children 0-2 and their big siblings and caregivers.
URL:https://www.dubcolib.org/event/baby-toddler-storytime-9/2024-05-07/
LOCATION:Peosta Branch\, 8342 NICC Drive\, Peosta\, Iowa\, 52068
CATEGORIES:Babies & Toddlers
ATTACH;FMTTYPE=image/png:https://www.dubcolib.org/wp-content/uploads/2023/12/Website-Resolution-8.png
ORGANIZER;CN="Teresa Jack":MAILTO:teresaj@dubcolib.org
END:VEVENT
BEGIN:VEVENT
DTSTART;TZID=America/Chicago:20240507T100000
DTEND;TZID=America/Chicago:20240507T103000
DTSTAMP:20260425T221146
CREATED:20231209T165017Z
LAST-MODIFIED:20240316T144925Z
UID:10001377-1715076000-1715077800@www.dubcolib.org
SUMMARY:Storytime
DESCRIPTION:(Recommended for ages 2-5) Join Ms. Teresa for a half hour with some reading\, rhymes\, and playing with friends.  No registration required.
URL:https://www.dubcolib.org/event/storytime-20/2024-05-07/
LOCATION:Farley Branch\, 206 1st Street North\, Farley\, IA\, 52046
CATEGORIES:Preschoolers
ATTACH;FMTTYPE=image/png:https://www.dubcolib.org/wp-content/uploads/2023/12/Website-Resolution-7-1.png
ORGANIZER;CN="Teresa Jack":MAILTO:teresaj@dubcolib.org
END:VEVENT
BEGIN:VEVENT
DTSTART;TZID=America/Chicago:20240507T110000
DTEND;TZID=America/Chicago:20240507T120000
DTSTAMP:20260425T221146
CREATED:20240226T202337Z
LAST-MODIFIED:20240326T200353Z
UID:10001595-1715079600-1715083200@www.dubcolib.org
SUMMARY:Tai Chi
DESCRIPTION:Tai Chi consists of slow\, fluid\, gentle movements. It can be practiced almost anywhere and is accessible for individuals at any fitness level.\nThis class is taught by a certified Tai Chi instructor and is suitable for beginners. Class is held Tuesday and Thursday mornings 11:00 – Noon. Registration is full for this class\, if you would like to be placed on a waitlist please email LydiaS@dubcolib.org.
URL:https://www.dubcolib.org/event/tai-chi/2024-05-07/
LOCATION:Asbury Branch\, 5290 Grand Meadow Drive\, Asbury\, Iowa\, 52002
CATEGORIES:Adults
ATTACH;FMTTYPE=image/png:https://www.dubcolib.org/wp-content/uploads/2024/02/4.png
ORGANIZER;CN="John Bogdal":MAILTO:JohnB@dubcolib.org
END:VEVENT
BEGIN:VEVENT
DTSTART;TZID=America/Chicago:20240507T180000
DTEND;TZID=America/Chicago:20240507T190000
DTSTAMP:20260425T221146
CREATED:20240329T191832Z
LAST-MODIFIED:20240425T191408Z
UID:10001669-1715104800-1715108400@www.dubcolib.org
SUMMARY:Virtual Kids Craft Club: Glitter Galaxy Slime
DESCRIPTION:Kindergarten – 5th Grade. Join Miss Kayla for a craft with virtual instruction. Make sure to register by 4/26 so you can pick up your pre-filled craft kit. May’s craft is glitter galaxy slime.
URL:https://www.dubcolib.org/event/virtual-kids-craft-club-glitter-galaxy-slime/
LOCATION:Virtual
CATEGORIES:Kids
ATTACH;FMTTYPE=image/png:https://www.dubcolib.org/wp-content/uploads/2024/02/20.png
ORGANIZER;CN="Kayla Ferguson":MAILTO:kaylaf@dubcolib.org
END:VEVENT
BEGIN:VEVENT
DTSTART;TZID=America/Chicago:20240508T090000
DTEND;TZID=America/Chicago:20240508T093000
DTSTAMP:20260425T221146
CREATED:20231209T171243Z
LAST-MODIFIED:20240316T144021Z
UID:10001462-1715158800-1715160600@www.dubcolib.org
SUMMARY:Baby & Toddler Storytime
DESCRIPTION:Songs\, stories and socializing for children 0-2 and their big siblings and caregivers.
URL:https://www.dubcolib.org/event/baby-toddler-storytime-10/2024-05-08/
LOCATION:Asbury Branch\, 5290 Grand Meadow Drive\, Asbury\, Iowa\, 52002
CATEGORIES:Babies & Toddlers
ATTACH;FMTTYPE=image/png:https://www.dubcolib.org/wp-content/uploads/2023/12/Website-Resolution-8.png
ORGANIZER;CN="Teresa Jack":MAILTO:teresaj@dubcolib.org
END:VEVENT
BEGIN:VEVENT
DTSTART;TZID=America/Chicago:20240508T094500
DTEND;TZID=America/Chicago:20240508T101500
DTSTAMP:20260425T221146
CREATED:20231209T165658Z
LAST-MODIFIED:20240316T144900Z
UID:10001411-1715161500-1715163300@www.dubcolib.org
SUMMARY:Storytime
DESCRIPTION:(Recommended for ages 2-5) Join Ms. Teresa for a half hour with some reading\, rhymes\, and playing with friends. No registration required.
URL:https://www.dubcolib.org/event/storytime-21/2024-05-08/
LOCATION:Asbury Branch\, 5290 Grand Meadow Drive\, Asbury\, Iowa\, 52002
CATEGORIES:Preschoolers
ATTACH;FMTTYPE=image/png:https://www.dubcolib.org/wp-content/uploads/2023/12/Website-Resolution-7-1.png
ORGANIZER;CN="Teresa Jack":MAILTO:teresaj@dubcolib.org
END:VEVENT
BEGIN:VEVENT
DTSTART;TZID=America/Chicago:20240508T113000
DTEND;TZID=America/Chicago:20240508T123000
DTSTAMP:20260425T221146
CREATED:20240409T184844Z
LAST-MODIFIED:20240424T172031Z
UID:10001679-1715167800-1715171400@www.dubcolib.org
SUMMARY:Tech Help Hour
DESCRIPTION:Receive practical tips and newfound confidence in navigating your technology. Students from Cornerstone Academy will be on hand to provide one-on-one assistance to attendees. RSVP recommended.
URL:https://www.dubcolib.org/event/tech-help-hour/
LOCATION:Asbury Branch\, 5290 Grand Meadow Drive\, Asbury\, Iowa\, 52002
CATEGORIES:Adults
ATTACH;FMTTYPE=image/png:https://www.dubcolib.org/wp-content/uploads/2024/02/9.png
ORGANIZER;CN="John Bogdal":MAILTO:JohnB@dubcolib.org
END:VEVENT
BEGIN:VEVENT
DTSTART;TZID=America/Chicago:20240508T163000
DTEND;TZID=America/Chicago:20240508T170000
DTSTAMP:20260425T221146
CREATED:20240209T183729Z
LAST-MODIFIED:20240425T191441Z
UID:10001557-1715185800-1715187600@www.dubcolib.org
SUMMARY:Kids Craft Club: Glitter Galaxy Slime
DESCRIPTION:Join Miss Kayla for a monthly craft. May’s craft is glitter galaxy slime.
URL:https://www.dubcolib.org/event/kids-craft-club-glitter-galaxy-slime-2/
LOCATION:Peosta Branch\, 8342 NICC Drive\, Peosta\, Iowa\, 52068
CATEGORIES:Kids
ATTACH;FMTTYPE=image/png:https://www.dubcolib.org/wp-content/uploads/2024/02/20.png
ORGANIZER;CN="Kayla Ferguson":MAILTO:kaylaf@dubcolib.org
END:VEVENT
BEGIN:VEVENT
DTSTART;TZID=America/Chicago:20240508T180000
DTEND;TZID=America/Chicago:20240508T190000
DTSTAMP:20260425T221146
CREATED:20240329T185839Z
LAST-MODIFIED:20240502T164035Z
UID:10001658-1715191200-1715194800@www.dubcolib.org
SUMMARY:Smartphone Photography with Erin LaBelle
DESCRIPTION:Smartphone cameras create space for intuition\, imagination and observation by freeing the mind from the complications of a DSLR or other more sophisticated camera. During the Smartphone Photography Workshop\, we’ll spend an hour learning more about the amazing camera in your pocket. You’re certain to come away inspired by the potential of smartphone photography. \nErin LaBelle a storytelling artist who uses the camera to evoke contemplation and create social change. Over the past twenty years\, she’s taught photography at Kent State University\, a California Boys and Girls Club\, an Italian Waldorf high school and the Athens Photo Project. \nIf you’re able\, please download the free Snapseed app before attending so we can experiment with overlays. \nRSVP recommended\, drop-ins welcome.
URL:https://www.dubcolib.org/event/smartphone-photography/
LOCATION:Asbury Branch\, 5290 Grand Meadow Drive\, Asbury\, Iowa\, 52002
CATEGORIES:All Ages
ATTACH;FMTTYPE=image/jpeg:https://www.dubcolib.org/wp-content/uploads/2024/03/Website-Resolution-14.jpg
ORGANIZER;CN="John Bogdal":MAILTO:JohnB@dubcolib.org
END:VEVENT
BEGIN:VEVENT
DTSTART;TZID=America/Chicago:20240509T110000
DTEND;TZID=America/Chicago:20240509T120000
DTSTAMP:20260425T221146
CREATED:20240226T202337Z
LAST-MODIFIED:20240326T200353Z
UID:10001596-1715252400-1715256000@www.dubcolib.org
SUMMARY:Tai Chi
DESCRIPTION:Tai Chi consists of slow\, fluid\, gentle movements. It can be practiced almost anywhere and is accessible for individuals at any fitness level.\nThis class is taught by a certified Tai Chi instructor and is suitable for beginners. Class is held Tuesday and Thursday mornings 11:00 – Noon. Registration is full for this class\, if you would like to be placed on a waitlist please email LydiaS@dubcolib.org.
URL:https://www.dubcolib.org/event/tai-chi/2024-05-09/
LOCATION:Asbury Branch\, 5290 Grand Meadow Drive\, Asbury\, Iowa\, 52002
CATEGORIES:Adults
ATTACH;FMTTYPE=image/png:https://www.dubcolib.org/wp-content/uploads/2024/02/4.png
ORGANIZER;CN="John Bogdal":MAILTO:JohnB@dubcolib.org
END:VEVENT
BEGIN:VEVENT
DTSTART;TZID=America/Chicago:20240509T180000
DTEND;TZID=America/Chicago:20240509T190000
DTSTAMP:20260425T221146
CREATED:20230721T000526Z
LAST-MODIFIED:20231229T175252Z
UID:10000356-1715277600-1715281200@www.dubcolib.org
SUMMARY:Friends of the Dubuque County Library District Meeting
DESCRIPTION:The Friends of the Dubuque County Library will hold their monthly meeting.
URL:https://www.dubcolib.org/event/friends-of-the-dubuque-county-library-district-meeting-4/
LOCATION:Asbury Branch\, 5290 Grand Meadow Drive\, Asbury\, Iowa\, 52002
CATEGORIES:All Ages
ATTACH;FMTTYPE=image/png:https://www.dubcolib.org/wp-content/uploads/2023/10/friends-logo.png
END:VEVENT
BEGIN:VEVENT
DTSTART;TZID=America/Chicago:20240509T160000
DTEND;TZID=America/Chicago:20240509T170000
DTSTAMP:20260425T221146
CREATED:20240329T162939Z
LAST-MODIFIED:20240329T162939Z
UID:10001659-1715270400-1715274000@www.dubcolib.org
SUMMARY:Beginner Crochet
DESCRIPTION:Interested in learning crochet? Join us for an introductory lesson on beginning crochet stitches. Yarn and hooks provided. Teens and adults welcome. RSVP recommended\, drop-ins welcome.
URL:https://www.dubcolib.org/event/beginner-crochet-2/
LOCATION:Peosta Branch\, 8342 NICC Drive\, Peosta\, Iowa\, 52068
CATEGORIES:Adults,Teens
ATTACH;FMTTYPE=image/jpeg:https://www.dubcolib.org/wp-content/uploads/2024/03/Website-Resolution-9.jpg
ORGANIZER;CN="John Bogdal":MAILTO:JohnB@dubcolib.org
END:VEVENT
BEGIN:VEVENT
DTSTART;TZID=America/Chicago:20240509T163000
DTEND;TZID=America/Chicago:20240509T170000
DTSTAMP:20260425T221146
CREATED:20240209T183744Z
LAST-MODIFIED:20240314T203204Z
UID:10001558-1715272200-1715274000@www.dubcolib.org
SUMMARY:Kids Craft Club: Glitter Galaxy Slime
DESCRIPTION:Join Miss Kayla for a monthly craft. May’s craft is glitter galaxy slime.
URL:https://www.dubcolib.org/event/kids-craft-club-glitter-galaxy-slime-3/
LOCATION:Asbury Branch\, 5290 Grand Meadow Drive\, Asbury\, Iowa\, 52002
CATEGORIES:Kids
ATTACH;FMTTYPE=image/png:https://www.dubcolib.org/wp-content/uploads/2024/02/20.png
ORGANIZER;CN="Kayla Ferguson":MAILTO:kaylaf@dubcolib.org
END:VEVENT
BEGIN:VEVENT
DTSTART;TZID=America/Chicago:20240510T163000
DTEND;TZID=America/Chicago:20240510T170000
DTSTAMP:20260425T221146
CREATED:20240209T183800Z
LAST-MODIFIED:20240425T191427Z
UID:10001559-1715358600-1715360400@www.dubcolib.org
SUMMARY:Kids Craft Club: Glitter Galaxy Slime
DESCRIPTION:Join Miss Kayla for a monthly craft. May’s craft is glitter galaxy slime.
URL:https://www.dubcolib.org/event/kids-craft-club-glitter-galaxy-slime-4/
LOCATION:Farley Branch\, 206 1st Street North\, Farley\, IA\, 52046
CATEGORIES:Kids
ATTACH;FMTTYPE=image/png:https://www.dubcolib.org/wp-content/uploads/2024/02/20.png
ORGANIZER;CN="Kayla Ferguson":MAILTO:kaylaf@dubcolib.org
END:VEVENT
BEGIN:VEVENT
DTSTART;TZID=America/Chicago:20240511T110000
DTEND;TZID=America/Chicago:20240511T120000
DTSTAMP:20260425T221146
CREATED:20240329T163013Z
LAST-MODIFIED:20240329T163013Z
UID:10001660-1715425200-1715428800@www.dubcolib.org
SUMMARY:Beginner Crochet
DESCRIPTION:Interested in learning crochet? Join us for an introductory lesson on beginning crochet stitches. Yarn and hooks provided. Teens and adults welcome. RSVP recommended\, drop-ins welcome.
URL:https://www.dubcolib.org/event/beginner-crochet-3/
LOCATION:Farley Branch\, 206 1st Street North\, Farley\, IA\, 52046
CATEGORIES:Adults,Teens
ATTACH;FMTTYPE=image/jpeg:https://www.dubcolib.org/wp-content/uploads/2024/03/Website-Resolution-9.jpg
ORGANIZER;CN="John Bogdal":MAILTO:JohnB@dubcolib.org
END:VEVENT
BEGIN:VEVENT
DTSTART;TZID=America/Chicago:20240513T093000
DTEND;TZID=America/Chicago:20240513T100000
DTSTAMP:20260425T221146
CREATED:20231209T155513Z
LAST-MODIFIED:20240325T221125Z
UID:10001258-1715592600-1715594400@www.dubcolib.org
SUMMARY:Storytime
DESCRIPTION:(Recommended for ages 2-5) Join Ms. Teresa for a half hour with some reading\, rhymes\, and playing with friends.  No registration required.
URL:https://www.dubcolib.org/event/storytime-18/2024-05-13/
LOCATION:Peosta Branch\, 8342 NICC Drive\, Peosta\, Iowa\, 52068
CATEGORIES:Preschoolers
ATTACH;FMTTYPE=image/png:https://www.dubcolib.org/wp-content/uploads/2023/12/Website-Resolution-7-1.png
ORGANIZER;CN="Teresa Jack":MAILTO:teresaj@dubcolib.org
END:VEVENT
BEGIN:VEVENT
DTSTART;TZID=America/Chicago:20240513T103000
DTEND;TZID=America/Chicago:20240513T110000
DTSTAMP:20260425T221146
CREATED:20231209T160104Z
LAST-MODIFIED:20240316T144948Z
UID:10001344-1715596200-1715598000@www.dubcolib.org
SUMMARY:Storytime
DESCRIPTION:(Recommended for ages 2-5) Join Ms. Teresa for a half hour with some reading\, rhymes\, and playing with friends. No registration required.
URL:https://www.dubcolib.org/event/storytime-19/2024-05-13/
LOCATION:Epworth Branch\, 110 Bierman Road\, Epworth\, Iowa\, 52045
CATEGORIES:Preschoolers
ATTACH;FMTTYPE=image/png:https://www.dubcolib.org/wp-content/uploads/2023/12/Website-Resolution-7-1.png
ORGANIZER;CN="Teresa Jack":MAILTO:teresaj@dubcolib.org
END:VEVENT
BEGIN:VEVENT
DTSTART;TZID=America/Chicago:20240513T180000
DTEND;TZID=America/Chicago:20240513T184500
DTSTAMP:20260425T221146
CREATED:20240209T185021Z
LAST-MODIFIED:20240425T191719Z
UID:10001560-1715623200-1715625900@www.dubcolib.org
SUMMARY:Snack on Science: Solar System
DESCRIPTION:Learn about a science topic and do an experiment you can eat to go along with it. May’s topic is the Solar System.
URL:https://www.dubcolib.org/event/snack-on-science-solar-system/
LOCATION:Holy Cross Branch\, 895 Main Street\, Holy Cross\, Iowa\, 52053
CATEGORIES:Kids
ATTACH;FMTTYPE=image/png:https://www.dubcolib.org/wp-content/uploads/2024/02/10.png
ORGANIZER;CN="Kayla Ferguson":MAILTO:kaylaf@dubcolib.org
END:VEVENT
BEGIN:VEVENT
DTSTART;TZID=America/Chicago:20240513T180000
DTEND;TZID=America/Chicago:20240513T190000
DTSTAMP:20260425T221146
CREATED:20240329T171500Z
LAST-MODIFIED:20240329T171500Z
UID:10001661-1715623200-1715626800@www.dubcolib.org
SUMMARY:Craft Club - Rope Coasters
DESCRIPTION:(Ages 16+) Join us for this monthly crafting program. Registration recommended\, drop-ins welcome as supplies last. In May we’re making rope coasters.
URL:https://www.dubcolib.org/event/craft-club-rope-coasters/
LOCATION:Asbury Branch\, 5290 Grand Meadow Drive\, Asbury\, Iowa\, 52002
CATEGORIES:Adults
ATTACH;FMTTYPE=image/jpeg:https://www.dubcolib.org/wp-content/uploads/2024/03/Website-Resolution-10.jpg
ORGANIZER;CN="John Bogdal":MAILTO:JohnB@dubcolib.org
END:VEVENT
BEGIN:VEVENT
DTSTART;TZID=America/Chicago:20240514T090000
DTEND;TZID=America/Chicago:20240514T093000
DTSTAMP:20260425T221146
CREATED:20231209T171053Z
LAST-MODIFIED:20240316T144054Z
UID:10001429-1715677200-1715679000@www.dubcolib.org
SUMMARY:Baby & Toddler Storytime
DESCRIPTION:Songs\, stories and socializing for children 0-2 and their big siblings and caregivers.
URL:https://www.dubcolib.org/event/baby-toddler-storytime-9/2024-05-14/
LOCATION:Peosta Branch\, 8342 NICC Drive\, Peosta\, Iowa\, 52068
CATEGORIES:Babies & Toddlers
ATTACH;FMTTYPE=image/png:https://www.dubcolib.org/wp-content/uploads/2023/12/Website-Resolution-8.png
ORGANIZER;CN="Teresa Jack":MAILTO:teresaj@dubcolib.org
END:VEVENT
BEGIN:VEVENT
DTSTART;TZID=America/Chicago:20240514T100000
DTEND;TZID=America/Chicago:20240514T103000
DTSTAMP:20260425T221146
CREATED:20231209T165017Z
LAST-MODIFIED:20240316T144925Z
UID:10001378-1715680800-1715682600@www.dubcolib.org
SUMMARY:Storytime
DESCRIPTION:(Recommended for ages 2-5) Join Ms. Teresa for a half hour with some reading\, rhymes\, and playing with friends.  No registration required.
URL:https://www.dubcolib.org/event/storytime-20/2024-05-14/
LOCATION:Farley Branch\, 206 1st Street North\, Farley\, IA\, 52046
CATEGORIES:Preschoolers
ATTACH;FMTTYPE=image/png:https://www.dubcolib.org/wp-content/uploads/2023/12/Website-Resolution-7-1.png
ORGANIZER;CN="Teresa Jack":MAILTO:teresaj@dubcolib.org
END:VEVENT
BEGIN:VEVENT
DTSTART;TZID=America/Chicago:20240514T110000
DTEND;TZID=America/Chicago:20240514T120000
DTSTAMP:20260425T221146
CREATED:20240226T202337Z
LAST-MODIFIED:20240326T200353Z
UID:10001597-1715684400-1715688000@www.dubcolib.org
SUMMARY:Tai Chi
DESCRIPTION:Tai Chi consists of slow\, fluid\, gentle movements. It can be practiced almost anywhere and is accessible for individuals at any fitness level.\nThis class is taught by a certified Tai Chi instructor and is suitable for beginners. Class is held Tuesday and Thursday mornings 11:00 – Noon. Registration is full for this class\, if you would like to be placed on a waitlist please email LydiaS@dubcolib.org.
URL:https://www.dubcolib.org/event/tai-chi/2024-05-14/
LOCATION:Asbury Branch\, 5290 Grand Meadow Drive\, Asbury\, Iowa\, 52002
CATEGORIES:Adults
ATTACH;FMTTYPE=image/png:https://www.dubcolib.org/wp-content/uploads/2024/02/4.png
ORGANIZER;CN="John Bogdal":MAILTO:JohnB@dubcolib.org
END:VEVENT
BEGIN:VEVENT
DTSTART;TZID=America/Chicago:20240514T163000
DTEND;TZID=America/Chicago:20240514T171500
DTSTAMP:20260425T221146
CREATED:20240209T185038Z
LAST-MODIFIED:20240314T203103Z
UID:10001561-1715704200-1715706900@www.dubcolib.org
SUMMARY:Snack on Science: Solar System
DESCRIPTION:Learn about a science topic and do an experiment you can eat to go along with it. May’s topic is the Solar System.
URL:https://www.dubcolib.org/event/snack-on-science-solar-system-2/
LOCATION:Peosta Branch\, 8342 NICC Drive\, Peosta\, Iowa\, 52068
CATEGORIES:Kids
ATTACH;FMTTYPE=image/png:https://www.dubcolib.org/wp-content/uploads/2024/02/10.png
ORGANIZER;CN="Kayla Ferguson":MAILTO:kaylaf@dubcolib.org
END:VEVENT
BEGIN:VEVENT
DTSTART;TZID=America/Chicago:20240514T180000
DTEND;TZID=America/Chicago:20240514T190000
DTSTAMP:20260425T221146
CREATED:20240329T171819Z
LAST-MODIFIED:20240329T171819Z
UID:10001662-1715709600-1715713200@www.dubcolib.org
SUMMARY:Craft Club - Rope Coasters
DESCRIPTION:(Ages 16+) Join us for this monthly crafting program. Registration recommended\, drop-ins welcome as supplies last. In May we’re making rope coasters.
URL:https://www.dubcolib.org/event/craft-club-rope-coasters-2/
LOCATION:Peosta Branch\, 8342 NICC Drive\, Peosta\, Iowa\, 52068
CATEGORIES:Adults
ATTACH;FMTTYPE=image/jpeg:https://www.dubcolib.org/wp-content/uploads/2024/03/Website-Resolution-10.jpg
ORGANIZER;CN="John Bogdal":MAILTO:JohnB@dubcolib.org
END:VEVENT
BEGIN:VEVENT
DTSTART;TZID=America/Chicago:20240515T090000
DTEND;TZID=America/Chicago:20240515T093000
DTSTAMP:20260425T221146
CREATED:20231209T171243Z
LAST-MODIFIED:20240316T144021Z
UID:10001463-1715763600-1715765400@www.dubcolib.org
SUMMARY:Baby & Toddler Storytime
DESCRIPTION:Songs\, stories and socializing for children 0-2 and their big siblings and caregivers.
URL:https://www.dubcolib.org/event/baby-toddler-storytime-10/2024-05-15/
LOCATION:Asbury Branch\, 5290 Grand Meadow Drive\, Asbury\, Iowa\, 52002
CATEGORIES:Babies & Toddlers
ATTACH;FMTTYPE=image/png:https://www.dubcolib.org/wp-content/uploads/2023/12/Website-Resolution-8.png
ORGANIZER;CN="Teresa Jack":MAILTO:teresaj@dubcolib.org
END:VEVENT
END:VCALENDAR