BEGIN:VCALENDAR
VERSION:2.0
PRODID:-//Dubuque County Library District - ECPv6.15.20//NONSGML v1.0//EN
CALSCALE:GREGORIAN
METHOD:PUBLISH
X-WR-CALNAME:Dubuque County Library District
X-ORIGINAL-URL:https://www.dubcolib.org
X-WR-CALDESC:Events for Dubuque County Library District
REFRESH-INTERVAL;VALUE=DURATION:PT1H
X-Robots-Tag:noindex
X-PUBLISHED-TTL:PT1H
BEGIN:VTIMEZONE
TZID:America/Chicago
BEGIN:DAYLIGHT
TZOFFSETFROM:-0600
TZOFFSETTO:-0500
TZNAME:CDT
DTSTART:20230312T080000
END:DAYLIGHT
BEGIN:STANDARD
TZOFFSETFROM:-0500
TZOFFSETTO:-0600
TZNAME:CST
DTSTART:20231105T070000
END:STANDARD
BEGIN:DAYLIGHT
TZOFFSETFROM:-0600
TZOFFSETTO:-0500
TZNAME:CDT
DTSTART:20240310T080000
END:DAYLIGHT
BEGIN:STANDARD
TZOFFSETFROM:-0500
TZOFFSETTO:-0600
TZNAME:CST
DTSTART:20241103T070000
END:STANDARD
BEGIN:DAYLIGHT
TZOFFSETFROM:-0600
TZOFFSETTO:-0500
TZNAME:CDT
DTSTART:20250309T080000
END:DAYLIGHT
BEGIN:STANDARD
TZOFFSETFROM:-0500
TZOFFSETTO:-0600
TZNAME:CST
DTSTART:20251102T070000
END:STANDARD
END:VTIMEZONE
BEGIN:VEVENT
DTSTART;TZID=America/Chicago:20240801T130000
DTEND;TZID=America/Chicago:20240801T140000
DTSTAMP:20260420T052748
CREATED:20240513T172134Z
LAST-MODIFIED:20240731T182137Z
UID:10002720-1722517200-1722520800@www.dubcolib.org
SUMMARY:Magic Workshop: Summer Adventures
DESCRIPTION:Learn magic! Bob Beardsley and the Dubuque Magic Club will teach kids card tricks\, slight-of-hand and other magic! RSVP recommended. Sponsored by the Friends of the Dubuque County Library District.
URL:https://www.dubcolib.org/event/magic-workshop-summer-adventures-2/
LOCATION:Peosta Branch\, 8342 NICC Drive\, Peosta\, Iowa\, 52068
CATEGORIES:Kids
ATTACH;FMTTYPE=image/jpeg:https://www.dubcolib.org/wp-content/uploads/2024/05/Website-Resolution-42.jpg
ORGANIZER;CN="Children's Librarian":MAILTO:LydiaS@dubcolib.org
END:VEVENT
BEGIN:VEVENT
DTSTART;TZID=America/Chicago:20240801T143000
DTEND;TZID=America/Chicago:20240801T153000
DTSTAMP:20260420T052748
CREATED:20240513T171859Z
LAST-MODIFIED:20240711T194555Z
UID:10002734-1722522600-1722526200@www.dubcolib.org
SUMMARY:Magic Workshop: Summer Adventures
DESCRIPTION:Learn magic! Bob Beardsley and the Dubuque Magic Club will teach kids card tricks\, slight-of-hand and other magic! RSVP recommended. Sponsored by the Friends of the Dubuque County Library District.
URL:https://www.dubcolib.org/event/magic-workshop-summer-adventures/2024-08-01/
LOCATION:Farley Branch\, 206 1st Street North\, Farley\, IA\, 52046
CATEGORIES:Kids
ATTACH;FMTTYPE=image/jpeg:https://www.dubcolib.org/wp-content/uploads/2024/05/Website-Resolution-42.jpg
ORGANIZER;CN="Children's Librarian":MAILTO:LydiaS@dubcolib.org
END:VEVENT
BEGIN:VEVENT
DTSTART;TZID=America/Chicago:20240801T160000
DTEND;TZID=America/Chicago:20240801T170000
DTSTAMP:20260420T052748
CREATED:20240503T191003Z
LAST-MODIFIED:20240513T182134Z
UID:10002694-1722528000-1722531600@www.dubcolib.org
SUMMARY:Summer Adventures
DESCRIPTION:Stop by every week for snacks\, crafts\, games and more for kids in 1st – 5th grade. Please RSVP HERE
URL:https://www.dubcolib.org/event/summer-adventures-5/2024-08-01/
LOCATION:Holy Cross Branch\, 895 Main Street\, Holy Cross\, Iowa\, 52053
CATEGORIES:Kids
ATTACH;FMTTYPE=image/jpeg:https://www.dubcolib.org/wp-content/uploads/2024/05/Website-Resolution-19.jpg
ORGANIZER;CN="Teresa Jack":MAILTO:teresaj@dubcolib.org
END:VEVENT
BEGIN:VEVENT
DTSTART;TZID=America/Chicago:20240801T163000
DTEND;TZID=America/Chicago:20240801T173000
DTSTAMP:20260420T052748
CREATED:20240720T150937Z
LAST-MODIFIED:20240720T150937Z
UID:10002775-1722529800-1722533400@www.dubcolib.org
SUMMARY:Chess Club
DESCRIPTION:Welcome to the timeless game of chess! Join us for engaging lessons where beginners and seasoned players alike can sharpen their skills and learn winning tactics and strategies.
URL:https://www.dubcolib.org/event/chess-club-11/
LOCATION:Farley Branch\, 206 1st Street North\, Farley\, IA\, 52046
CATEGORIES:All Ages
ATTACH;FMTTYPE=image/png:https://www.dubcolib.org/wp-content/uploads/2024/03/Website-Resolution-3.png
ORGANIZER;CN="John Bogdal":MAILTO:JohnB@dubcolib.org
END:VEVENT
BEGIN:VEVENT
DTSTART;TZID=America/Chicago:20240802T163000
DTEND;TZID=America/Chicago:20240802T173000
DTSTAMP:20260420T052748
CREATED:20240720T151215Z
LAST-MODIFIED:20240720T151215Z
UID:10002776-1722616200-1722619800@www.dubcolib.org
SUMMARY:Ukulele Jam
DESCRIPTION:Interested in learning the ukulele? Join us for fun-filled workshops where you’ll learn to play catchy tunes. No prior experience required Ð just bring your enthusiasm and your ukulele\, or borrow one of ours! Designed for teens but adults are welcome. Registration required. (library ukuleles limited)
URL:https://www.dubcolib.org/event/ukulele-jam-5/
LOCATION:Asbury Branch\, 5290 Grand Meadow Drive\, Asbury\, Iowa\, 52002
CATEGORIES:Teens
ATTACH;FMTTYPE=image/jpeg:https://www.dubcolib.org/wp-content/uploads/2024/05/Website-Resolution-30.jpg
ORGANIZER;CN="John Bogdal":MAILTO:JohnB@dubcolib.org
END:VEVENT
BEGIN:VEVENT
DTSTART;TZID=America/Chicago:20240803T130000
DTEND;TZID=America/Chicago:20240803T140000
DTSTAMP:20260420T052748
CREATED:20240513T170958Z
LAST-MODIFIED:20240513T170959Z
UID:10002719-1722690000-1722693600@www.dubcolib.org
SUMMARY:Magic Show!
DESCRIPTION:A Magical End to the Summer with magician Bob Beardsley.  \nSponsored by The Friends of Dubuque County Library District.
URL:https://www.dubcolib.org/event/magic-show/
LOCATION:Asbury Branch\, 5290 Grand Meadow Drive\, Asbury\, Iowa\, 52002
CATEGORIES:All Ages
ATTACH;FMTTYPE=image/jpeg:https://www.dubcolib.org/wp-content/uploads/2024/05/Website-Resolution-42.jpg
ORGANIZER;CN="Children's Librarian":MAILTO:LydiaS@dubcolib.org
END:VEVENT
BEGIN:VEVENT
DTSTART;TZID=America/Chicago:20240805T103000
DTEND;TZID=America/Chicago:20240805T110000
DTSTAMP:20260420T052748
CREATED:20240503T190128Z
LAST-MODIFIED:20240503T221737Z
UID:10002103-1722853800-1722855600@www.dubcolib.org
SUMMARY:Read! Have fun! Repeat!
DESCRIPTION:An exciting mixture of books\, songs\, juggling\, music\, dance\, messy art\, fingerplay\, scavenger hunts\, large motor activities and more books! Programs are designed for children 2.5 – 5\, but younger and older siblings or friends are welcome and encouraged.
URL:https://www.dubcolib.org/event/__trashed-77/2024-08-05/
LOCATION:Epworth Branch\, 110 Bierman Road\, Epworth\, Iowa\, 52045
CATEGORIES:Preschoolers
ATTACH;FMTTYPE=image/jpeg:https://www.dubcolib.org/wp-content/uploads/2024/05/Website-Resolution-20.jpg
ORGANIZER;CN="Teresa Jack":MAILTO:teresaj@dubcolib.org
END:VEVENT
BEGIN:VEVENT
DTSTART;TZID=America/Chicago:20240805T180000
DTEND;TZID=America/Chicago:20240805T190000
DTSTAMP:20260420T052748
CREATED:20240720T162510Z
LAST-MODIFIED:20240725T154449Z
UID:10002777-1722880800-1722884400@www.dubcolib.org
SUMMARY:Grant Wood: Artistic Rags to Riches\, An American Success Story
DESCRIPTION:Presented by Dr. Randy Lengeling\, Grant Wood’s story is an inspiration for all Americans\, particularly Iowans\, and a shining example that world-influencing achievements can occur in this state that we call home. \nThis animated presentation\, with archival photographs and video segments\, looks at Wood’s personal life story\, his artistic development and meteoric rise to international prominence as the leader of Regionalism\, his controversial professorship at the State University of Iowa and his enduring legacy in art history\, having lived nearly his whole life in Iowa. Original Grant Wood works may be available for viewing.
URL:https://www.dubcolib.org/event/grant-wood-artistic-rags-to-riches-an-american-success-story/
LOCATION:Asbury Branch\, 5290 Grand Meadow Drive\, Asbury\, Iowa\, 52002
CATEGORIES:Adults
ATTACH;FMTTYPE=image/jpeg:https://www.dubcolib.org/wp-content/uploads/2024/07/Website-Resolution-49.jpg
ORGANIZER;CN="John Bogdal":MAILTO:JohnB@dubcolib.org
END:VEVENT
BEGIN:VEVENT
DTSTART;TZID=America/Chicago:20240806T090000
DTEND;TZID=America/Chicago:20240806T093000
DTSTAMP:20260420T052748
CREATED:20240503T214738Z
LAST-MODIFIED:20240503T214801Z
UID:10002626-1722934800-1722936600@www.dubcolib.org
SUMMARY:Tot Sign
DESCRIPTION:Tot Sign aims to teach a supplemental method of communication for children under 5 and their parents – used along with spoken language\, sign language gives kids a chance to tell you what they need!
URL:https://www.dubcolib.org/event/tot-sign/
LOCATION:Peosta Branch\, 8342 NICC Drive\, Peosta\, Iowa\, 52068
CATEGORIES:Babies & Toddlers
ATTACH;FMTTYPE=image/jpeg:https://www.dubcolib.org/wp-content/uploads/2024/05/Website-Resolution-22.jpg
ORGANIZER;CN="Teresa Jack":MAILTO:teresaj@dubcolib.org
END:VEVENT
BEGIN:VEVENT
DTSTART;TZID=America/Chicago:20240806T100000
DTEND;TZID=America/Chicago:20240806T103000
DTSTAMP:20260420T052748
CREATED:20240503T190129Z
LAST-MODIFIED:20240723T221451Z
UID:10002159-1722938400-1722940200@www.dubcolib.org
SUMMARY:Read! Have fun! Repeat!
DESCRIPTION:An exciting mixture of books\, songs\, juggling\, music\, dance\, messy art\, fingerplay\, scavenger hunts\, and large motor activities ! Programs are designed for children 2.5 – 5\, but younger and older siblings or friends are welcome and encouraged.
URL:https://www.dubcolib.org/event/__trashed-82/2024-08-06/
LOCATION:Farley Branch\, 206 1st Street North\, Farley\, IA\, 52046
CATEGORIES:Preschoolers
ATTACH;FMTTYPE=image/jpeg:https://www.dubcolib.org/wp-content/uploads/2024/05/Website-Resolution-20.jpg
ORGANIZER;CN="Teresa Jack":MAILTO:teresaj@dubcolib.org
END:VEVENT
BEGIN:VEVENT
DTSTART;TZID=America/Chicago:20240806T180000
DTEND;TZID=America/Chicago:20240806T190000
DTSTAMP:20260420T052748
CREATED:20240720T162527Z
LAST-MODIFIED:20240725T154557Z
UID:10002778-1722967200-1722970800@www.dubcolib.org
SUMMARY:Grant Wood: Artistic Rags to Riches\, An American Success Story
DESCRIPTION:Presented by Dr. Randy Lengeling\, Grant Wood’s story is an inspiration for all Americans\, particularly Iowans\, and a shining example that world-influencing achievements can occur in this state that we call home. \nThis animated presentation\, with archival photographs and video segments\, looks at Wood’s personal life story\, his artistic development and meteoric rise to international prominence as the leader of Regionalism\, his controversial professorship at the State University of Iowa and his enduring legacy in art history\, having lived nearly his whole life in Iowa. Original Grant Wood works may be available for viewing.
URL:https://www.dubcolib.org/event/grant-wood-artistic-rags-to-riches-an-american-success-story-2/
LOCATION:Peosta Branch\, 8342 NICC Drive\, Peosta\, Iowa\, 52068
CATEGORIES:Adults
ATTACH;FMTTYPE=image/jpeg:https://www.dubcolib.org/wp-content/uploads/2024/07/Website-Resolution-49.jpg
ORGANIZER;CN="John Bogdal":MAILTO:JohnB@dubcolib.org
END:VEVENT
BEGIN:VEVENT
DTSTART;TZID=America/Chicago:20240807T090000
DTEND;TZID=America/Chicago:20240807T093000
DTSTAMP:20260420T052748
CREATED:20240503T215225Z
LAST-MODIFIED:20240503T215225Z
UID:10002630-1723021200-1723023000@www.dubcolib.org
SUMMARY:Tot Sign
DESCRIPTION:Tot Sign aims to teach a supplemental method of communication for children under 5 and their parents – used along with spoken language\, sign language gives kids a chance to tell you what they need!
URL:https://www.dubcolib.org/event/tot-sign-5/
LOCATION:Asbury Branch\, 5290 Grand Meadow Drive\, Asbury\, Iowa\, 52002
CATEGORIES:Babies & Toddlers
ATTACH;FMTTYPE=image/jpeg:https://www.dubcolib.org/wp-content/uploads/2024/05/Website-Resolution-22.jpg
ORGANIZER;CN="Teresa Jack":MAILTO:teresaj@dubcolib.org
END:VEVENT
BEGIN:VEVENT
DTSTART;TZID=America/Chicago:20240807T100000
DTEND;TZID=America/Chicago:20240807T103000
DTSTAMP:20260420T052748
CREATED:20240513T204723Z
LAST-MODIFIED:20240513T204724Z
UID:10002280-1723024800-1723026600@www.dubcolib.org
SUMMARY:Recycled Art: Read! Have fun! Repeat!
DESCRIPTION:An exciting mixture of books\, songs\, juggling\, music\, dance\, messy art\, fingerplay\, scavenger hunts\, large motor activities and more books! Programs are designed for children 2.5 – 5\, but younger and older siblings or friends are welcome and encouraged.
URL:https://www.dubcolib.org/event/read-have-fun-repeat-7/
LOCATION:Asbury Branch\, 5290 Grand Meadow Drive\, Asbury\, Iowa\, 52002
CATEGORIES:Preschoolers
ATTACH;FMTTYPE=image/jpeg:https://www.dubcolib.org/wp-content/uploads/2024/05/Website-Resolution-20.jpg
ORGANIZER;CN="Teresa Jack":MAILTO:teresaj@dubcolib.org
END:VEVENT
BEGIN:VEVENT
DTSTART;TZID=America/Chicago:20240807T180000
DTEND;TZID=America/Chicago:20240807T190000
DTSTAMP:20260420T052748
CREATED:20240720T151247Z
LAST-MODIFIED:20240720T151247Z
UID:10002779-1723053600-1723057200@www.dubcolib.org
SUMMARY:Yarn Spinners
DESCRIPTION:Calling all yarn spinners! Bring your crochet hooks and knitting needles for an evening of crafting and conversation at the library.
URL:https://www.dubcolib.org/event/yarn-spinners-7/
LOCATION:Asbury Branch\, 5290 Grand Meadow Drive\, Asbury\, Iowa\, 52002
CATEGORIES:Adults
ATTACH;FMTTYPE=image/png:https://www.dubcolib.org/wp-content/uploads/2024/03/21.png
ORGANIZER;CN="John Bogdal":MAILTO:JohnB@dubcolib.org
END:VEVENT
BEGIN:VEVENT
DTSTART;TZID=America/Chicago:20240808T180000
DTEND;TZID=America/Chicago:20240808T190000
DTSTAMP:20260420T052748
CREATED:20240802T233253Z
LAST-MODIFIED:20240802T235104Z
UID:10002819-1723140000-1723143600@www.dubcolib.org
SUMMARY:Friends of the Dubuque County Library District Meeting
DESCRIPTION:The Friends of the Dubuque County Library will hold their monthly meeting.
URL:https://www.dubcolib.org/event/friends-of-the-dubuque-county-library-district-meeting-10/
LOCATION:Epworth Branch\, 110 Bierman Road\, Epworth\, Iowa\, 52045
CATEGORIES:All Ages
ATTACH;FMTTYPE=image/png:https://www.dubcolib.org/wp-content/uploads/2024/08/Website-Resolution-52.png
END:VEVENT
BEGIN:VEVENT
DTSTART;VALUE=DATE:20240810
DTEND;VALUE=DATE:20240811
DTSTAMP:20260420T052748
CREATED:20240729T191947Z
LAST-MODIFIED:20240729T191947Z
UID:10002806-1723248000-1723334399@www.dubcolib.org
SUMMARY:Holy Cross Closed
DESCRIPTION:
URL:https://www.dubcolib.org/event/holy-cross-closed/
LOCATION:Holy Cross Branch\, 895 Main Street\, Holy Cross\, Iowa\, 52053
END:VEVENT
BEGIN:VEVENT
DTSTART;TZID=America/Chicago:20240812T103000
DTEND;TZID=America/Chicago:20240812T110000
DTSTAMP:20260420T052748
CREATED:20240503T190128Z
LAST-MODIFIED:20240503T221737Z
UID:10002104-1723458600-1723460400@www.dubcolib.org
SUMMARY:Read! Have fun! Repeat!
DESCRIPTION:An exciting mixture of books\, songs\, juggling\, music\, dance\, messy art\, fingerplay\, scavenger hunts\, large motor activities and more books! Programs are designed for children 2.5 – 5\, but younger and older siblings or friends are welcome and encouraged.
URL:https://www.dubcolib.org/event/__trashed-77/2024-08-12/
LOCATION:Epworth Branch\, 110 Bierman Road\, Epworth\, Iowa\, 52045
CATEGORIES:Preschoolers
ATTACH;FMTTYPE=image/jpeg:https://www.dubcolib.org/wp-content/uploads/2024/05/Website-Resolution-20.jpg
ORGANIZER;CN="Teresa Jack":MAILTO:teresaj@dubcolib.org
END:VEVENT
BEGIN:VEVENT
DTSTART;TZID=America/Chicago:20240812T180000
DTEND;TZID=America/Chicago:20240812T190000
DTSTAMP:20260420T052748
CREATED:20240720T173919Z
LAST-MODIFIED:20240729T182945Z
UID:10002780-1723485600-1723489200@www.dubcolib.org
SUMMARY:Craft Club
DESCRIPTION:Join us for this monthly crafting program. August’s craft is Map Coasters. Designed for adults\, teens welcome. Registration recommended\, drop-ins welcome as supplies last.
URL:https://www.dubcolib.org/event/craft-club-20/
LOCATION:Asbury Branch\, 5290 Grand Meadow Drive\, Asbury\, Iowa\, 52002
CATEGORIES:Adults
ATTACH;FMTTYPE=image/jpeg:https://www.dubcolib.org/wp-content/uploads/2024/07/Adult-Craft-Club-Facebook-Event-Cover-1920-x-1080-px-9.jpg
ORGANIZER;CN="John Bogdal":MAILTO:JohnB@dubcolib.org
END:VEVENT
BEGIN:VEVENT
DTSTART;TZID=America/Chicago:20240813T093000
DTEND;TZID=America/Chicago:20240813T100000
DTSTAMP:20260420T052748
CREATED:20240503T215926Z
LAST-MODIFIED:20240503T215926Z
UID:10002633-1723541400-1723543200@www.dubcolib.org
SUMMARY:Wiggle & Dance
DESCRIPTION:Let’s have fun with music\, scarves\, ribbons\, balloons and bubbles!  Designed for children aged 18 months – 5 years\, but all ages are welcome
URL:https://www.dubcolib.org/event/wiggle-dance-3/
LOCATION:Holy Cross Branch\, 895 Main Street\, Holy Cross\, Iowa\, 52053
CATEGORIES:Preschoolers
ATTACH;FMTTYPE=image/jpeg:https://www.dubcolib.org/wp-content/uploads/2024/05/Website-Resolution-23.jpg
ORGANIZER;CN="Teresa Jack":MAILTO:teresaj@dubcolib.org
END:VEVENT
BEGIN:VEVENT
DTSTART;TZID=America/Chicago:20240813T163000
DTEND;TZID=America/Chicago:20240813T173000
DTSTAMP:20260420T052748
CREATED:20240720T151329Z
LAST-MODIFIED:20240720T151329Z
UID:10002781-1723566600-1723570200@www.dubcolib.org
SUMMARY:Chess Club
DESCRIPTION:Welcome to the timeless game of chess! Join us for engaging lessons where beginners and seasoned players alike can sharpen their skills and learn winning tactics and strategies.
URL:https://www.dubcolib.org/event/chess-club-12/
LOCATION:Peosta Branch\, 8342 NICC Drive\, Peosta\, Iowa\, 52068
CATEGORIES:All Ages
ORGANIZER;CN="John Bogdal":MAILTO:JohnB@dubcolib.org
END:VEVENT
BEGIN:VEVENT
DTSTART;TZID=America/Chicago:20240813T180000
DTEND;TZID=America/Chicago:20240813T190000
DTSTAMP:20260420T052748
CREATED:20240720T151429Z
LAST-MODIFIED:20240720T151429Z
UID:10002782-1723572000-1723575600@www.dubcolib.org
SUMMARY:No Pressure Book Club
DESCRIPTION:Welcome to the No Pressure Book Club\, a friendly space to chat about whatever books have captured your imagination lately. Join fellow book lovers for engaging conversations and insightful recommendations.
URL:https://www.dubcolib.org/event/no-pressure-book-club-6/
LOCATION:Peosta Branch\, 8342 NICC Drive\, Peosta\, Iowa\, 52068
CATEGORIES:Adults
ATTACH;FMTTYPE=image/png:https://www.dubcolib.org/wp-content/uploads/2024/03/7.png
ORGANIZER;CN="John Bogdal":MAILTO:JohnB@dubcolib.org
END:VEVENT
BEGIN:VEVENT
DTSTART;TZID=America/Chicago:20240814T090000
DTEND;TZID=America/Chicago:20240814T093000
DTSTAMP:20260420T052748
CREATED:20250812T215208Z
LAST-MODIFIED:20250813T165151Z
UID:10004763-1723626000-1723627800@www.dubcolib.org
SUMMARY:Baby & Toddler Storytime
DESCRIPTION:A short program of interactive play designed for children 0 -24 months. There will be songs\, fingerplay and reading\, followed by a time of open play and making friends.
URL:https://www.dubcolib.org/event/baby-toddler-storytime-11-2/2024-08-14/
LOCATION:Asbury Branch\, 5290 Grand Meadow Drive\, Asbury\, Iowa\, 52002
CATEGORIES:Babies & Toddlers
ATTACH;FMTTYPE=image/jpeg:https://www.dubcolib.org/wp-content/uploads/2024/05/Website-Resolution-21.jpg
ORGANIZER;CN="Teresa Jack":MAILTO:teresaj@dubcolib.org
END:VEVENT
BEGIN:VEVENT
DTSTART;TZID=America/Chicago:20240814T100000
DTEND;TZID=America/Chicago:20240814T103000
DTSTAMP:20260420T052748
CREATED:20240503T204609Z
LAST-MODIFIED:20240513T205048Z
UID:10002281-1723629600-1723631400@www.dubcolib.org
SUMMARY:Read! Have fun! Repeat!
DESCRIPTION:An exciting mixture of books\, songs\, juggling\, music\, dance\, messy art\, fingerplay\, scavenger hunts\, large motor activities and more books! Programs are designed for children 2.5 – 5\, but younger and older siblings or friends are welcome and encouraged.
URL:https://www.dubcolib.org/event/read-have-fun-repeat/2024-08-14/
LOCATION:Asbury Branch\, 5290 Grand Meadow Drive\, Asbury\, Iowa\, 52002
CATEGORIES:Preschoolers
ATTACH;FMTTYPE=image/jpeg:https://www.dubcolib.org/wp-content/uploads/2024/05/Website-Resolution-20.jpg
ORGANIZER;CN="Teresa Jack":MAILTO:teresaj@dubcolib.org
END:VEVENT
BEGIN:VEVENT
DTSTART;TZID=America/Chicago:20240814T163000
DTEND;TZID=America/Chicago:20240814T173000
DTSTAMP:20260420T052748
CREATED:20240720T151456Z
LAST-MODIFIED:20240720T151456Z
UID:10002783-1723653000-1723656600@www.dubcolib.org
SUMMARY:Chess Club
DESCRIPTION:Welcome to the timeless game of chess! Join us for engaging lessons where beginners and seasoned players alike can sharpen their skills and learn winning tactics and strategies.
URL:https://www.dubcolib.org/event/chess-club-13/
LOCATION:Asbury Branch\, 5290 Grand Meadow Drive\, Asbury\, Iowa\, 52002
CATEGORIES:All Ages
ATTACH;FMTTYPE=image/png:https://www.dubcolib.org/wp-content/uploads/2024/03/Website-Resolution-3.png
ORGANIZER;CN="John Bogdal":MAILTO:JohnB@dubcolib.org
END:VEVENT
BEGIN:VEVENT
DTSTART;TZID=America/Chicago:20240814T180000
DTEND;TZID=America/Chicago:20240814T190000
DTSTAMP:20260420T052748
CREATED:20240720T163034Z
LAST-MODIFIED:20240725T210539Z
UID:10002784-1723658400-1723662000@www.dubcolib.org
SUMMARY:Modern Architecture
DESCRIPTION:Interested in Dubuque’s rich architectural heritage? Learn all about Mid-Century Modern Architecture in Dubuque County with Tricia J. Baum from the Dubuque County Historic Preservation Commission.
URL:https://www.dubcolib.org/event/modern-architecture/
LOCATION:Asbury Branch\, 5290 Grand Meadow Drive\, Asbury\, Iowa\, 52002
CATEGORIES:Adults
ATTACH;FMTTYPE=image/jpeg:https://www.dubcolib.org/wp-content/uploads/2024/07/what-style-is-it-architecture-8.5-x-5.5-Flyer.jpg
ORGANIZER;CN="John Bogdal":MAILTO:JohnB@dubcolib.org
END:VEVENT
BEGIN:VEVENT
DTSTART;TZID=America/Chicago:20240815T163000
DTEND;TZID=America/Chicago:20240815T173000
DTSTAMP:20260420T052748
CREATED:20240720T151611Z
LAST-MODIFIED:20240720T151611Z
UID:10002785-1723739400-1723743000@www.dubcolib.org
SUMMARY:Ukulele Jam
DESCRIPTION:Interested in learning the ukulele? Join us for fun-filled workshops where you’ll learn to play catchy tunes. No prior experience required Ð just bring your enthusiasm and your ukulele\, or borrow one of ours! Registration required. (library ukuleles limited)
URL:https://www.dubcolib.org/event/ukulele-jam-6/
LOCATION:Farley Branch\, 206 1st Street North\, Farley\, IA\, 52046
CATEGORIES:Teens
ATTACH;FMTTYPE=image/jpeg:https://www.dubcolib.org/wp-content/uploads/2024/05/Website-Resolution-30.jpg
ORGANIZER;CN="John Bogdal":MAILTO:JohnB@dubcolib.org
END:VEVENT
BEGIN:VEVENT
DTSTART;TZID=America/Chicago:20240815T180000
DTEND;TZID=America/Chicago:20240815T190000
DTSTAMP:20260420T052748
CREATED:20240720T151632Z
LAST-MODIFIED:20240720T151632Z
UID:10002786-1723744800-1723748400@www.dubcolib.org
SUMMARY:No Pressure Book Club
DESCRIPTION:Welcome to the No Pressure Book Club\, a friendly space to chat about whatever books have captured your imagination lately. Join fellow book lovers for engaging conversations and insightful recommendations.
URL:https://www.dubcolib.org/event/no-pressure-book-club-9/
LOCATION:Farley Branch\, 206 1st Street North\, Farley\, IA\, 52046
CATEGORIES:Adults
ORGANIZER;CN="John Bogdal":MAILTO:JohnB@dubcolib.org
END:VEVENT
BEGIN:VEVENT
DTSTART;TZID=America/Chicago:20240819T100000
DTEND;TZID=America/Chicago:20240819T103000
DTSTAMP:20260420T052748
CREATED:20240720T164238Z
LAST-MODIFIED:20240720T164238Z
UID:10002804-1724061600-1724063400@www.dubcolib.org
SUMMARY:Summer Smiles
DESCRIPTION:Learn about oral health from Lacey Sowle\, Registered Dental Hygienist with the Dubuque Visiting Nurse Association. Children will receive a free bag\, water bottle and oral hygiene supplies!
URL:https://www.dubcolib.org/event/summer-smiles-2/
LOCATION:Asbury Branch\, 5290 Grand Meadow Drive\, Asbury\, Iowa\, 52002
CATEGORIES:Kids
ATTACH;FMTTYPE=image/jpeg:https://www.dubcolib.org/wp-content/uploads/2024/07/Website-Resolution-51.jpg
ORGANIZER;CN="Children's Librarian":MAILTO:LydiaS@dubcolib.org
END:VEVENT
BEGIN:VEVENT
DTSTART;TZID=America/Chicago:20240819T163000
DTEND;TZID=America/Chicago:20240819T173000
DTSTAMP:20260420T052748
CREATED:20240720T162625Z
LAST-MODIFIED:20240720T162625Z
UID:10002788-1724085000-1724088600@www.dubcolib.org
SUMMARY:Aviation Day: Paper Airplanes
DESCRIPTION:Celebrate Aviation Day with a paper plane workshop. Learn the art of paper plane design\, explore aerodynamics\, and put your creations to the test in friendly competitions.
URL:https://www.dubcolib.org/event/aviation-day-paper-airplanes/
LOCATION:Asbury Branch\, 5290 Grand Meadow Drive\, Asbury\, Iowa\, 52002
CATEGORIES:Teens
ATTACH;FMTTYPE=image/png:https://www.dubcolib.org/wp-content/uploads/2024/02/Untitled-design-35.png
ORGANIZER;CN="John Bogdal":MAILTO:JohnB@dubcolib.org
END:VEVENT
BEGIN:VEVENT
DTSTART;TZID=America/Chicago:20240819T180000
DTEND;TZID=America/Chicago:20240819T190000
DTSTAMP:20260420T052748
CREATED:20240720T162824Z
LAST-MODIFIED:20240813T192441Z
UID:10002789-1724090400-1724094000@www.dubcolib.org
SUMMARY:Back to School: Organizer Jessi
DESCRIPTION:Join professional organizer Jessi Bushman\, who will guide you through creating a personalized schedule\, prioritizing tasks\, and streamlining school prep. From arranging transportation and after-school programs to finalizing school supplies and sports gear\, Jessi will help ensure a smooth start to the academic year. \nBack in Session: Getting Organized for the new school year!
URL:https://www.dubcolib.org/event/back-to-school-organizer-jessi/
LOCATION:Asbury Branch\, 5290 Grand Meadow Drive\, Asbury\, Iowa\, 52002
CATEGORIES:Adults
ATTACH;FMTTYPE=image/png:https://www.dubcolib.org/wp-content/uploads/2024/02/8.png
ORGANIZER;CN="John Bogdal":MAILTO:JohnB@dubcolib.org
END:VEVENT
END:VCALENDAR