BEGIN:VCALENDAR
VERSION:2.0
PRODID:-//Dubuque County Library District - ECPv6.15.20//NONSGML v1.0//EN
CALSCALE:GREGORIAN
METHOD:PUBLISH
X-WR-CALNAME:Dubuque County Library District
X-ORIGINAL-URL:https://www.dubcolib.org
X-WR-CALDESC:Events for Dubuque County Library District
REFRESH-INTERVAL;VALUE=DURATION:PT1H
X-Robots-Tag:noindex
X-PUBLISHED-TTL:PT1H
BEGIN:VTIMEZONE
TZID:America/Chicago
BEGIN:DAYLIGHT
TZOFFSETFROM:-0600
TZOFFSETTO:-0500
TZNAME:CDT
DTSTART:20240310T080000
END:DAYLIGHT
BEGIN:STANDARD
TZOFFSETFROM:-0500
TZOFFSETTO:-0600
TZNAME:CST
DTSTART:20241103T070000
END:STANDARD
BEGIN:DAYLIGHT
TZOFFSETFROM:-0600
TZOFFSETTO:-0500
TZNAME:CDT
DTSTART:20250309T080000
END:DAYLIGHT
BEGIN:STANDARD
TZOFFSETFROM:-0500
TZOFFSETTO:-0600
TZNAME:CST
DTSTART:20251102T070000
END:STANDARD
BEGIN:DAYLIGHT
TZOFFSETFROM:-0600
TZOFFSETTO:-0500
TZNAME:CDT
DTSTART:20260308T080000
END:DAYLIGHT
BEGIN:STANDARD
TZOFFSETFROM:-0500
TZOFFSETTO:-0600
TZNAME:CST
DTSTART:20261101T070000
END:STANDARD
END:VTIMEZONE
BEGIN:VEVENT
DTSTART;TZID=America/Chicago:20250701T090000
DTEND;TZID=America/Chicago:20250701T093000
DTSTAMP:20260423T142312
CREATED:20250430T222454Z
LAST-MODIFIED:20250716T221022Z
UID:10004464-1751360400-1751362200@www.dubcolib.org
SUMMARY:Holy Cross Storytime
DESCRIPTION:Bring your friends and join Teresa for interactive rhymes and songs\, fingerplay\, and of course\, stories! Designed for children 2 – 4\, but all ages are welcome.
URL:https://www.dubcolib.org/event/holy-cross-storytime/2025-07-01/
LOCATION:Holy Cross Branch\, 895 Main Street\, Holy Cross\, Iowa\, 52053
CATEGORIES:Preschoolers
ATTACH;FMTTYPE=image/jpeg:https://www.dubcolib.org/wp-content/uploads/2025/04/Summer-2025-8.jpg
ORGANIZER;CN="Teresa Jack":MAILTO:teresaj@dubcolib.org
END:VEVENT
BEGIN:VEVENT
DTSTART;TZID=America/Chicago:20250701T100000
DTEND;TZID=America/Chicago:20250701T103000
DTSTAMP:20260423T142312
CREATED:20250430T222344Z
LAST-MODIFIED:20250716T221001Z
UID:10004444-1751364000-1751365800@www.dubcolib.org
SUMMARY:Storytime PLUS Farley
DESCRIPTION:Designed for children 3.5 and older\, this program will include songs and fingerplay\, longer picture books to increase attention\, and end with games or messy art. Held in South Pavilion #1 of Farley Park.
URL:https://www.dubcolib.org/event/storytime-plus/2025-07-01/
CATEGORIES:Preschoolers
ATTACH;FMTTYPE=image/jpeg:https://www.dubcolib.org/wp-content/uploads/2025/04/Summer-2025-6.jpg
ORGANIZER;CN="Teresa Jack":MAILTO:teresaj@dubcolib.org
END:VEVENT
BEGIN:VEVENT
DTSTART;TZID=America/Chicago:20250702T093000
DTEND;TZID=America/Chicago:20250702T100000
DTSTAMP:20260423T142312
CREATED:20250430T222619Z
LAST-MODIFIED:20250716T221206Z
UID:10004484-1751448600-1751450400@www.dubcolib.org
SUMMARY:Peosta Storytime
DESCRIPTION:Bring your friends and join Teresa for interactive rhymes and songs\, fingerplay\, and of course\, stories! Designed for children 2 – 4\, but all ages are welcome.
URL:https://www.dubcolib.org/event/peosta-storytime-2/2025-07-02/
LOCATION:Peosta Branch\, 8342 NICC Drive\, Peosta\, Iowa\, 52068
CATEGORIES:Preschoolers
ATTACH;FMTTYPE=image/jpeg:https://www.dubcolib.org/wp-content/uploads/2025/04/Summer-2025-7.jpg
ORGANIZER;CN="Teresa Jack":MAILTO:teresaj@dubcolib.org
END:VEVENT
BEGIN:VEVENT
DTSTART;TZID=America/Chicago:20250702T103000
DTEND;TZID=America/Chicago:20250702T110000
DTSTAMP:20260423T142312
CREATED:20250430T222132Z
LAST-MODIFIED:20250716T220928Z
UID:10004434-1751452200-1751454000@www.dubcolib.org
SUMMARY:Ready\, Set... Go! Epworth
DESCRIPTION:Level Up at your Library with Games\, Messy Art\, and possibly rowdy activities for children 3 – 5. Older and younger siblings are welcome.
URL:https://www.dubcolib.org/event/ready-set-go-2/2025-07-02/
LOCATION:Epworth Branch\, 110 Bierman Road\, Epworth\, Iowa\, 52045
CATEGORIES:Preschoolers
ATTACH;FMTTYPE=image/jpeg:https://www.dubcolib.org/wp-content/uploads/2025/04/Summer-2025-4.jpg
ORGANIZER;CN="Teresa Jack":MAILTO:teresaj@dubcolib.org
END:VEVENT
BEGIN:VEVENT
DTSTART;TZID=America/Chicago:20250703T100000
DTEND;TZID=America/Chicago:20250703T103000
DTSTAMP:20260423T142312
CREATED:20250430T222000Z
LAST-MODIFIED:20250716T220947Z
UID:10004415-1751536800-1751538600@www.dubcolib.org
SUMMARY:Ready\, Set... Go! Asbury
DESCRIPTION:Level Up at your Library with Games\, Messy Art\, and possibly rowdy activities for children 3 – 5. Older and younger siblings are welcome.
URL:https://www.dubcolib.org/event/ready-set-go/2025-07-03/
LOCATION:Asbury Branch\, 5290 Grand Meadow Drive\, Asbury\, Iowa\, 52002
CATEGORIES:Preschoolers
ATTACH;FMTTYPE=image/jpeg:https://www.dubcolib.org/wp-content/uploads/2025/04/Summer-2025-4.jpg
ORGANIZER;CN="Teresa Jack":MAILTO:teresaj@dubcolib.org
END:VEVENT
BEGIN:VEVENT
DTSTART;TZID=America/Chicago:20250708T090000
DTEND;TZID=America/Chicago:20250708T093000
DTSTAMP:20260423T142312
CREATED:20250430T222454Z
LAST-MODIFIED:20250716T221022Z
UID:10004465-1751965200-1751967000@www.dubcolib.org
SUMMARY:Holy Cross Storytime
DESCRIPTION:Bring your friends and join Teresa for interactive rhymes and songs\, fingerplay\, and of course\, stories! Designed for children 2 – 4\, but all ages are welcome.
URL:https://www.dubcolib.org/event/holy-cross-storytime/2025-07-08/
LOCATION:Holy Cross Branch\, 895 Main Street\, Holy Cross\, Iowa\, 52053
CATEGORIES:Preschoolers
ATTACH;FMTTYPE=image/jpeg:https://www.dubcolib.org/wp-content/uploads/2025/04/Summer-2025-8.jpg
ORGANIZER;CN="Teresa Jack":MAILTO:teresaj@dubcolib.org
END:VEVENT
BEGIN:VEVENT
DTSTART;TZID=America/Chicago:20250708T100000
DTEND;TZID=America/Chicago:20250708T103000
DTSTAMP:20260423T142312
CREATED:20250430T222344Z
LAST-MODIFIED:20250716T221001Z
UID:10004445-1751968800-1751970600@www.dubcolib.org
SUMMARY:Storytime PLUS Farley
DESCRIPTION:Designed for children 3.5 and older\, this program will include songs and fingerplay\, longer picture books to increase attention\, and end with games or messy art. Held in South Pavilion #1 of Farley Park.
URL:https://www.dubcolib.org/event/storytime-plus/2025-07-08/
CATEGORIES:Preschoolers
ATTACH;FMTTYPE=image/jpeg:https://www.dubcolib.org/wp-content/uploads/2025/04/Summer-2025-6.jpg
ORGANIZER;CN="Teresa Jack":MAILTO:teresaj@dubcolib.org
END:VEVENT
BEGIN:VEVENT
DTSTART;TZID=America/Chicago:20250709T093000
DTEND;TZID=America/Chicago:20250709T100000
DTSTAMP:20260423T142312
CREATED:20250430T222619Z
LAST-MODIFIED:20250716T221206Z
UID:10004485-1752053400-1752055200@www.dubcolib.org
SUMMARY:Peosta Storytime
DESCRIPTION:Bring your friends and join Teresa for interactive rhymes and songs\, fingerplay\, and of course\, stories! Designed for children 2 – 4\, but all ages are welcome.
URL:https://www.dubcolib.org/event/peosta-storytime-2/2025-07-09/
LOCATION:Peosta Branch\, 8342 NICC Drive\, Peosta\, Iowa\, 52068
CATEGORIES:Preschoolers
ATTACH;FMTTYPE=image/jpeg:https://www.dubcolib.org/wp-content/uploads/2025/04/Summer-2025-7.jpg
ORGANIZER;CN="Teresa Jack":MAILTO:teresaj@dubcolib.org
END:VEVENT
BEGIN:VEVENT
DTSTART;TZID=America/Chicago:20250709T103000
DTEND;TZID=America/Chicago:20250709T110000
DTSTAMP:20260423T142312
CREATED:20250430T222132Z
LAST-MODIFIED:20250716T220928Z
UID:10004435-1752057000-1752058800@www.dubcolib.org
SUMMARY:Ready\, Set... Go! Epworth
DESCRIPTION:Level Up at your Library with Games\, Messy Art\, and possibly rowdy activities for children 3 – 5. Older and younger siblings are welcome.
URL:https://www.dubcolib.org/event/ready-set-go-2/2025-07-09/
LOCATION:Epworth Branch\, 110 Bierman Road\, Epworth\, Iowa\, 52045
CATEGORIES:Preschoolers
ATTACH;FMTTYPE=image/jpeg:https://www.dubcolib.org/wp-content/uploads/2025/04/Summer-2025-4.jpg
ORGANIZER;CN="Teresa Jack":MAILTO:teresaj@dubcolib.org
END:VEVENT
BEGIN:VEVENT
DTSTART;TZID=America/Chicago:20250710T100000
DTEND;TZID=America/Chicago:20250710T103000
DTSTAMP:20260423T142312
CREATED:20250430T222000Z
LAST-MODIFIED:20250716T220947Z
UID:10004416-1752141600-1752143400@www.dubcolib.org
SUMMARY:Ready\, Set... Go! Asbury
DESCRIPTION:Level Up at your Library with Games\, Messy Art\, and possibly rowdy activities for children 3 – 5. Older and younger siblings are welcome.
URL:https://www.dubcolib.org/event/ready-set-go/2025-07-10/
LOCATION:Asbury Branch\, 5290 Grand Meadow Drive\, Asbury\, Iowa\, 52002
CATEGORIES:Preschoolers
ATTACH;FMTTYPE=image/jpeg:https://www.dubcolib.org/wp-content/uploads/2025/04/Summer-2025-4.jpg
ORGANIZER;CN="Teresa Jack":MAILTO:teresaj@dubcolib.org
END:VEVENT
BEGIN:VEVENT
DTSTART;TZID=America/Chicago:20250715T090000
DTEND;TZID=America/Chicago:20250715T093000
DTSTAMP:20260423T142312
CREATED:20250430T222454Z
LAST-MODIFIED:20250716T221022Z
UID:10004466-1752570000-1752571800@www.dubcolib.org
SUMMARY:Holy Cross Storytime
DESCRIPTION:Bring your friends and join Teresa for interactive rhymes and songs\, fingerplay\, and of course\, stories! Designed for children 2 – 4\, but all ages are welcome.
URL:https://www.dubcolib.org/event/holy-cross-storytime/2025-07-15/
LOCATION:Holy Cross Branch\, 895 Main Street\, Holy Cross\, Iowa\, 52053
CATEGORIES:Preschoolers
ATTACH;FMTTYPE=image/jpeg:https://www.dubcolib.org/wp-content/uploads/2025/04/Summer-2025-8.jpg
ORGANIZER;CN="Teresa Jack":MAILTO:teresaj@dubcolib.org
END:VEVENT
BEGIN:VEVENT
DTSTART;TZID=America/Chicago:20250715T100000
DTEND;TZID=America/Chicago:20250715T103000
DTSTAMP:20260423T142312
CREATED:20250430T222344Z
LAST-MODIFIED:20250716T221001Z
UID:10004446-1752573600-1752575400@www.dubcolib.org
SUMMARY:Storytime PLUS Farley
DESCRIPTION:Designed for children 3.5 and older\, this program will include songs and fingerplay\, longer picture books to increase attention\, and end with games or messy art. Held in South Pavilion #1 of Farley Park.
URL:https://www.dubcolib.org/event/storytime-plus/2025-07-15/
CATEGORIES:Preschoolers
ATTACH;FMTTYPE=image/jpeg:https://www.dubcolib.org/wp-content/uploads/2025/04/Summer-2025-6.jpg
ORGANIZER;CN="Teresa Jack":MAILTO:teresaj@dubcolib.org
END:VEVENT
BEGIN:VEVENT
DTSTART;TZID=America/Chicago:20250716T093000
DTEND;TZID=America/Chicago:20250716T100000
DTSTAMP:20260423T142312
CREATED:20250430T222619Z
LAST-MODIFIED:20250716T221206Z
UID:10004486-1752658200-1752660000@www.dubcolib.org
SUMMARY:Peosta Storytime
DESCRIPTION:Bring your friends and join Teresa for interactive rhymes and songs\, fingerplay\, and of course\, stories! Designed for children 2 – 4\, but all ages are welcome.
URL:https://www.dubcolib.org/event/peosta-storytime-2/2025-07-16/
LOCATION:Peosta Branch\, 8342 NICC Drive\, Peosta\, Iowa\, 52068
CATEGORIES:Preschoolers
ATTACH;FMTTYPE=image/jpeg:https://www.dubcolib.org/wp-content/uploads/2025/04/Summer-2025-7.jpg
ORGANIZER;CN="Teresa Jack":MAILTO:teresaj@dubcolib.org
END:VEVENT
BEGIN:VEVENT
DTSTART;TZID=America/Chicago:20250716T103000
DTEND;TZID=America/Chicago:20250716T110000
DTSTAMP:20260423T142312
CREATED:20250430T222132Z
LAST-MODIFIED:20250716T220928Z
UID:10004436-1752661800-1752663600@www.dubcolib.org
SUMMARY:Ready\, Set... Go! Epworth
DESCRIPTION:Level Up at your Library with Games\, Messy Art\, and possibly rowdy activities for children 3 – 5. Older and younger siblings are welcome.
URL:https://www.dubcolib.org/event/ready-set-go-2/2025-07-16/
LOCATION:Epworth Branch\, 110 Bierman Road\, Epworth\, Iowa\, 52045
CATEGORIES:Preschoolers
ATTACH;FMTTYPE=image/jpeg:https://www.dubcolib.org/wp-content/uploads/2025/04/Summer-2025-4.jpg
ORGANIZER;CN="Teresa Jack":MAILTO:teresaj@dubcolib.org
END:VEVENT
BEGIN:VEVENT
DTSTART;TZID=America/Chicago:20250717T100000
DTEND;TZID=America/Chicago:20250717T103000
DTSTAMP:20260423T142312
CREATED:20250430T222000Z
LAST-MODIFIED:20250716T220947Z
UID:10004417-1752746400-1752748200@www.dubcolib.org
SUMMARY:Ready\, Set... Go! Asbury
DESCRIPTION:Level Up at your Library with Games\, Messy Art\, and possibly rowdy activities for children 3 – 5. Older and younger siblings are welcome.
URL:https://www.dubcolib.org/event/ready-set-go/2025-07-17/
LOCATION:Asbury Branch\, 5290 Grand Meadow Drive\, Asbury\, Iowa\, 52002
CATEGORIES:Preschoolers
ATTACH;FMTTYPE=image/jpeg:https://www.dubcolib.org/wp-content/uploads/2025/04/Summer-2025-4.jpg
ORGANIZER;CN="Teresa Jack":MAILTO:teresaj@dubcolib.org
END:VEVENT
BEGIN:VEVENT
DTSTART;TZID=America/Chicago:20250722T090000
DTEND;TZID=America/Chicago:20250722T093000
DTSTAMP:20260423T142312
CREATED:20250430T222454Z
LAST-MODIFIED:20250716T221022Z
UID:10004467-1753174800-1753176600@www.dubcolib.org
SUMMARY:Holy Cross Storytime
DESCRIPTION:Bring your friends and join Teresa for interactive rhymes and songs\, fingerplay\, and of course\, stories! Designed for children 2 – 4\, but all ages are welcome.
URL:https://www.dubcolib.org/event/holy-cross-storytime/2025-07-22/
LOCATION:Holy Cross Branch\, 895 Main Street\, Holy Cross\, Iowa\, 52053
CATEGORIES:Preschoolers
ATTACH;FMTTYPE=image/jpeg:https://www.dubcolib.org/wp-content/uploads/2025/04/Summer-2025-8.jpg
ORGANIZER;CN="Teresa Jack":MAILTO:teresaj@dubcolib.org
END:VEVENT
BEGIN:VEVENT
DTSTART;TZID=America/Chicago:20250722T100000
DTEND;TZID=America/Chicago:20250722T103000
DTSTAMP:20260423T142312
CREATED:20250430T222344Z
LAST-MODIFIED:20250716T221001Z
UID:10004447-1753178400-1753180200@www.dubcolib.org
SUMMARY:Storytime PLUS Farley
DESCRIPTION:Designed for children 3.5 and older\, this program will include songs and fingerplay\, longer picture books to increase attention\, and end with games or messy art. Held in South Pavilion #1 of Farley Park.
URL:https://www.dubcolib.org/event/storytime-plus/2025-07-22/
CATEGORIES:Preschoolers
ATTACH;FMTTYPE=image/jpeg:https://www.dubcolib.org/wp-content/uploads/2025/04/Summer-2025-6.jpg
ORGANIZER;CN="Teresa Jack":MAILTO:teresaj@dubcolib.org
END:VEVENT
BEGIN:VEVENT
DTSTART;TZID=America/Chicago:20250723T093000
DTEND;TZID=America/Chicago:20250723T100000
DTSTAMP:20260423T142312
CREATED:20250430T222619Z
LAST-MODIFIED:20250716T221206Z
UID:10004487-1753263000-1753264800@www.dubcolib.org
SUMMARY:Peosta Storytime
DESCRIPTION:Bring your friends and join Teresa for interactive rhymes and songs\, fingerplay\, and of course\, stories! Designed for children 2 – 4\, but all ages are welcome.
URL:https://www.dubcolib.org/event/peosta-storytime-2/2025-07-23/
LOCATION:Peosta Branch\, 8342 NICC Drive\, Peosta\, Iowa\, 52068
CATEGORIES:Preschoolers
ATTACH;FMTTYPE=image/jpeg:https://www.dubcolib.org/wp-content/uploads/2025/04/Summer-2025-7.jpg
ORGANIZER;CN="Teresa Jack":MAILTO:teresaj@dubcolib.org
END:VEVENT
BEGIN:VEVENT
DTSTART;TZID=America/Chicago:20250723T103000
DTEND;TZID=America/Chicago:20250723T110000
DTSTAMP:20260423T142312
CREATED:20250430T222132Z
LAST-MODIFIED:20250716T220928Z
UID:10004437-1753266600-1753268400@www.dubcolib.org
SUMMARY:Ready\, Set... Go! Epworth
DESCRIPTION:Level Up at your Library with Games\, Messy Art\, and possibly rowdy activities for children 3 – 5. Older and younger siblings are welcome.
URL:https://www.dubcolib.org/event/ready-set-go-2/2025-07-23/
LOCATION:Epworth Branch\, 110 Bierman Road\, Epworth\, Iowa\, 52045
CATEGORIES:Preschoolers
ATTACH;FMTTYPE=image/jpeg:https://www.dubcolib.org/wp-content/uploads/2025/04/Summer-2025-4.jpg
ORGANIZER;CN="Teresa Jack":MAILTO:teresaj@dubcolib.org
END:VEVENT
BEGIN:VEVENT
DTSTART;TZID=America/Chicago:20250724T100000
DTEND;TZID=America/Chicago:20250724T103000
DTSTAMP:20260423T142312
CREATED:20250430T222000Z
LAST-MODIFIED:20250716T220947Z
UID:10004418-1753351200-1753353000@www.dubcolib.org
SUMMARY:Ready\, Set... Go! Asbury
DESCRIPTION:Level Up at your Library with Games\, Messy Art\, and possibly rowdy activities for children 3 – 5. Older and younger siblings are welcome.
URL:https://www.dubcolib.org/event/ready-set-go/2025-07-24/
LOCATION:Asbury Branch\, 5290 Grand Meadow Drive\, Asbury\, Iowa\, 52002
CATEGORIES:Preschoolers
ATTACH;FMTTYPE=image/jpeg:https://www.dubcolib.org/wp-content/uploads/2025/04/Summer-2025-4.jpg
ORGANIZER;CN="Teresa Jack":MAILTO:teresaj@dubcolib.org
END:VEVENT
BEGIN:VEVENT
DTSTART;TZID=America/Chicago:20250729T090000
DTEND;TZID=America/Chicago:20250729T093000
DTSTAMP:20260423T142312
CREATED:20250430T222454Z
LAST-MODIFIED:20250716T221022Z
UID:10004468-1753779600-1753781400@www.dubcolib.org
SUMMARY:Holy Cross Storytime
DESCRIPTION:Bring your friends and join Teresa for interactive rhymes and songs\, fingerplay\, and of course\, stories! Designed for children 2 – 4\, but all ages are welcome.
URL:https://www.dubcolib.org/event/holy-cross-storytime/2025-07-29/
LOCATION:Holy Cross Branch\, 895 Main Street\, Holy Cross\, Iowa\, 52053
CATEGORIES:Preschoolers
ATTACH;FMTTYPE=image/jpeg:https://www.dubcolib.org/wp-content/uploads/2025/04/Summer-2025-8.jpg
ORGANIZER;CN="Teresa Jack":MAILTO:teresaj@dubcolib.org
END:VEVENT
BEGIN:VEVENT
DTSTART;TZID=America/Chicago:20250729T100000
DTEND;TZID=America/Chicago:20250729T103000
DTSTAMP:20260423T142312
CREATED:20250430T222344Z
LAST-MODIFIED:20250716T221001Z
UID:10004448-1753783200-1753785000@www.dubcolib.org
SUMMARY:Storytime PLUS Farley
DESCRIPTION:Designed for children 3.5 and older\, this program will include songs and fingerplay\, longer picture books to increase attention\, and end with games or messy art. Held in South Pavilion #1 of Farley Park.
URL:https://www.dubcolib.org/event/storytime-plus/2025-07-29/
CATEGORIES:Preschoolers
ATTACH;FMTTYPE=image/jpeg:https://www.dubcolib.org/wp-content/uploads/2025/04/Summer-2025-6.jpg
ORGANIZER;CN="Teresa Jack":MAILTO:teresaj@dubcolib.org
END:VEVENT
BEGIN:VEVENT
DTSTART;TZID=America/Chicago:20250730T093000
DTEND;TZID=America/Chicago:20250730T100000
DTSTAMP:20260423T142312
CREATED:20250430T222619Z
LAST-MODIFIED:20250716T221206Z
UID:10004488-1753867800-1753869600@www.dubcolib.org
SUMMARY:Peosta Storytime
DESCRIPTION:Bring your friends and join Teresa for interactive rhymes and songs\, fingerplay\, and of course\, stories! Designed for children 2 – 4\, but all ages are welcome.
URL:https://www.dubcolib.org/event/peosta-storytime-2/2025-07-30/
LOCATION:Peosta Branch\, 8342 NICC Drive\, Peosta\, Iowa\, 52068
CATEGORIES:Preschoolers
ATTACH;FMTTYPE=image/jpeg:https://www.dubcolib.org/wp-content/uploads/2025/04/Summer-2025-7.jpg
ORGANIZER;CN="Teresa Jack":MAILTO:teresaj@dubcolib.org
END:VEVENT
BEGIN:VEVENT
DTSTART;TZID=America/Chicago:20250730T103000
DTEND;TZID=America/Chicago:20250730T110000
DTSTAMP:20260423T142312
CREATED:20250430T222132Z
LAST-MODIFIED:20250716T220928Z
UID:10004438-1753871400-1753873200@www.dubcolib.org
SUMMARY:Ready\, Set... Go! Epworth
DESCRIPTION:Level Up at your Library with Games\, Messy Art\, and possibly rowdy activities for children 3 – 5. Older and younger siblings are welcome.
URL:https://www.dubcolib.org/event/ready-set-go-2/2025-07-30/
LOCATION:Epworth Branch\, 110 Bierman Road\, Epworth\, Iowa\, 52045
CATEGORIES:Preschoolers
ATTACH;FMTTYPE=image/jpeg:https://www.dubcolib.org/wp-content/uploads/2025/04/Summer-2025-4.jpg
ORGANIZER;CN="Teresa Jack":MAILTO:teresaj@dubcolib.org
END:VEVENT
BEGIN:VEVENT
DTSTART;TZID=America/Chicago:20250731T100000
DTEND;TZID=America/Chicago:20250731T103000
DTSTAMP:20260423T142312
CREATED:20250430T222000Z
LAST-MODIFIED:20250716T220947Z
UID:10004419-1753956000-1753957800@www.dubcolib.org
SUMMARY:Ready\, Set... Go! Asbury
DESCRIPTION:Level Up at your Library with Games\, Messy Art\, and possibly rowdy activities for children 3 – 5. Older and younger siblings are welcome.
URL:https://www.dubcolib.org/event/ready-set-go/2025-07-31/
LOCATION:Asbury Branch\, 5290 Grand Meadow Drive\, Asbury\, Iowa\, 52002
CATEGORIES:Preschoolers
ATTACH;FMTTYPE=image/jpeg:https://www.dubcolib.org/wp-content/uploads/2025/04/Summer-2025-4.jpg
ORGANIZER;CN="Teresa Jack":MAILTO:teresaj@dubcolib.org
END:VEVENT
END:VCALENDAR