BEGIN:VCALENDAR
VERSION:2.0
PRODID:-//Dubuque County Library District - ECPv6.15.20//NONSGML v1.0//EN
CALSCALE:GREGORIAN
METHOD:PUBLISH
X-WR-CALNAME:Dubuque County Library District
X-ORIGINAL-URL:https://www.dubcolib.org
X-WR-CALDESC:Events for Dubuque County Library District
REFRESH-INTERVAL;VALUE=DURATION:PT1H
X-Robots-Tag:noindex
X-PUBLISHED-TTL:PT1H
BEGIN:VTIMEZONE
TZID:America/Chicago
BEGIN:DAYLIGHT
TZOFFSETFROM:-0600
TZOFFSETTO:-0500
TZNAME:CDT
DTSTART:20250309T080000
END:DAYLIGHT
BEGIN:STANDARD
TZOFFSETFROM:-0500
TZOFFSETTO:-0600
TZNAME:CST
DTSTART:20251102T070000
END:STANDARD
BEGIN:DAYLIGHT
TZOFFSETFROM:-0600
TZOFFSETTO:-0500
TZNAME:CDT
DTSTART:20260308T080000
END:DAYLIGHT
BEGIN:STANDARD
TZOFFSETFROM:-0500
TZOFFSETTO:-0600
TZNAME:CST
DTSTART:20261101T070000
END:STANDARD
BEGIN:DAYLIGHT
TZOFFSETFROM:-0600
TZOFFSETTO:-0500
TZNAME:CDT
DTSTART:20270314T080000
END:DAYLIGHT
BEGIN:STANDARD
TZOFFSETFROM:-0500
TZOFFSETTO:-0600
TZNAME:CST
DTSTART:20271107T070000
END:STANDARD
END:VTIMEZONE
BEGIN:VEVENT
DTSTART;TZID=America/Chicago:20260429T150000
DTEND;TZID=America/Chicago:20260429T153000
DTSTAMP:20260420T015012
CREATED:20260306T194943Z
LAST-MODIFIED:20260330T170353Z
UID:10005430-1777474800-1777476600@www.dubcolib.org
SUMMARY:DCLD Kids: STEM Blooming Flower Experiment
DESCRIPTION:Spring STEM fun for kids 5-12.
URL:https://www.dubcolib.org/event/dcld-kids-blooming-flower-experiment/
LOCATION:Farley Branch\, 206 1st Street North\, Farley\, IA\, 52046
CATEGORIES:Kids
ATTACH;FMTTYPE=image/jpeg:https://www.dubcolib.org/wp-content/uploads/2026/03/Paper-Flower-Magical-Water-Blossoms-Babble-Dabble-Do-HERO5.jpg
ORGANIZER;CN="Children's Librarian":MAILTO:LydiaS@dubcolib.org
END:VEVENT
BEGIN:VEVENT
DTSTART;TZID=America/Chicago:20260430T161500
DTEND;TZID=America/Chicago:20260430T170000
DTSTAMP:20260420T015013
CREATED:20251209T161657Z
LAST-MODIFIED:20260102T170136Z
UID:10005113-1777565700-1777568400@www.dubcolib.org
SUMMARY:Early Elementary Book Club
DESCRIPTION:New Library Book Club for 1st – 3rd graders! \nJanuary’s book – Disaster Squad: Wildfire Rescue\nFebruary’s book – Zoey and Sassafras: Dragons and Marshmallows\nMarch’s book – The Last Firehawk: The Ember Stone\nApril’s book – The Boxcar Children\, No. 1\nBooks can be picked up at the Asbury branch starting January 2nd. \nRSVP Required: CLICK HERE
URL:https://www.dubcolib.org/event/elembookclub/2026-04-30/
LOCATION:Asbury Branch\, 5290 Grand Meadow Drive\, Asbury\, Iowa\, 52002
CATEGORIES:Kids
ATTACH;FMTTYPE=image/jpeg:https://www.dubcolib.org/wp-content/uploads/2025/12/newsletter-for-instagram-12.jpg
ORGANIZER;CN="Children's Librarian":MAILTO:LydiaS@dubcolib.org
END:VEVENT
BEGIN:VEVENT
DTSTART;TZID=America/Chicago:20260430T171500
DTEND;TZID=America/Chicago:20260430T180000
DTSTAMP:20260420T015013
CREATED:20251209T161700Z
LAST-MODIFIED:20260102T170554Z
UID:10005109-1777569300-1777572000@www.dubcolib.org
SUMMARY:Tween Book Club
DESCRIPTION:New Library Book Club for 4th – 6th graders! \nJanuary’s book – Insignificant Events in the Life of a Cactus\nFebruary’s book – The One and Only Ivan\nMarch’s book – From the Mixed-Up Files of Mrs. Basil E. Frankweiler\nApril’s book – Because of Winn-Dixie\nBooks can be picked up at the Asbury branch starting January 2nd. \nRSVP Required: CLICK HERE
URL:https://www.dubcolib.org/event/tweenbookclub/2026-04-30/
LOCATION:Asbury Branch\, 5290 Grand Meadow Drive\, Asbury\, Iowa\, 52002
CATEGORIES:Kids
ATTACH;FMTTYPE=image/jpeg:https://www.dubcolib.org/wp-content/uploads/2025/12/newsletter-for-instagram-13.jpg
ORGANIZER;CN="Children's Librarian":MAILTO:LydiaS@dubcolib.org
END:VEVENT
BEGIN:VEVENT
DTSTART;TZID=America/Chicago:20260502T103000
DTEND;TZID=America/Chicago:20260502T111500
DTSTAMP:20260420T015013
CREATED:20260410T183009Z
LAST-MODIFIED:20260410T190911Z
UID:10005457-1777717800-1777720500@www.dubcolib.org
SUMMARY:DCLD Kids: Coasters
DESCRIPTION:Celebrate someone special in your life by making them a personalized coaster! Perfect for a Mother’s Day gift. For ages 5-12.
URL:https://www.dubcolib.org/event/dcld-kids-coaster-4/
LOCATION:Peosta Branch\, 8342 NICC Drive\, Peosta\, Iowa\, 52068
CATEGORIES:Kids
ATTACH;FMTTYPE=image/jpeg:https://www.dubcolib.org/wp-content/uploads/2026/04/Black-Red-Modern-Simple-Bold-Typography-I-Love-Me-T-Shirt-2.jpg
ORGANIZER;CN="Children's Librarian":MAILTO:LydiaS@dubcolib.org
END:VEVENT
BEGIN:VEVENT
DTSTART;TZID=America/Chicago:20260504T163000
DTEND;TZID=America/Chicago:20260504T171500
DTSTAMP:20260420T015013
CREATED:20260410T183005Z
LAST-MODIFIED:20260410T190916Z
UID:10005458-1777912200-1777914900@www.dubcolib.org
SUMMARY:DCLD Kids: Coasters
DESCRIPTION:Celebrate someone special in your life by making them a personalized coaster! Perfect for a Mother’s Day gift. For ages 5-12.
URL:https://www.dubcolib.org/event/dcld-kids-coaster-3/
LOCATION:Holy Cross Branch\, 895 Main Street\, Holy Cross\, Iowa\, 52053
CATEGORIES:Kids
ATTACH;FMTTYPE=image/jpeg:https://www.dubcolib.org/wp-content/uploads/2026/04/Black-Red-Modern-Simple-Bold-Typography-I-Love-Me-T-Shirt-2.jpg
ORGANIZER;CN="Children's Librarian":MAILTO:LydiaS@dubcolib.org
END:VEVENT
BEGIN:VEVENT
DTSTART;TZID=America/Chicago:20260505T163000
DTEND;TZID=America/Chicago:20260505T171500
DTSTAMP:20260420T015013
CREATED:20260410T183000Z
LAST-MODIFIED:20260410T190924Z
UID:10005459-1777998600-1778001300@www.dubcolib.org
SUMMARY:DCLD Kids: Coasters
DESCRIPTION:Celebrate someone special in your life by making them a personalized coaster! Perfect for a Mother’s Day gift. For ages 5-12.
URL:https://www.dubcolib.org/event/dcld-kids-coaster-2/
LOCATION:Epworth Branch\, 110 Bierman Road\, Epworth\, Iowa\, 52045
CATEGORIES:Kids
ATTACH;FMTTYPE=image/jpeg:https://www.dubcolib.org/wp-content/uploads/2026/04/Black-Red-Modern-Simple-Bold-Typography-I-Love-Me-T-Shirt-2.jpg
ORGANIZER;CN="Children's Librarian":MAILTO:LydiaS@dubcolib.org
END:VEVENT
BEGIN:VEVENT
DTSTART;TZID=America/Chicago:20260506T150000
DTEND;TZID=America/Chicago:20260506T154500
DTSTAMP:20260420T015013
CREATED:20260410T182954Z
LAST-MODIFIED:20260410T190926Z
UID:10005460-1778079600-1778082300@www.dubcolib.org
SUMMARY:DCLD Kids: Coasters
DESCRIPTION:Celebrate someone special in your life by making them a personalized coaster! Perfect for a Mother’s Day gift. For ages 5-12.
URL:https://www.dubcolib.org/event/dcld-kids-coaster/
LOCATION:Farley Branch\, 206 1st Street North\, Farley\, IA\, 52046
CATEGORIES:Kids
ATTACH;FMTTYPE=image/jpeg:https://www.dubcolib.org/wp-content/uploads/2026/04/Black-Red-Modern-Simple-Bold-Typography-I-Love-Me-T-Shirt-2.jpg
ORGANIZER;CN="Children's Librarian":MAILTO:LydiaS@dubcolib.org
END:VEVENT
BEGIN:VEVENT
DTSTART;TZID=America/Chicago:20260507T163000
DTEND;TZID=America/Chicago:20260507T171500
DTSTAMP:20260420T015013
CREATED:20260410T182723Z
LAST-MODIFIED:20260410T183020Z
UID:10005461-1778171400-1778174100@www.dubcolib.org
SUMMARY:DCLD Kids: Coasters
DESCRIPTION:Celebrate someone special in your life by making them a personalized coaster! Perfect for a Mother’s Day gift. For ages 5-12.
URL:https://www.dubcolib.org/event/dcld-kids-coasters/
LOCATION:Asbury Branch\, 5290 Grand Meadow Drive\, Asbury\, Iowa\, 52002
CATEGORIES:Kids
ATTACH;FMTTYPE=image/jpeg:https://www.dubcolib.org/wp-content/uploads/2026/04/Black-Red-Modern-Simple-Bold-Typography-I-Love-Me-T-Shirt-2.jpg
ORGANIZER;CN="Children's Librarian":MAILTO:LydiaS@dubcolib.org
END:VEVENT
BEGIN:VEVENT
DTSTART;TZID=America/Chicago:20260511T180000
DTEND;TZID=America/Chicago:20260511T193000
DTSTAMP:20260420T015013
CREATED:20260128T202555Z
LAST-MODIFIED:20260128T202638Z
UID:10005308-1778522400-1778527800@www.dubcolib.org
SUMMARY:Laura Ingalls Wilder: History @ The Library
DESCRIPTION:Explore the life of Laura Ingalls Wilder\, from her pioneer childhood to her successful writing career with Historian and Laura expert Sarah Uthoff. Learn the real history of the famous author\, as well as the places and people who inspired her beloved books. This program is appropriate for all ages. \nRSVP is recommended. \nDCLD received funding from Humanities Iowa\, a private nonprofit\, to host this program. If you are a person with a disability who requires special assistance\, please call the library in advance.
URL:https://www.dubcolib.org/event/lauraingallswilder/
LOCATION:Asbury Branch\, 5290 Grand Meadow Drive\, Asbury\, Iowa\, 52002
CATEGORIES:Adults,All Ages,Kids,Teens
ATTACH;FMTTYPE=image/jpeg:https://www.dubcolib.org/wp-content/uploads/2026/01/Laura-Ingalls-Wilder-500.jpg
ORGANIZER;CN="Teen & Adult Programming Librarian":MAILTO:jennm@dubcolib.org
END:VEVENT
END:VCALENDAR