BEGIN:VCALENDAR
VERSION:2.0
PRODID:-//Dubuque County Library District - ECPv6.15.20//NONSGML v1.0//EN
CALSCALE:GREGORIAN
METHOD:PUBLISH
X-ORIGINAL-URL:https://www.dubcolib.org
X-WR-CALDESC:Events for Dubuque County Library District
REFRESH-INTERVAL;VALUE=DURATION:PT1H
X-Robots-Tag:noindex
X-PUBLISHED-TTL:PT1H
BEGIN:VTIMEZONE
TZID:America/Chicago
BEGIN:DAYLIGHT
TZOFFSETFROM:-0600
TZOFFSETTO:-0500
TZNAME:CDT
DTSTART:20230312T080000
END:DAYLIGHT
BEGIN:STANDARD
TZOFFSETFROM:-0500
TZOFFSETTO:-0600
TZNAME:CST
DTSTART:20231105T070000
END:STANDARD
BEGIN:DAYLIGHT
TZOFFSETFROM:-0600
TZOFFSETTO:-0500
TZNAME:CDT
DTSTART:20240310T080000
END:DAYLIGHT
BEGIN:STANDARD
TZOFFSETFROM:-0500
TZOFFSETTO:-0600
TZNAME:CST
DTSTART:20241103T070000
END:STANDARD
BEGIN:DAYLIGHT
TZOFFSETFROM:-0600
TZOFFSETTO:-0500
TZNAME:CDT
DTSTART:20250309T080000
END:DAYLIGHT
BEGIN:STANDARD
TZOFFSETFROM:-0500
TZOFFSETTO:-0600
TZNAME:CST
DTSTART:20251102T070000
END:STANDARD
END:VTIMEZONE
BEGIN:VEVENT
DTSTART;TZID=America/Chicago:20240903T110000
DTEND;TZID=America/Chicago:20240903T120000
DTSTAMP:20260420T235638
CREATED:20240816T184620Z
LAST-MODIFIED:20240816T184620Z
UID:10003315-1725361200-1725364800@www.dubcolib.org
SUMMARY:Tai Chi
DESCRIPTION:Tai Chi consists of slow\, fluid\, gentle movements. It can be practiced almost anywhere and is accessible for individuals at any fitness level.\nThis 2 month twice weekly class is taught by a certified Tai Chi instructor and is suitable for beginners. Class is held Tuesday and Thursday mornings 11:00 – Noon September 3rd – October 31st. RSVP is required. Registering for this first class counts for all 16 classes.
URL:https://www.dubcolib.org/event/tai-chi-3/
LOCATION:Asbury Branch\, 5290 Grand Meadow Drive\, Asbury\, Iowa\, 52002
CATEGORIES:Adults
ATTACH;FMTTYPE=image/png:https://www.dubcolib.org/wp-content/uploads/2024/02/4.png
ORGANIZER;CN="John Bogdal":MAILTO:JohnB@dubcolib.org
END:VEVENT
BEGIN:VEVENT
DTSTART;TZID=America/Chicago:20240905T110000
DTEND;TZID=America/Chicago:20240905T120000
DTSTAMP:20260420T235638
CREATED:20240816T184853Z
LAST-MODIFIED:20241025T162047Z
UID:10003317-1725534000-1725537600@www.dubcolib.org
SUMMARY:Tai Chi
DESCRIPTION:Tai Chi consists of slow\, fluid\, gentle movements. It can be practiced almost anywhere and is accessible for individuals at any fitness level.\nThis 2 month twice weekly class is taught by a certified Tai Chi instructor and is suitable for beginners. Class is held Tuesday and Thursday mornings 11:00 – Noon September 3rd – October 31st. RSVP is required. RSVP HERE for all 16 classes.
URL:https://www.dubcolib.org/event/tai-chi-4/2024-09-05/
LOCATION:Asbury Branch\, 5290 Grand Meadow Drive\, Asbury\, Iowa\, 52002
CATEGORIES:Adults
ATTACH;FMTTYPE=image/png:https://www.dubcolib.org/wp-content/uploads/2024/02/4.png
ORGANIZER;CN="John Bogdal":MAILTO:JohnB@dubcolib.org
END:VEVENT
BEGIN:VEVENT
DTSTART;TZID=America/Chicago:20240909T180000
DTEND;TZID=America/Chicago:20240909T190000
DTSTAMP:20260420T235638
CREATED:20240810T174726Z
LAST-MODIFIED:20240815T202732Z
UID:10002836-1725904800-1725908400@www.dubcolib.org
SUMMARY:Sourdough Starter Class
DESCRIPTION:Celebrate National Sourdough Month with our beginner sourdough class lead by Dee Berman of the Tangy Loaf.  \nYou’ll learn how to create a sourdough starter to take home and receive practical advice on how to care for it from start to finish. RSVP is required. \nIf the class is full\, please email JohnB@dubcolib.org to get on the waitlist
URL:https://www.dubcolib.org/event/sourdough-starter/
LOCATION:Asbury Branch\, 5290 Grand Meadow Drive\, Asbury\, Iowa\, 52002
CATEGORIES:Adults
ATTACH;FMTTYPE=image/jpeg:https://www.dubcolib.org/wp-content/uploads/2024/08/Website-Resolution-55.jpg
ORGANIZER;CN="John Bogdal":MAILTO:JohnB@dubcolib.org
END:VEVENT
BEGIN:VEVENT
DTSTART;TZID=America/Chicago:20240910T110000
DTEND;TZID=America/Chicago:20240910T120000
DTSTAMP:20260420T235638
CREATED:20240816T184853Z
LAST-MODIFIED:20241025T162047Z
UID:10003318-1725966000-1725969600@www.dubcolib.org
SUMMARY:Tai Chi
DESCRIPTION:Tai Chi consists of slow\, fluid\, gentle movements. It can be practiced almost anywhere and is accessible for individuals at any fitness level.\nThis 2 month twice weekly class is taught by a certified Tai Chi instructor and is suitable for beginners. Class is held Tuesday and Thursday mornings 11:00 – Noon September 3rd – October 31st. RSVP is required. RSVP HERE for all 16 classes.
URL:https://www.dubcolib.org/event/tai-chi-4/2024-09-10/
LOCATION:Asbury Branch\, 5290 Grand Meadow Drive\, Asbury\, Iowa\, 52002
CATEGORIES:Adults
ATTACH;FMTTYPE=image/png:https://www.dubcolib.org/wp-content/uploads/2024/02/4.png
ORGANIZER;CN="John Bogdal":MAILTO:JohnB@dubcolib.org
END:VEVENT
BEGIN:VEVENT
DTSTART;TZID=America/Chicago:20240912T110000
DTEND;TZID=America/Chicago:20240912T120000
DTSTAMP:20260420T235638
CREATED:20240816T184853Z
LAST-MODIFIED:20241025T162047Z
UID:10003319-1726138800-1726142400@www.dubcolib.org
SUMMARY:Tai Chi
DESCRIPTION:Tai Chi consists of slow\, fluid\, gentle movements. It can be practiced almost anywhere and is accessible for individuals at any fitness level.\nThis 2 month twice weekly class is taught by a certified Tai Chi instructor and is suitable for beginners. Class is held Tuesday and Thursday mornings 11:00 – Noon September 3rd – October 31st. RSVP is required. RSVP HERE for all 16 classes.
URL:https://www.dubcolib.org/event/tai-chi-4/2024-09-12/
LOCATION:Asbury Branch\, 5290 Grand Meadow Drive\, Asbury\, Iowa\, 52002
CATEGORIES:Adults
ATTACH;FMTTYPE=image/png:https://www.dubcolib.org/wp-content/uploads/2024/02/4.png
ORGANIZER;CN="John Bogdal":MAILTO:JohnB@dubcolib.org
END:VEVENT
BEGIN:VEVENT
DTSTART;TZID=America/Chicago:20240913T110000
DTEND;TZID=America/Chicago:20240913T120000
DTSTAMP:20260420T235638
CREATED:20240814T212706Z
LAST-MODIFIED:20240821T200757Z
UID:10002842-1726225200-1726228800@www.dubcolib.org
SUMMARY:Chair Yoga
DESCRIPTION:Come and stretch your body in the most relaxed way…from your chair!  You’ll get a full body strength and stretching workout from head to toe every time in only 60 minutes! The class runs September 13th – October 4th. RSVP for week 1 counts for all 4 weeks.
URL:https://www.dubcolib.org/event/chair-yoga-5/
LOCATION:Asbury Branch\, 5290 Grand Meadow Drive\, Asbury\, Iowa\, 52002
CATEGORIES:Adults
ATTACH;FMTTYPE=image/jpeg:https://www.dubcolib.org/wp-content/uploads/2024/04/Website-Resolution-15.jpg
ORGANIZER;CN="John Bogdal":MAILTO:JohnB@dubcolib.org
END:VEVENT
BEGIN:VEVENT
DTSTART;TZID=America/Chicago:20240916T180000
DTEND;TZID=America/Chicago:20240916T190000
DTSTAMP:20260420T235638
CREATED:20240814T214601Z
LAST-MODIFIED:20240814T214601Z
UID:10002844-1726509600-1726513200@www.dubcolib.org
SUMMARY:Craft Club
DESCRIPTION:Join us for this monthly crafting program. September’s craft is DIY is glass fridge magnets. RSVP recommended\, drop-ins welcome as supplies last.
URL:https://www.dubcolib.org/event/craft-club-22/
LOCATION:Asbury Branch\, 5290 Grand Meadow Drive\, Asbury\, Iowa\, 52002
CATEGORIES:Adults
ATTACH;FMTTYPE=image/jpeg:https://www.dubcolib.org/wp-content/uploads/2024/08/Website-Resolution-56.jpg
ORGANIZER;CN="John Bogdal":MAILTO:JohnB@dubcolib.org
END:VEVENT
BEGIN:VEVENT
DTSTART;TZID=America/Chicago:20240917T110000
DTEND;TZID=America/Chicago:20240917T120000
DTSTAMP:20260420T235638
CREATED:20240816T184853Z
LAST-MODIFIED:20241025T162047Z
UID:10003320-1726570800-1726574400@www.dubcolib.org
SUMMARY:Tai Chi
DESCRIPTION:Tai Chi consists of slow\, fluid\, gentle movements. It can be practiced almost anywhere and is accessible for individuals at any fitness level.\nThis 2 month twice weekly class is taught by a certified Tai Chi instructor and is suitable for beginners. Class is held Tuesday and Thursday mornings 11:00 – Noon September 3rd – October 31st. RSVP is required. RSVP HERE for all 16 classes.
URL:https://www.dubcolib.org/event/tai-chi-4/2024-09-17/
LOCATION:Asbury Branch\, 5290 Grand Meadow Drive\, Asbury\, Iowa\, 52002
CATEGORIES:Adults
ATTACH;FMTTYPE=image/png:https://www.dubcolib.org/wp-content/uploads/2024/02/4.png
ORGANIZER;CN="John Bogdal":MAILTO:JohnB@dubcolib.org
END:VEVENT
BEGIN:VEVENT
DTSTART;TZID=America/Chicago:20240918T183000
DTEND;TZID=America/Chicago:20240918T193000
DTSTAMP:20260420T235638
CREATED:20240809T234504Z
LAST-MODIFIED:20240809T234504Z
UID:10002846-1726684200-1726687800@www.dubcolib.org
SUMMARY:Page Turners
DESCRIPTION:This month’s book club read is And Then There Were None by Agatha Christie. Copies available at the Asbury branch. New members should email JohnB@dubcolib.org to join.
URL:https://www.dubcolib.org/event/page-turners-14/
LOCATION:Asbury Branch\, 5290 Grand Meadow Drive\, Asbury\, Iowa\, 52002
CATEGORIES:Adults
ATTACH;FMTTYPE=image/png:https://www.dubcolib.org/wp-content/uploads/2024/02/5.png
ORGANIZER;CN="John Bogdal":MAILTO:JohnB@dubcolib.org
END:VEVENT
BEGIN:VEVENT
DTSTART;TZID=America/Chicago:20240919T110000
DTEND;TZID=America/Chicago:20240919T120000
DTSTAMP:20260420T235638
CREATED:20240816T184853Z
LAST-MODIFIED:20241025T162047Z
UID:10003321-1726743600-1726747200@www.dubcolib.org
SUMMARY:Tai Chi
DESCRIPTION:Tai Chi consists of slow\, fluid\, gentle movements. It can be practiced almost anywhere and is accessible for individuals at any fitness level.\nThis 2 month twice weekly class is taught by a certified Tai Chi instructor and is suitable for beginners. Class is held Tuesday and Thursday mornings 11:00 – Noon September 3rd – October 31st. RSVP is required. RSVP HERE for all 16 classes.
URL:https://www.dubcolib.org/event/tai-chi-4/2024-09-19/
LOCATION:Asbury Branch\, 5290 Grand Meadow Drive\, Asbury\, Iowa\, 52002
CATEGORIES:Adults
ATTACH;FMTTYPE=image/png:https://www.dubcolib.org/wp-content/uploads/2024/02/4.png
ORGANIZER;CN="John Bogdal":MAILTO:JohnB@dubcolib.org
END:VEVENT
BEGIN:VEVENT
DTSTART;TZID=America/Chicago:20240920T110000
DTEND;TZID=America/Chicago:20240920T120000
DTSTAMP:20260420T235638
CREATED:20240814T213223Z
LAST-MODIFIED:20240814T213350Z
UID:10003255-1726830000-1726833600@www.dubcolib.org
SUMMARY:Chair Yoga
DESCRIPTION:Come and stretch your body in the most relaxed way…from your chair!  You’ll get a full body strength and stretching workout from head to toe every time in only 60 minutes! The class runs September 13th – October 4th. RSVP for all 4 weeks HERE
URL:https://www.dubcolib.org/event/chair-yoga-6/2024-09-20/
LOCATION:Asbury Branch\, 5290 Grand Meadow Drive\, Asbury\, Iowa\, 52002
CATEGORIES:Adults
ATTACH;FMTTYPE=image/jpeg:https://www.dubcolib.org/wp-content/uploads/2024/04/Website-Resolution-15.jpg
ORGANIZER;CN="John Bogdal":MAILTO:JohnB@dubcolib.org
END:VEVENT
BEGIN:VEVENT
DTSTART;TZID=America/Chicago:20240921T110000
DTEND;TZID=America/Chicago:20240921T120000
DTSTAMP:20260420T235638
CREATED:20240814T214802Z
LAST-MODIFIED:20240821T195741Z
UID:10002849-1726916400-1726920000@www.dubcolib.org
SUMMARY:Virtual Craft Club
DESCRIPTION:Join us for this monthly crafting program. September’s craft is DIY is glass fridge magnets. RSVP required.
URL:https://www.dubcolib.org/event/virtual-craft-club-2/
LOCATION:Virtual
CATEGORIES:Adults
ATTACH;FMTTYPE=image/jpeg:https://www.dubcolib.org/wp-content/uploads/2024/08/Website-Resolution-56.jpg
ORGANIZER;CN="John Bogdal":MAILTO:JohnB@dubcolib.org
END:VEVENT
BEGIN:VEVENT
DTSTART;TZID=America/Chicago:20240923T180000
DTEND;TZID=America/Chicago:20240923T190000
DTSTAMP:20260420T235638
CREATED:20240814T214653Z
LAST-MODIFIED:20240814T214653Z
UID:10002850-1727114400-1727118000@www.dubcolib.org
SUMMARY:Craft Club
DESCRIPTION:Join us for this monthly crafting program. September’s craft is DIY is glass fridge magnets. RSVP recommended\, drop-ins welcome as supplies last.
URL:https://www.dubcolib.org/event/craft-club-23/
LOCATION:Holy Cross Branch\, 895 Main Street\, Holy Cross\, Iowa\, 52053
CATEGORIES:Adults
ATTACH;FMTTYPE=image/jpeg:https://www.dubcolib.org/wp-content/uploads/2024/08/Website-Resolution-56.jpg
ORGANIZER;CN="John Bogdal":MAILTO:JohnB@dubcolib.org
END:VEVENT
BEGIN:VEVENT
DTSTART;TZID=America/Chicago:20240924T110000
DTEND;TZID=America/Chicago:20240924T120000
DTSTAMP:20260420T235638
CREATED:20240816T184853Z
LAST-MODIFIED:20241025T162047Z
UID:10003322-1727175600-1727179200@www.dubcolib.org
SUMMARY:Tai Chi
DESCRIPTION:Tai Chi consists of slow\, fluid\, gentle movements. It can be practiced almost anywhere and is accessible for individuals at any fitness level.\nThis 2 month twice weekly class is taught by a certified Tai Chi instructor and is suitable for beginners. Class is held Tuesday and Thursday mornings 11:00 – Noon September 3rd – October 31st. RSVP is required. RSVP HERE for all 16 classes.
URL:https://www.dubcolib.org/event/tai-chi-4/2024-09-24/
LOCATION:Asbury Branch\, 5290 Grand Meadow Drive\, Asbury\, Iowa\, 52002
CATEGORIES:Adults
ATTACH;FMTTYPE=image/png:https://www.dubcolib.org/wp-content/uploads/2024/02/4.png
ORGANIZER;CN="John Bogdal":MAILTO:JohnB@dubcolib.org
END:VEVENT
BEGIN:VEVENT
DTSTART;TZID=America/Chicago:20240924T180000
DTEND;TZID=America/Chicago:20240924T190000
DTSTAMP:20260420T235638
CREATED:20240810T174752Z
LAST-MODIFIED:20240906T172848Z
UID:10002838-1727200800-1727204400@www.dubcolib.org
SUMMARY:Modern Architecture
DESCRIPTION:Interested in Dubuque’s rich architectural heritage? Learn all about Mid-Century Modern Architecture in Dubuque County with Tricia J. Baum from the Dubuque County Historic Preservation Commission.
URL:https://www.dubcolib.org/event/modern-architecture-2/
LOCATION:Peosta Branch\, 8342 NICC Drive\, Peosta\, Iowa\, 52068
CATEGORIES:Adults
ATTACH;FMTTYPE=image/jpeg:https://www.dubcolib.org/wp-content/uploads/2024/07/what-style-is-it-architecture-8.5-x-5.5-Flyer.jpg
ORGANIZER;CN="John Bogdal":MAILTO:JohnB@dubcolib.org
END:VEVENT
BEGIN:VEVENT
DTSTART;TZID=America/Chicago:20240926T110000
DTEND;TZID=America/Chicago:20240926T120000
DTSTAMP:20260420T235638
CREATED:20240816T184853Z
LAST-MODIFIED:20241025T162047Z
UID:10003323-1727348400-1727352000@www.dubcolib.org
SUMMARY:Tai Chi
DESCRIPTION:Tai Chi consists of slow\, fluid\, gentle movements. It can be practiced almost anywhere and is accessible for individuals at any fitness level.\nThis 2 month twice weekly class is taught by a certified Tai Chi instructor and is suitable for beginners. Class is held Tuesday and Thursday mornings 11:00 – Noon September 3rd – October 31st. RSVP is required. RSVP HERE for all 16 classes.
URL:https://www.dubcolib.org/event/tai-chi-4/2024-09-26/
LOCATION:Asbury Branch\, 5290 Grand Meadow Drive\, Asbury\, Iowa\, 52002
CATEGORIES:Adults
ATTACH;FMTTYPE=image/png:https://www.dubcolib.org/wp-content/uploads/2024/02/4.png
ORGANIZER;CN="John Bogdal":MAILTO:JohnB@dubcolib.org
END:VEVENT
BEGIN:VEVENT
DTSTART;TZID=America/Chicago:20240927T110000
DTEND;TZID=America/Chicago:20240927T120000
DTSTAMP:20260420T235638
CREATED:20240814T213223Z
LAST-MODIFIED:20240814T213350Z
UID:10002855-1727434800-1727438400@www.dubcolib.org
SUMMARY:Chair Yoga
DESCRIPTION:Come and stretch your body in the most relaxed way…from your chair!  You’ll get a full body strength and stretching workout from head to toe every time in only 60 minutes! The class runs September 13th – October 4th. RSVP for all 4 weeks HERE
URL:https://www.dubcolib.org/event/chair-yoga-6/2024-09-27/
LOCATION:Asbury Branch\, 5290 Grand Meadow Drive\, Asbury\, Iowa\, 52002
CATEGORIES:Adults
ATTACH;FMTTYPE=image/jpeg:https://www.dubcolib.org/wp-content/uploads/2024/04/Website-Resolution-15.jpg
ORGANIZER;CN="John Bogdal":MAILTO:JohnB@dubcolib.org
END:VEVENT
BEGIN:VEVENT
DTSTART;TZID=America/Chicago:20240930T180000
DTEND;TZID=America/Chicago:20240930T190000
DTSTAMP:20260420T235638
CREATED:20240810T170015Z
LAST-MODIFIED:20240810T171610Z
UID:10002856-1727719200-1727722800@www.dubcolib.org
SUMMARY:Rosie the Riveters of Iowa
DESCRIPTION:Iowa author Linda McCann will discusses the story behind her latest book\, “Rosie the Riveters of Iowa” exploring the stories of Iowan women during World War II.
URL:https://www.dubcolib.org/event/rosie-the-riveters-of-iowa/
LOCATION:Asbury Branch\, 5290 Grand Meadow Drive\, Asbury\, Iowa\, 52002
CATEGORIES:Adults
ATTACH;FMTTYPE=image/png:https://www.dubcolib.org/wp-content/uploads/2024/03/Website-Resolution-12.png
ORGANIZER;CN="John Bogdal":MAILTO:JohnB@dubcolib.org
END:VEVENT
BEGIN:VEVENT
DTSTART;TZID=America/Chicago:20241001T110000
DTEND;TZID=America/Chicago:20241001T120000
DTSTAMP:20260420T235638
CREATED:20240816T184853Z
LAST-MODIFIED:20241025T162047Z
UID:10003324-1727780400-1727784000@www.dubcolib.org
SUMMARY:Tai Chi
DESCRIPTION:Tai Chi consists of slow\, fluid\, gentle movements. It can be practiced almost anywhere and is accessible for individuals at any fitness level.\nThis 2 month twice weekly class is taught by a certified Tai Chi instructor and is suitable for beginners. Class is held Tuesday and Thursday mornings 11:00 – Noon September 3rd – October 31st. RSVP is required. RSVP HERE for all 16 classes.
URL:https://www.dubcolib.org/event/tai-chi-4/2024-10-01/
LOCATION:Asbury Branch\, 5290 Grand Meadow Drive\, Asbury\, Iowa\, 52002
CATEGORIES:Adults
ATTACH;FMTTYPE=image/png:https://www.dubcolib.org/wp-content/uploads/2024/02/4.png
ORGANIZER;CN="John Bogdal":MAILTO:JohnB@dubcolib.org
END:VEVENT
BEGIN:VEVENT
DTSTART;TZID=America/Chicago:20241001T180000
DTEND;TZID=America/Chicago:20241001T193000
DTSTAMP:20260420T235638
CREATED:20240814T215238Z
LAST-MODIFIED:20240814T215238Z
UID:10003309-1727805600-1727811000@www.dubcolib.org
SUMMARY:Beginning Genealogy with Linda McCann
DESCRIPTION:Iowa author Linda McCann will share strategies for beginning your journey through genealogical research.
URL:https://www.dubcolib.org/event/beginning-genealogy-with-linda-mccann/
LOCATION:Peosta Branch\, 8342 NICC Drive\, Peosta\, Iowa\, 52068
CATEGORIES:Adults
ATTACH;FMTTYPE=image/jpeg:https://www.dubcolib.org/wp-content/uploads/2024/03/Website-Resolution-13.jpg
ORGANIZER;CN="John Bogdal":MAILTO:JohnB@dubcolib.org
END:VEVENT
BEGIN:VEVENT
DTSTART;TZID=America/Chicago:20241003T110000
DTEND;TZID=America/Chicago:20241003T120000
DTSTAMP:20260420T235638
CREATED:20240816T184853Z
LAST-MODIFIED:20241025T162047Z
UID:10003325-1727953200-1727956800@www.dubcolib.org
SUMMARY:Tai Chi
DESCRIPTION:Tai Chi consists of slow\, fluid\, gentle movements. It can be practiced almost anywhere and is accessible for individuals at any fitness level.\nThis 2 month twice weekly class is taught by a certified Tai Chi instructor and is suitable for beginners. Class is held Tuesday and Thursday mornings 11:00 – Noon September 3rd – October 31st. RSVP is required. RSVP HERE for all 16 classes.
URL:https://www.dubcolib.org/event/tai-chi-4/2024-10-03/
LOCATION:Asbury Branch\, 5290 Grand Meadow Drive\, Asbury\, Iowa\, 52002
CATEGORIES:Adults
ATTACH;FMTTYPE=image/png:https://www.dubcolib.org/wp-content/uploads/2024/02/4.png
ORGANIZER;CN="John Bogdal":MAILTO:JohnB@dubcolib.org
END:VEVENT
BEGIN:VEVENT
DTSTART;TZID=America/Chicago:20241004T110000
DTEND;TZID=America/Chicago:20241004T120000
DTSTAMP:20260420T235638
CREATED:20240814T213223Z
LAST-MODIFIED:20240814T213350Z
UID:10003256-1728039600-1728043200@www.dubcolib.org
SUMMARY:Chair Yoga
DESCRIPTION:Come and stretch your body in the most relaxed way…from your chair!  You’ll get a full body strength and stretching workout from head to toe every time in only 60 minutes! The class runs September 13th – October 4th. RSVP for all 4 weeks HERE
URL:https://www.dubcolib.org/event/chair-yoga-6/2024-10-04/
LOCATION:Asbury Branch\, 5290 Grand Meadow Drive\, Asbury\, Iowa\, 52002
CATEGORIES:Adults
ATTACH;FMTTYPE=image/jpeg:https://www.dubcolib.org/wp-content/uploads/2024/04/Website-Resolution-15.jpg
ORGANIZER;CN="John Bogdal":MAILTO:JohnB@dubcolib.org
END:VEVENT
BEGIN:VEVENT
DTSTART;TZID=America/Chicago:20241008T110000
DTEND;TZID=America/Chicago:20241008T120000
DTSTAMP:20260420T235638
CREATED:20240816T184853Z
LAST-MODIFIED:20241025T162047Z
UID:10003326-1728385200-1728388800@www.dubcolib.org
SUMMARY:Tai Chi
DESCRIPTION:Tai Chi consists of slow\, fluid\, gentle movements. It can be practiced almost anywhere and is accessible for individuals at any fitness level.\nThis 2 month twice weekly class is taught by a certified Tai Chi instructor and is suitable for beginners. Class is held Tuesday and Thursday mornings 11:00 – Noon September 3rd – October 31st. RSVP is required. RSVP HERE for all 16 classes.
URL:https://www.dubcolib.org/event/tai-chi-4/2024-10-08/
LOCATION:Asbury Branch\, 5290 Grand Meadow Drive\, Asbury\, Iowa\, 52002
CATEGORIES:Adults
ATTACH;FMTTYPE=image/png:https://www.dubcolib.org/wp-content/uploads/2024/02/4.png
ORGANIZER;CN="John Bogdal":MAILTO:JohnB@dubcolib.org
END:VEVENT
BEGIN:VEVENT
DTSTART;TZID=America/Chicago:20241014T180000
DTEND;TZID=America/Chicago:20241014T190000
DTSTAMP:20260420T235638
CREATED:20240822T174409Z
LAST-MODIFIED:20240911T165712Z
UID:10003340-1728928800-1728932400@www.dubcolib.org
SUMMARY:Intro to Italian
DESCRIPTION:Master essential Italian phrases\, learn about the culture\, and explore a new language for FREE! This 3 week introductory course will cover everything from travel recommendations to ordering gelato and other phrases you’d need to to explore Italy like a local (or just show off at a local Italian restaurant!) \nFor ages 16+ RSVP recommended. Drop-ins welcome. RSVP for Week #1 (October 14th) registers you for the entire course.
URL:https://www.dubcolib.org/event/italian-for-travelers-3/
LOCATION:Asbury Branch\, 5290 Grand Meadow Drive\, Asbury\, Iowa\, 52002
CATEGORIES:Adults
ATTACH;FMTTYPE=image/png:https://www.dubcolib.org/wp-content/uploads/2024/08/Website-Resolution-60.png
ORGANIZER;CN="John Bogdal":MAILTO:JohnB@dubcolib.org
END:VEVENT
BEGIN:VEVENT
DTSTART;TZID=America/Chicago:20241015T110000
DTEND;TZID=America/Chicago:20241015T120000
DTSTAMP:20260420T235638
CREATED:20240816T184853Z
LAST-MODIFIED:20241025T162047Z
UID:10003328-1728990000-1728993600@www.dubcolib.org
SUMMARY:Tai Chi
DESCRIPTION:Tai Chi consists of slow\, fluid\, gentle movements. It can be practiced almost anywhere and is accessible for individuals at any fitness level.\nThis 2 month twice weekly class is taught by a certified Tai Chi instructor and is suitable for beginners. Class is held Tuesday and Thursday mornings 11:00 – Noon September 3rd – October 31st. RSVP is required. RSVP HERE for all 16 classes.
URL:https://www.dubcolib.org/event/tai-chi-4/2024-10-15/
LOCATION:Asbury Branch\, 5290 Grand Meadow Drive\, Asbury\, Iowa\, 52002
CATEGORIES:Adults
ATTACH;FMTTYPE=image/png:https://www.dubcolib.org/wp-content/uploads/2024/02/4.png
ORGANIZER;CN="John Bogdal":MAILTO:JohnB@dubcolib.org
END:VEVENT
BEGIN:VEVENT
DTSTART;TZID=America/Chicago:20241016T183000
DTEND;TZID=America/Chicago:20241016T193000
DTSTAMP:20260420T235638
CREATED:20240821T200728Z
LAST-MODIFIED:20240821T200728Z
UID:10003342-1729103400-1729107000@www.dubcolib.org
SUMMARY:Page Turners
DESCRIPTION:This month’s book club read is The House of Silk by Anthony Horowitz. Copies available at the Asbury branch. New members should email JohnB@dubcolib.org to join.
URL:https://www.dubcolib.org/event/page-turners-15/
LOCATION:Asbury Branch\, 5290 Grand Meadow Drive\, Asbury\, Iowa\, 52002
CATEGORIES:Adults
ATTACH;FMTTYPE=image/jpeg:https://www.dubcolib.org/wp-content/uploads/2023/11/yarn-ball-pom-pom-bookmark-2.jpg
ORGANIZER;CN="John Bogdal":MAILTO:JohnB@dubcolib.org
END:VEVENT
BEGIN:VEVENT
DTSTART;TZID=America/Chicago:20241017T110000
DTEND;TZID=America/Chicago:20241017T120000
DTSTAMP:20260420T235638
CREATED:20240816T184853Z
LAST-MODIFIED:20241025T162047Z
UID:10003329-1729162800-1729166400@www.dubcolib.org
SUMMARY:Tai Chi
DESCRIPTION:Tai Chi consists of slow\, fluid\, gentle movements. It can be practiced almost anywhere and is accessible for individuals at any fitness level.\nThis 2 month twice weekly class is taught by a certified Tai Chi instructor and is suitable for beginners. Class is held Tuesday and Thursday mornings 11:00 – Noon September 3rd – October 31st. RSVP is required. RSVP HERE for all 16 classes.
URL:https://www.dubcolib.org/event/tai-chi-4/2024-10-17/
LOCATION:Asbury Branch\, 5290 Grand Meadow Drive\, Asbury\, Iowa\, 52002
CATEGORIES:Adults
ATTACH;FMTTYPE=image/png:https://www.dubcolib.org/wp-content/uploads/2024/02/4.png
ORGANIZER;CN="John Bogdal":MAILTO:JohnB@dubcolib.org
END:VEVENT
BEGIN:VEVENT
DTSTART;TZID=America/Chicago:20241017T180000
DTEND;TZID=America/Chicago:20241017T190000
DTSTAMP:20260420T235638
CREATED:20240821T201316Z
LAST-MODIFIED:20240821T201316Z
UID:10003343-1729188000-1729191600@www.dubcolib.org
SUMMARY:No Pressure Book Club
DESCRIPTION:Welcome to the No Pressure Book Club\, a friendly space to chat about whatever books have captured your imagination lately. Join fellow book lovers for engaging conversations and insightful recommendations.
URL:https://www.dubcolib.org/event/no-pressure-book-club-11/
LOCATION:Epworth Branch\, 110 Bierman Road\, Epworth\, Iowa\, 52045
CATEGORIES:Adults
ATTACH;FMTTYPE=image/png:https://www.dubcolib.org/wp-content/uploads/2024/03/7.png
ORGANIZER;CN="John Bogdal":MAILTO:JohnB@dubcolib.org
END:VEVENT
BEGIN:VEVENT
DTSTART;TZID=America/Chicago:20241021T180000
DTEND;TZID=America/Chicago:20241021T190000
DTSTAMP:20260420T235638
CREATED:20240910T210418Z
LAST-MODIFIED:20240911T165626Z
UID:10003434-1729533600-1729537200@www.dubcolib.org
SUMMARY:Intro to Italian
DESCRIPTION:Master essential Italian phrases\, learn about the culture\, and explore a new language for FREE! This 3 week introductory course will cover everything from travel recommendations to ordering gelato and other phrases you’d need to to explore Italy like a local (or just show off at a local Italian restaurant!) \nFor ages 16+ RSVP recommended. Drop-ins welcome. RSVP for Week #1 (October 14th) registers you for the entire course.
URL:https://www.dubcolib.org/event/intro-to-italian/
LOCATION:Asbury Branch\, 5290 Grand Meadow Drive\, Asbury\, Iowa\, 52002
CATEGORIES:Adults
ATTACH;FMTTYPE=image/png:https://www.dubcolib.org/wp-content/uploads/2024/08/Website-Resolution-60.png
ORGANIZER;CN="John Bogdal":MAILTO:JohnB@dubcolib.org
END:VEVENT
BEGIN:VEVENT
DTSTART;TZID=America/Chicago:20241022T110000
DTEND;TZID=America/Chicago:20241022T120000
DTSTAMP:20260420T235638
CREATED:20240816T184853Z
LAST-MODIFIED:20241025T162047Z
UID:10003330-1729594800-1729598400@www.dubcolib.org
SUMMARY:Tai Chi
DESCRIPTION:Tai Chi consists of slow\, fluid\, gentle movements. It can be practiced almost anywhere and is accessible for individuals at any fitness level.\nThis 2 month twice weekly class is taught by a certified Tai Chi instructor and is suitable for beginners. Class is held Tuesday and Thursday mornings 11:00 – Noon September 3rd – October 31st. RSVP is required. RSVP HERE for all 16 classes.
URL:https://www.dubcolib.org/event/tai-chi-4/2024-10-22/
LOCATION:Asbury Branch\, 5290 Grand Meadow Drive\, Asbury\, Iowa\, 52002
CATEGORIES:Adults
ATTACH;FMTTYPE=image/png:https://www.dubcolib.org/wp-content/uploads/2024/02/4.png
ORGANIZER;CN="John Bogdal":MAILTO:JohnB@dubcolib.org
END:VEVENT
END:VCALENDAR