BEGIN:VCALENDAR
VERSION:2.0
PRODID:-//Dubuque County Library District - ECPv6.15.20//NONSGML v1.0//EN
CALSCALE:GREGORIAN
METHOD:PUBLISH
X-ORIGINAL-URL:https://www.dubcolib.org
X-WR-CALDESC:Events for Dubuque County Library District
REFRESH-INTERVAL;VALUE=DURATION:PT1H
X-Robots-Tag:noindex
X-PUBLISHED-TTL:PT1H
BEGIN:VTIMEZONE
TZID:America/Chicago
BEGIN:DAYLIGHT
TZOFFSETFROM:-0600
TZOFFSETTO:-0500
TZNAME:CDT
DTSTART:20230312T080000
END:DAYLIGHT
BEGIN:STANDARD
TZOFFSETFROM:-0500
TZOFFSETTO:-0600
TZNAME:CST
DTSTART:20231105T070000
END:STANDARD
BEGIN:DAYLIGHT
TZOFFSETFROM:-0600
TZOFFSETTO:-0500
TZNAME:CDT
DTSTART:20240310T080000
END:DAYLIGHT
BEGIN:STANDARD
TZOFFSETFROM:-0500
TZOFFSETTO:-0600
TZNAME:CST
DTSTART:20241103T070000
END:STANDARD
BEGIN:DAYLIGHT
TZOFFSETFROM:-0600
TZOFFSETTO:-0500
TZNAME:CDT
DTSTART:20250309T080000
END:DAYLIGHT
BEGIN:STANDARD
TZOFFSETFROM:-0500
TZOFFSETTO:-0600
TZNAME:CST
DTSTART:20251102T070000
END:STANDARD
END:VTIMEZONE
BEGIN:VEVENT
DTSTART;TZID=America/Chicago:20240805T180000
DTEND;TZID=America/Chicago:20240805T190000
DTSTAMP:20260420T222606
CREATED:20240720T162510Z
LAST-MODIFIED:20240725T154449Z
UID:10002777-1722880800-1722884400@www.dubcolib.org
SUMMARY:Grant Wood: Artistic Rags to Riches\, An American Success Story
DESCRIPTION:Presented by Dr. Randy Lengeling\, Grant Wood’s story is an inspiration for all Americans\, particularly Iowans\, and a shining example that world-influencing achievements can occur in this state that we call home. \nThis animated presentation\, with archival photographs and video segments\, looks at Wood’s personal life story\, his artistic development and meteoric rise to international prominence as the leader of Regionalism\, his controversial professorship at the State University of Iowa and his enduring legacy in art history\, having lived nearly his whole life in Iowa. Original Grant Wood works may be available for viewing.
URL:https://www.dubcolib.org/event/grant-wood-artistic-rags-to-riches-an-american-success-story/
LOCATION:Asbury Branch\, 5290 Grand Meadow Drive\, Asbury\, Iowa\, 52002
CATEGORIES:Adults
ATTACH;FMTTYPE=image/jpeg:https://www.dubcolib.org/wp-content/uploads/2024/07/Website-Resolution-49.jpg
ORGANIZER;CN="John Bogdal":MAILTO:JohnB@dubcolib.org
END:VEVENT
END:VCALENDAR