BEGIN:VCALENDAR
VERSION:2.0
PRODID:-//Dubuque County Library District - ECPv6.15.20//NONSGML v1.0//EN
CALSCALE:GREGORIAN
METHOD:PUBLISH
X-WR-CALNAME:Dubuque County Library District
X-ORIGINAL-URL:https://www.dubcolib.org
X-WR-CALDESC:Events for Dubuque County Library District
REFRESH-INTERVAL;VALUE=DURATION:PT1H
X-Robots-Tag:noindex
X-PUBLISHED-TTL:PT1H
BEGIN:VTIMEZONE
TZID:America/Chicago
BEGIN:DAYLIGHT
TZOFFSETFROM:-0600
TZOFFSETTO:-0500
TZNAME:CDT
DTSTART:20230312T080000
END:DAYLIGHT
BEGIN:STANDARD
TZOFFSETFROM:-0500
TZOFFSETTO:-0600
TZNAME:CST
DTSTART:20231105T070000
END:STANDARD
BEGIN:DAYLIGHT
TZOFFSETFROM:-0600
TZOFFSETTO:-0500
TZNAME:CDT
DTSTART:20240310T080000
END:DAYLIGHT
BEGIN:STANDARD
TZOFFSETFROM:-0500
TZOFFSETTO:-0600
TZNAME:CST
DTSTART:20241103T070000
END:STANDARD
BEGIN:DAYLIGHT
TZOFFSETFROM:-0600
TZOFFSETTO:-0500
TZNAME:CDT
DTSTART:20250309T080000
END:DAYLIGHT
BEGIN:STANDARD
TZOFFSETFROM:-0500
TZOFFSETTO:-0600
TZNAME:CST
DTSTART:20251102T070000
END:STANDARD
END:VTIMEZONE
BEGIN:VEVENT
DTSTART;TZID=America/Chicago:20240410T113000
DTEND;TZID=America/Chicago:20240410T123000
DTSTAMP:20260424T002733
CREATED:20240326T215355Z
LAST-MODIFIED:20240327T172041Z
UID:10001652-1712748600-1712752200@www.dubcolib.org
SUMMARY:Smartphone Savvy: Iphones
DESCRIPTION:Receive practical tips and newfound confidence in navigating your iphone smartphone features and functions. Students from Cornerstone Academy will be on hand to provide one-on-one assistance to attendees. RSVP Required.
URL:https://www.dubcolib.org/event/smartphone-savvy-tech-help-hour/
LOCATION:Asbury Branch\, 5290 Grand Meadow Drive\, Asbury\, Iowa\, 52002
CATEGORIES:Adults
ATTACH;FMTTYPE=image/png:https://www.dubcolib.org/wp-content/uploads/2024/02/9.png
ORGANIZER;CN="John Bogdal":MAILTO:JohnB@dubcolib.org
END:VEVENT
BEGIN:VEVENT
DTSTART;TZID=America/Chicago:20240410T180000
DTEND;TZID=America/Chicago:20240410T190000
DTSTAMP:20260424T002733
CREATED:20240301T181833Z
LAST-MODIFIED:20240301T181833Z
UID:10001638-1712772000-1712775600@www.dubcolib.org
SUMMARY:Dubuque County Reads Book Discussion
DESCRIPTION:The second annual Dubuque County Reads begins! Libraries around Dubuque County are hosting book discussions in late March and early April. This year’s title is “The Personal Librarian by Marie Benedict.” Pick up a copy of the book today and join us for a discussion!
URL:https://www.dubcolib.org/event/dubuque-county-reads-book-discussion/
LOCATION:Farley Branch\, 206 1st Street North\, Farley\, IA\, 52046
CATEGORIES:Adults
ATTACH;FMTTYPE=image/png:https://www.dubcolib.org/wp-content/uploads/2024/02/dubcoreads-social-Facebook-Cover-3.png
END:VEVENT
BEGIN:VEVENT
DTSTART;TZID=America/Chicago:20240410T180000
DTEND;TZID=America/Chicago:20240410T190000
DTSTAMP:20260424T002733
CREATED:20240301T205918Z
LAST-MODIFIED:20240314T205157Z
UID:10001629-1712772000-1712775600@www.dubcolib.org
SUMMARY:Houseplant Clinic
DESCRIPTION:Have questions about your houseplants? Bring your plants\, photos\, and/or questions to Laura\, owner of Planted in Dubuque for an open “Clinic” and preliminary plant diagnostic services.\nLaura will help address pest management and pest identification\, watering challenges\, lighting\, and other common houseplant issues to help you and your houseplants thrive!  \nLaura has a Horticulture Degree from Iowa State University with over fifteen years of experience growing\, teaching\, tending\, and admiring tropical plants\, growing food\, and teaching people about plants. Laura has a true passion for building community around plants. Sponsored by the Friends of the Dubuque County Library District. \nThe clinic is free and open to all\, drop-ins welcome\, attendees who RSVP will be given priority.
URL:https://www.dubcolib.org/event/houseplant-clinic/
LOCATION:Epworth Branch\, 110 Bierman Road\, Epworth\, Iowa\, 52045
CATEGORIES:Adults
ATTACH;FMTTYPE=image/png:https://www.dubcolib.org/wp-content/uploads/2024/03/15.png
ORGANIZER;CN="John Bogdal":MAILTO:JohnB@dubcolib.org
END:VEVENT
END:VCALENDAR