BEGIN:VCALENDAR
VERSION:2.0
PRODID:-//Dubuque County Library District - ECPv6.15.20//NONSGML v1.0//EN
CALSCALE:GREGORIAN
METHOD:PUBLISH
X-WR-CALNAME:Dubuque County Library District
X-ORIGINAL-URL:https://www.dubcolib.org
X-WR-CALDESC:Events for Dubuque County Library District
REFRESH-INTERVAL;VALUE=DURATION:PT1H
X-Robots-Tag:noindex
X-PUBLISHED-TTL:PT1H
BEGIN:VTIMEZONE
TZID:America/Chicago
BEGIN:DAYLIGHT
TZOFFSETFROM:-0600
TZOFFSETTO:-0500
TZNAME:CDT
DTSTART:20230312T080000
END:DAYLIGHT
BEGIN:STANDARD
TZOFFSETFROM:-0500
TZOFFSETTO:-0600
TZNAME:CST
DTSTART:20231105T070000
END:STANDARD
BEGIN:DAYLIGHT
TZOFFSETFROM:-0600
TZOFFSETTO:-0500
TZNAME:CDT
DTSTART:20240310T080000
END:DAYLIGHT
BEGIN:STANDARD
TZOFFSETFROM:-0500
TZOFFSETTO:-0600
TZNAME:CST
DTSTART:20241103T070000
END:STANDARD
BEGIN:DAYLIGHT
TZOFFSETFROM:-0600
TZOFFSETTO:-0500
TZNAME:CDT
DTSTART:20250309T080000
END:DAYLIGHT
BEGIN:STANDARD
TZOFFSETFROM:-0500
TZOFFSETTO:-0600
TZNAME:CST
DTSTART:20251102T070000
END:STANDARD
END:VTIMEZONE
BEGIN:VEVENT
DTSTART;TZID=America/Chicago:20240701T100000
DTEND;TZID=America/Chicago:20240701T113000
DTSTAMP:20260420T204814
CREATED:20240504T233232Z
LAST-MODIFIED:20240504T233513Z
UID:10002669-1719828000-1719833400@www.dubcolib.org
SUMMARY:Painting with Pam
DESCRIPTION:You CAN learn to paint! \nDo you want to learn to paint but don’t know where to start? Have you put aside your art for years and need a refresher to get back on track? This class will cover the basic skills you need to get started. Pamela will help you put aside your fears and create with joy! \nRSVP Required. This is a 4 week class with limited spots. RSVP only if you can attend all 4 classes. RSVP HERE.
URL:https://www.dubcolib.org/event/painting-with-pam/2024-07-01/
LOCATION:Asbury Branch\, 5290 Grand Meadow Drive\, Asbury\, Iowa\, 52002
CATEGORIES:Adults
ATTACH;FMTTYPE=image/jpeg:https://www.dubcolib.org/wp-content/uploads/2024/05/Website-Resolution-32.jpg
ORGANIZER;CN="John Bogdal":MAILTO:JohnB@dubcolib.org
END:VEVENT
BEGIN:VEVENT
DTSTART;TZID=America/Chicago:20240702T180000
DTEND;TZID=America/Chicago:20240702T190000
DTSTAMP:20260420T204814
CREATED:20240504T222432Z
LAST-MODIFIED:20240504T222432Z
UID:10002645-1719943200-1719946800@www.dubcolib.org
SUMMARY:Cybersecurity w/ Dan Fleming
DESCRIPTION:Learn from cybersecurity expert Daniel Fleming as he shares invaluable insights and practical tips to bolster digital security. Gain essential knowledge to safeguard your online presence and navigate the digital landscape with confidence.
URL:https://www.dubcolib.org/event/cybersecurity-w-dan-fleming/
LOCATION:Peosta Branch\, 8342 NICC Drive\, Peosta\, Iowa\, 52068
CATEGORIES:Adults
ATTACH;FMTTYPE=image/jpeg:https://www.dubcolib.org/wp-content/uploads/2024/05/Website-Resolution-37.jpg
ORGANIZER;CN="John Bogdal":MAILTO:JohnB@dubcolib.org
END:VEVENT
BEGIN:VEVENT
DTSTART;TZID=America/Chicago:20240708T100000
DTEND;TZID=America/Chicago:20240708T113000
DTSTAMP:20260420T204814
CREATED:20240504T233232Z
LAST-MODIFIED:20240504T233513Z
UID:10002670-1720432800-1720438200@www.dubcolib.org
SUMMARY:Painting with Pam
DESCRIPTION:You CAN learn to paint! \nDo you want to learn to paint but don’t know where to start? Have you put aside your art for years and need a refresher to get back on track? This class will cover the basic skills you need to get started. Pamela will help you put aside your fears and create with joy! \nRSVP Required. This is a 4 week class with limited spots. RSVP only if you can attend all 4 classes. RSVP HERE.
URL:https://www.dubcolib.org/event/painting-with-pam/2024-07-08/
LOCATION:Asbury Branch\, 5290 Grand Meadow Drive\, Asbury\, Iowa\, 52002
CATEGORIES:Adults
ATTACH;FMTTYPE=image/jpeg:https://www.dubcolib.org/wp-content/uploads/2024/05/Website-Resolution-32.jpg
ORGANIZER;CN="John Bogdal":MAILTO:JohnB@dubcolib.org
END:VEVENT
BEGIN:VEVENT
DTSTART;TZID=America/Chicago:20240708T180000
DTEND;TZID=America/Chicago:20240708T190000
DTSTAMP:20260420T204814
CREATED:20240506T195037Z
LAST-MODIFIED:20240506T195219Z
UID:10002648-1720461600-1720465200@www.dubcolib.org
SUMMARY:Craft Club
DESCRIPTION:Join us for this monthly crafting program. RSVP recommended\, drop-ins welcome. July is candle holders. Designed for adults but teens welcome.
URL:https://www.dubcolib.org/event/craft-club-19/
LOCATION:Holy Cross Branch\, 895 Main Street\, Holy Cross\, Iowa\, 52053
CATEGORIES:Adults
ORGANIZER;CN="John Bogdal":MAILTO:JohnB@dubcolib.org
END:VEVENT
BEGIN:VEVENT
DTSTART;TZID=America/Chicago:20240709T180000
DTEND;TZID=America/Chicago:20240709T190000
DTSTAMP:20260420T204814
CREATED:20240503T190156Z
LAST-MODIFIED:20240617T183923Z
UID:10001774-1720548000-1720551600@www.dubcolib.org
SUMMARY:Zen and the Art of Doodling
DESCRIPTION:Unwind and find your inner calm with Zen and the Art of Doodling\, where we combine the soothing practice of meditation with the creativity of doodling. Join us to learn simple relaxation techniques and explore the art of mindfulness through expressive drawing.
URL:https://www.dubcolib.org/event/__trashed-106/
LOCATION:Peosta Branch\, 8342 NICC Drive\, Peosta\, Iowa\, 52068
CATEGORIES:Adults
ATTACH;FMTTYPE=image/jpeg:https://www.dubcolib.org/wp-content/uploads/2024/05/Website-Resolution-39.jpg
ORGANIZER;CN="John Bogdal":MAILTO:JohnB@dubcolib.org
END:VEVENT
BEGIN:VEVENT
DTSTART;TZID=America/Chicago:20240710T180000
DTEND;TZID=America/Chicago:20240710T190000
DTSTAMP:20260420T204814
CREATED:20240504T204919Z
LAST-MODIFIED:20240504T204919Z
UID:10002650-1720634400-1720638000@www.dubcolib.org
SUMMARY:Yarn Spinners
DESCRIPTION:Calling all yarn spinners! Bring your crochet hooks and knitting needles for an evening of crafting and conversation at the library.
URL:https://www.dubcolib.org/event/yarn-spinners-6/
LOCATION:Asbury Branch\, 5290 Grand Meadow Drive\, Asbury\, Iowa\, 52002
CATEGORIES:Adults
ATTACH;FMTTYPE=image/png:https://www.dubcolib.org/wp-content/uploads/2024/03/21.png
ORGANIZER;CN="John Bogdal":MAILTO:JohnB@dubcolib.org
END:VEVENT
BEGIN:VEVENT
DTSTART;TZID=America/Chicago:20240711T163000
DTEND;TZID=America/Chicago:20240711T173000
DTSTAMP:20260420T204814
CREATED:20240503T190156Z
LAST-MODIFIED:20240617T183959Z
UID:10001775-1720715400-1720719000@www.dubcolib.org
SUMMARY:Zen and the Art of Doodling
DESCRIPTION:Unwind and find your inner calm with Zen and the Art of Doodling\, where we combine the soothing practice of meditation with the creativity of doodling. Join us to learn simple relaxation techniques and explore the art of mindfulness through expressive drawing.
URL:https://www.dubcolib.org/event/__trashed-107/
LOCATION:Farley Branch\, 206 1st Street North\, Farley\, IA\, 52046
CATEGORIES:Adults
ATTACH;FMTTYPE=image/jpeg:https://www.dubcolib.org/wp-content/uploads/2024/05/Website-Resolution-39.jpg
ORGANIZER;CN="John Bogdal":MAILTO:JohnB@dubcolib.org
END:VEVENT
BEGIN:VEVENT
DTSTART;TZID=America/Chicago:20240711T180000
DTEND;TZID=America/Chicago:20240711T190000
DTSTAMP:20260420T204814
CREATED:20240504T204450Z
LAST-MODIFIED:20240504T204450Z
UID:10002651-1720720800-1720724400@www.dubcolib.org
SUMMARY:No Pressure Book Club
DESCRIPTION:Welcome to the No Pressure Book Club\, a friendly space to chat about whatever books have captured your imagination lately. Join fellow book lovers for engaging conversations and insightful recommendations.
URL:https://www.dubcolib.org/event/no-pressure-book-club-7/
LOCATION:Farley Branch\, 206 1st Street North\, Farley\, IA\, 52046
CATEGORIES:Adults
ATTACH;FMTTYPE=image/png:https://www.dubcolib.org/wp-content/uploads/2024/03/7.png
ORGANIZER;CN="John Bogdal":MAILTO:JohnB@dubcolib.org
END:VEVENT
BEGIN:VEVENT
DTSTART;TZID=America/Chicago:20240712T170000
DTEND;TZID=America/Chicago:20240712T180000
DTSTAMP:20260420T204814
CREATED:20240504T204514Z
LAST-MODIFIED:20240504T204514Z
UID:10002652-1720803600-1720807200@www.dubcolib.org
SUMMARY:No Pressure Book Club
DESCRIPTION:Welcome to the No Pressure Book Club\, a friendly space to chat about whatever books have captured your imagination lately. Join fellow book lovers for engaging conversations and insightful recommendations.
URL:https://www.dubcolib.org/event/no-pressure-book-club-8/
LOCATION:Epworth Branch\, 110 Bierman Road\, Epworth\, Iowa\, 52045
CATEGORIES:Adults
ATTACH;FMTTYPE=image/png:https://www.dubcolib.org/wp-content/uploads/2024/03/7.png
ORGANIZER;CN="John Bogdal":MAILTO:JohnB@dubcolib.org
END:VEVENT
BEGIN:VEVENT
DTSTART;TZID=America/Chicago:20240713T110000
DTEND;TZID=America/Chicago:20240713T123000
DTSTAMP:20260420T204814
CREATED:20240506T194807Z
LAST-MODIFIED:20240702T040106Z
UID:10002642-1720868400-1720873800@www.dubcolib.org
SUMMARY:Beekeeping with Diane Thoma
DESCRIPTION:Dubuque Swiss Valley Bee Club’s Diane Thoma will be teaching the basics of beekeeping and how to get started in this rewarding hobby. This family-friendly event includes a sneak peek into an actual beehive and a honey tasting to follow.
URL:https://www.dubcolib.org/event/beekeeping-with-diane-thoma/
LOCATION:Asbury Branch\, 5290 Grand Meadow Drive\, Asbury\, Iowa\, 52002
CATEGORIES:Adults
ATTACH;FMTTYPE=image/jpeg:https://www.dubcolib.org/wp-content/uploads/2024/05/CA-Beekeeping-Classes-XD-1658-002_700x410.jpg
ORGANIZER;CN="John Bogdal":MAILTO:JohnB@dubcolib.org
END:VEVENT
BEGIN:VEVENT
DTSTART;TZID=America/Chicago:20240716T180000
DTEND;TZID=America/Chicago:20240716T190000
DTSTAMP:20260420T204814
CREATED:20240504T220205Z
LAST-MODIFIED:20240504T220205Z
UID:10002654-1721152800-1721156400@www.dubcolib.org
SUMMARY:Trivia Night
DESCRIPTION:Test your knowledge and join us for a thrilling Trivia Night at the library! Gather your friends\, sharpen your wits\, and compete for prizes while enjoying an evening of brain-teasing fun.
URL:https://www.dubcolib.org/event/trivia-night-2/
LOCATION:Peosta Branch\, 8342 NICC Drive\, Peosta\, Iowa\, 52068
CATEGORIES:Adults
ATTACH;FMTTYPE=image/png:https://www.dubcolib.org/wp-content/uploads/2024/05/Website-Resolution-31.png
ORGANIZER;CN="John Bogdal":MAILTO:JohnB@dubcolib.org
END:VEVENT
BEGIN:VEVENT
DTSTART;TZID=America/Chicago:20240717T183000
DTEND;TZID=America/Chicago:20240717T193000
DTSTAMP:20260420T204814
CREATED:20240504T204805Z
LAST-MODIFIED:20240504T204805Z
UID:10002655-1721241000-1721244600@www.dubcolib.org
SUMMARY:Page Turners
DESCRIPTION:This month’s book club read is tbd. Copies available at the Asbury branch. New members should email JohnB@dubcolib.org
URL:https://www.dubcolib.org/event/page-turners-13/
LOCATION:Asbury Branch\, 5290 Grand Meadow Drive\, Asbury\, Iowa\, 52002
CATEGORIES:Adults
ATTACH;FMTTYPE=image/png:https://www.dubcolib.org/wp-content/uploads/2023/10/3rd-Wednesday-of-Every-Month-630-730-Asbury-Branch-1.png
ORGANIZER;CN="John Bogdal":MAILTO:JohnB@dubcolib.org
END:VEVENT
BEGIN:VEVENT
DTSTART;TZID=America/Chicago:20240718T180000
DTEND;TZID=America/Chicago:20240718T190000
DTSTAMP:20260420T204814
CREATED:20240504T220331Z
LAST-MODIFIED:20240504T220331Z
UID:10002656-1721325600-1721329200@www.dubcolib.org
SUMMARY:Trivia Night
DESCRIPTION:Test your knowledge and join us for a thrilling Trivia Night at the library! Gather your friends\, sharpen your wits\, and compete for prizes while enjoying an evening of brain-teasing fun.
URL:https://www.dubcolib.org/event/trivia-night-3/
LOCATION:Farley Branch\, 206 1st Street North\, Farley\, IA\, 52046
CATEGORIES:Adults,All Ages
ATTACH;FMTTYPE=image/png:https://www.dubcolib.org/wp-content/uploads/2024/05/Website-Resolution-31.png
ORGANIZER;CN="John Bogdal":MAILTO:JohnB@dubcolib.org
END:VEVENT
BEGIN:VEVENT
DTSTART;TZID=America/Chicago:20240722T180000
DTEND;TZID=America/Chicago:20240722T190000
DTSTAMP:20260420T204814
CREATED:20240506T195145Z
LAST-MODIFIED:20240506T195226Z
UID:10002658-1721671200-1721674800@www.dubcolib.org
SUMMARY:Adult Craft Club
DESCRIPTION:Join us for this monthly crafting program. RSVP recommended\, drop-ins welcome. July is candle holders. Designed for adults but teens welcome.
URL:https://www.dubcolib.org/event/adult-craft-club-6/
LOCATION:Asbury Branch\, 5290 Grand Meadow Drive\, Asbury\, Iowa\, 52002
CATEGORIES:Adults
ORGANIZER;CN="John Bogdal":MAILTO:JohnB@dubcolib.org
END:VEVENT
BEGIN:VEVENT
DTSTART;TZID=America/Chicago:20240723T180000
DTEND;TZID=America/Chicago:20240723T190000
DTSTAMP:20260420T204814
CREATED:20240506T195300Z
LAST-MODIFIED:20240506T195300Z
UID:10002659-1721757600-1721761200@www.dubcolib.org
SUMMARY:Adult Craft Club
DESCRIPTION:Join us for this monthly crafting program. RSVP recommended\, drop-ins welcome. July is candle holders. Designed for adults but teens welcome.
URL:https://www.dubcolib.org/event/adult-craft-club-7/
LOCATION:Peosta Branch\, 8342 NICC Drive\, Peosta\, Iowa\, 52068
CATEGORIES:Adults
ORGANIZER;CN="John Bogdal":MAILTO:JohnB@dubcolib.org
END:VEVENT
BEGIN:VEVENT
DTSTART;TZID=America/Chicago:20240724T180000
DTEND;TZID=America/Chicago:20240724T190000
DTSTAMP:20260420T204814
CREATED:20240504T220456Z
LAST-MODIFIED:20240504T220456Z
UID:10002660-1721844000-1721847600@www.dubcolib.org
SUMMARY:Trivia Night
DESCRIPTION:Test your knowledge and join us for a thrilling Trivia Night at the library! Gather your friends\, sharpen your wits\, and compete for prizes while enjoying an evening of brain-teasing fun.
URL:https://www.dubcolib.org/event/trivia-night-4/
LOCATION:Epworth Branch\, 110 Bierman Road\, Epworth\, Iowa\, 52045
CATEGORIES:Adults,All Ages
ATTACH;FMTTYPE=image/png:https://www.dubcolib.org/wp-content/uploads/2024/05/Website-Resolution-31.png
ORGANIZER;CN="John Bogdal":MAILTO:JohnB@dubcolib.org
END:VEVENT
BEGIN:VEVENT
DTSTART;TZID=America/Chicago:20240729T183000
DTEND;TZID=America/Chicago:20240729T193000
DTSTAMP:20260420T204814
CREATED:20240504T220121Z
LAST-MODIFIED:20240718T212458Z
UID:10002653-1722277800-1722281400@www.dubcolib.org
SUMMARY:Trivia Night
DESCRIPTION:Test your knowledge and join us for a thrilling Trivia Night at the library! Gather your friends\, sharpen your wits\, and compete for prizes while enjoying an evening of brain-teasing fun. RSVP Recommended.
URL:https://www.dubcolib.org/event/trivia-night/
LOCATION:Asbury Branch\, 5290 Grand Meadow Drive\, Asbury\, Iowa\, 52002
CATEGORIES:Adults,All Ages
ATTACH;FMTTYPE=image/png:https://www.dubcolib.org/wp-content/uploads/2024/05/Website-Resolution-31.png
ORGANIZER;CN="John Bogdal":MAILTO:JohnB@dubcolib.org
END:VEVENT
END:VCALENDAR