BEGIN:VCALENDAR
VERSION:2.0
PRODID:-//Dubuque County Library District - ECPv6.15.20//NONSGML v1.0//EN
CALSCALE:GREGORIAN
METHOD:PUBLISH
X-WR-CALNAME:Dubuque County Library District
X-ORIGINAL-URL:https://www.dubcolib.org
X-WR-CALDESC:Events for Dubuque County Library District
REFRESH-INTERVAL;VALUE=DURATION:PT1H
X-Robots-Tag:noindex
X-PUBLISHED-TTL:PT1H
BEGIN:VTIMEZONE
TZID:America/Chicago
BEGIN:DAYLIGHT
TZOFFSETFROM:-0600
TZOFFSETTO:-0500
TZNAME:CDT
DTSTART:20230312T080000
END:DAYLIGHT
BEGIN:STANDARD
TZOFFSETFROM:-0500
TZOFFSETTO:-0600
TZNAME:CST
DTSTART:20231105T070000
END:STANDARD
BEGIN:DAYLIGHT
TZOFFSETFROM:-0600
TZOFFSETTO:-0500
TZNAME:CDT
DTSTART:20240310T080000
END:DAYLIGHT
BEGIN:STANDARD
TZOFFSETFROM:-0500
TZOFFSETTO:-0600
TZNAME:CST
DTSTART:20241103T070000
END:STANDARD
BEGIN:DAYLIGHT
TZOFFSETFROM:-0600
TZOFFSETTO:-0500
TZNAME:CDT
DTSTART:20250309T080000
END:DAYLIGHT
BEGIN:STANDARD
TZOFFSETFROM:-0500
TZOFFSETTO:-0600
TZNAME:CST
DTSTART:20251102T070000
END:STANDARD
END:VTIMEZONE
BEGIN:VEVENT
DTSTART;TZID=America/Chicago:20240205T180000
DTEND;TZID=America/Chicago:20240205T190000
DTSTAMP:20260421T193037
CREATED:20240112T204824Z
LAST-MODIFIED:20240112T205826Z
UID:10001492-1707156000-1707159600@www.dubcolib.org
SUMMARY:Craft Club - Valentines
DESCRIPTION:(Ages 16+) Join us for this monthly crafting program. Registration recommended\, drop-ins welcome as supplies last. In February we’re making Valentines
URL:https://www.dubcolib.org/event/adult-craft-club/
LOCATION:Asbury Branch\, 5290 Grand Meadow Drive\, Asbury\, Iowa\, 52002
CATEGORIES:Adults
ATTACH;FMTTYPE=image/jpeg:https://www.dubcolib.org/wp-content/uploads/2024/01/valentines-day-crafts-1640121605.jpeg
ORGANIZER;CN="Teen & Adult Programming Librarian":MAILTO:jennm@dubcolib.org
END:VEVENT
BEGIN:VEVENT
DTSTART;TZID=America/Chicago:20240207T173000
DTEND;TZID=America/Chicago:20240207T183000
DTSTAMP:20260421T193037
CREATED:20240112T205042Z
LAST-MODIFIED:20240112T210147Z
UID:10001494-1707327000-1707330600@www.dubcolib.org
SUMMARY:Craft Club - Valentines
DESCRIPTION:(Ages 16+) Join us for this monthly crafting program. Registration recommended\, drop-ins welcome as supplies last. In February we’re making Valentines
URL:https://www.dubcolib.org/event/adult-craft-club-2/
LOCATION:Peosta Branch\, 8342 NICC Drive\, Peosta\, Iowa\, 52068
CATEGORIES:Adults
ATTACH;FMTTYPE=image/jpeg:https://www.dubcolib.org/wp-content/uploads/2024/01/valentines-day-crafts-1640121605.jpeg
ORGANIZER;CN="Teen & Adult Programming Librarian":MAILTO:jennm@dubcolib.org
END:VEVENT
BEGIN:VEVENT
DTSTART;TZID=America/Chicago:20240210T110000
DTEND;TZID=America/Chicago:20240210T113000
DTSTAMP:20260421T193037
CREATED:20231120T173751Z
LAST-MODIFIED:20240210T192647Z
UID:10001205-1707562800-1707564600@www.dubcolib.org
SUMMARY:Virtual Craft Club - February
DESCRIPTION:(Ages 16+) Join us for a craft with virtual instruction! Make sure to stop by the library pick up your pre-filled craft kit. February’s craft is woven felt hearts. Registration is required for all virtual events. \nYou can find video instructions here:LINK
URL:https://www.dubcolib.org/event/virtual-craft-club-february/
LOCATION:Virtual
CATEGORIES:Adults
ATTACH;FMTTYPE=image/png:https://www.dubcolib.org/wp-content/uploads/2023/11/woven-heart.png
ORGANIZER;CN="Teen & Adult Programming Librarian":MAILTO:jennm@dubcolib.org
END:VEVENT
BEGIN:VEVENT
DTSTART;TZID=America/Chicago:20240212T180000
DTEND;TZID=America/Chicago:20240212T190000
DTSTAMP:20260421T193037
CREATED:20240112T205230Z
LAST-MODIFIED:20240112T212122Z
UID:10001493-1707760800-1707764400@www.dubcolib.org
SUMMARY:Craft Club - Valentines
DESCRIPTION:(Ages 16+) Join us for this monthly crafting program. Registration recommended\, drop-ins welcome as supplies last. In February we’re making Valentines
URL:https://www.dubcolib.org/event/adult-craft-club-3/
LOCATION:Holy Cross Branch\, 895 Main Street\, Holy Cross\, Iowa\, 52053
CATEGORIES:Adults
ATTACH;FMTTYPE=image/jpeg:https://www.dubcolib.org/wp-content/uploads/2024/01/valentines-day-crafts-1640121605.jpeg
ORGANIZER;CN="Teen & Adult Programming Librarian":MAILTO:jennm@dubcolib.org
END:VEVENT
BEGIN:VEVENT
DTSTART;TZID=America/Chicago:20240215T150000
DTEND;TZID=America/Chicago:20240215T160000
DTSTAMP:20260421T193037
CREATED:20240201T183505Z
LAST-MODIFIED:20240201T183505Z
UID:10001508-1708009200-1708012800@www.dubcolib.org
SUMMARY:Teatime Traditions: A Refined English Tea Reception
DESCRIPTION:Immerse yourself in an exquisite English High Tea Experience! Learn the finer details of teatime etiquette. RSVP recommended\, drop-ins welcome.
URL:https://www.dubcolib.org/event/teatime-traditions-a-refined-english-tea-reception/
LOCATION:Epworth Branch\, 110 Bierman Road\, Epworth\, Iowa\, 52045
CATEGORIES:Adults
ATTACH;FMTTYPE=image/png:https://www.dubcolib.org/wp-content/uploads/2024/02/Untitled-design-39.png
ORGANIZER;CN="John Bogdal":MAILTO:JohnB@dubcolib.org
END:VEVENT
BEGIN:VEVENT
DTSTART;TZID=America/Chicago:20240221T183000
DTEND;TZID=America/Chicago:20240221T193000
DTSTAMP:20260421T193037
CREATED:20231220T181552Z
LAST-MODIFIED:20240131T192027Z
UID:10001483-1708540200-1708543800@www.dubcolib.org
SUMMARY:Page Turners
DESCRIPTION:This month’s book club read is One Italian Summer by Rebecca Serle. Copies available at the Asbury branch. Registration Required.
URL:https://www.dubcolib.org/event/page-turners-9/
LOCATION:Asbury Branch\, 5290 Grand Meadow Drive\, Asbury\, Iowa\, 52002
CATEGORIES:Adults
ATTACH;FMTTYPE=image/png:https://www.dubcolib.org/wp-content/uploads/2023/10/page-turners.png
ORGANIZER;CN="Teen & Adult Programming Librarian":MAILTO:jennm@dubcolib.org
END:VEVENT
BEGIN:VEVENT
DTSTART;TZID=America/Chicago:20240222T150000
DTEND;TZID=America/Chicago:20240222T160000
DTSTAMP:20260421T193037
CREATED:20240201T185303Z
LAST-MODIFIED:20240221T233628Z
UID:10001506-1708614000-1708617600@www.dubcolib.org
SUMMARY:Teatime Traditions: A Refined English Tea Reception
DESCRIPTION:Immerse yourself in an exquisite English High Tea Experience! Learn the finer details of teatime etiquette. RSVP recommended.
URL:https://www.dubcolib.org/event/teatime-traditions-a-refined-english-tea-reception-2/
LOCATION:Asbury Branch\, 5290 Grand Meadow Drive\, Asbury\, Iowa\, 52002
CATEGORIES:Adults
ATTACH;FMTTYPE=image/png:https://www.dubcolib.org/wp-content/uploads/2024/02/Untitled-design-39.png
ORGANIZER;CN="John Bogdal":MAILTO:JohnB@dubcolib.org
END:VEVENT
BEGIN:VEVENT
DTSTART;TZID=America/Chicago:20240227T160000
DTEND;TZID=America/Chicago:20240227T170000
DTSTAMP:20260421T193037
CREATED:20240201T181102Z
LAST-MODIFIED:20240223T192420Z
UID:10001511-1709049600-1709053200@www.dubcolib.org
SUMMARY:The Art of Origami: Crafting Beauty from Folded Paper
DESCRIPTION:Unleash your creativity and embark on a journey into the world of paper art at the library.
URL:https://www.dubcolib.org/event/the-art-of-origami-crafting-beauty-from-folded-paper-2/
LOCATION:Peosta Branch\, 8342 NICC Drive\, Peosta\, Iowa\, 52068
CATEGORIES:Adults
ATTACH;FMTTYPE=image/png:https://www.dubcolib.org/wp-content/uploads/2024/02/Untitled-design-37.png
ORGANIZER;CN="John Bogdal":MAILTO:JohnB@dubcolib.org
END:VEVENT
BEGIN:VEVENT
DTSTART;TZID=America/Chicago:20240228T170000
DTEND;TZID=America/Chicago:20240228T180000
DTSTAMP:20260421T193037
CREATED:20240201T181053Z
LAST-MODIFIED:20240223T192410Z
UID:10001507-1709139600-1709143200@www.dubcolib.org
SUMMARY:The Art of Origami: Crafting Beauty from Folded Paper
DESCRIPTION:Unleash your creativity and embark on a journey into the world of paper art at the library.
URL:https://www.dubcolib.org/event/the-art-of-origami-crafting-beauty-from-folded-paper/
LOCATION:Asbury Branch\, 5290 Grand Meadow Drive\, Asbury\, Iowa\, 52002
CATEGORIES:Adults
ATTACH;FMTTYPE=image/png:https://www.dubcolib.org/wp-content/uploads/2024/02/Untitled-design-37.png
ORGANIZER;CN="John Bogdal":MAILTO:JohnB@dubcolib.org
END:VEVENT
END:VCALENDAR