BEGIN:VCALENDAR
VERSION:2.0
PRODID:-//Dubuque County Library District - ECPv6.15.20//NONSGML v1.0//EN
CALSCALE:GREGORIAN
METHOD:PUBLISH
X-ORIGINAL-URL:https://www.dubcolib.org
X-WR-CALDESC:Events for Dubuque County Library District
REFRESH-INTERVAL;VALUE=DURATION:PT1H
X-Robots-Tag:noindex
X-PUBLISHED-TTL:PT1H
BEGIN:VTIMEZONE
TZID:America/Chicago
BEGIN:DAYLIGHT
TZOFFSETFROM:-0600
TZOFFSETTO:-0500
TZNAME:CDT
DTSTART:20230312T080000
END:DAYLIGHT
BEGIN:STANDARD
TZOFFSETFROM:-0500
TZOFFSETTO:-0600
TZNAME:CST
DTSTART:20231105T070000
END:STANDARD
BEGIN:DAYLIGHT
TZOFFSETFROM:-0600
TZOFFSETTO:-0500
TZNAME:CDT
DTSTART:20240310T080000
END:DAYLIGHT
BEGIN:STANDARD
TZOFFSETFROM:-0500
TZOFFSETTO:-0600
TZNAME:CST
DTSTART:20241103T070000
END:STANDARD
BEGIN:DAYLIGHT
TZOFFSETFROM:-0600
TZOFFSETTO:-0500
TZNAME:CDT
DTSTART:20250309T080000
END:DAYLIGHT
BEGIN:STANDARD
TZOFFSETFROM:-0500
TZOFFSETTO:-0600
TZNAME:CST
DTSTART:20251102T070000
END:STANDARD
END:VTIMEZONE
BEGIN:VEVENT
DTSTART;TZID=America/Chicago:20240117T183000
DTEND;TZID=America/Chicago:20240117T193000
DTSTAMP:20260425T071619
CREATED:20231209T183423Z
LAST-MODIFIED:20231209T183432Z
UID:10001480-1705516200-1705519800@www.dubcolib.org
SUMMARY:Page Turners
DESCRIPTION:This month’s book club read is Dear Mrs. Bird by AJ Pearce. Copies available at the Asbury branch. Registration Required.
URL:https://www.dubcolib.org/event/page-turners-7/
LOCATION:Asbury Branch\, 5290 Grand Meadow Drive\, Asbury\, Iowa\, 52002
CATEGORIES:Adults
ATTACH;FMTTYPE=image/png:https://www.dubcolib.org/wp-content/uploads/2023/10/page-turners.png
ORGANIZER;CN="Teen & Adult Programming Librarian":MAILTO:jennm@dubcolib.org
END:VEVENT
BEGIN:VEVENT
DTSTART;TZID=America/Chicago:20240120T110000
DTEND;TZID=America/Chicago:20240120T113000
DTSTAMP:20260425T071619
CREATED:20231120T173751Z
LAST-MODIFIED:20240111T221545Z
UID:10001204-1705748400-1705750200@www.dubcolib.org
SUMMARY:Virtual Craft Club - January
DESCRIPTION:(Ages 16+) Join us for a craft with virtual instruction! Make sure to register by 12/29 so you can pick up your pre-filled craft kit. January’s craft is Orange and Clove Candles.  Registration is required for all virtual events.
URL:https://www.dubcolib.org/event/virtual-craft-club-january/
LOCATION:Virtual
CATEGORIES:Adults
ATTACH;FMTTYPE=image/png:https://www.dubcolib.org/wp-content/uploads/2023/11/DIY-Orange-Clove-Tealight-Holder-2-604x1024-1.png
ORGANIZER;CN="Jenn Matters":MAILTO:jennm@dubcolib.org
END:VEVENT
BEGIN:VEVENT
DTSTART;TZID=America/Chicago:20240120T130000
DTEND;TZID=America/Chicago:20240120T140000
DTSTAMP:20260425T071619
CREATED:20231212T170540Z
LAST-MODIFIED:20240112T202912Z
UID:10001241-1705755600-1705759200@www.dubcolib.org
SUMMARY:Archiving Your Family History
DESCRIPTION:Holding on to documents\, photos\, and objects for future generations? Heidi Pettitt from the Center for Dubuque History will talk about what’s important to keep\, how best to store it digitally and physically\, and when it’s time to work with an archive. Our relationship with stuff has been changing over the past few decades. Broadly (and generationally) speaking\, most people want less of it\, but many of us hold on to things to maintain for our descendants. Feel free to bring something for show and tell! Sponsored by the Friends of the Dubuque County Library District.
URL:https://www.dubcolib.org/event/archiving-your-family-history/
LOCATION:Asbury Branch\, 5290 Grand Meadow Drive\, Asbury\, Iowa\, 52002
CATEGORIES:Adults
ATTACH;FMTTYPE=image/png:https://www.dubcolib.org/wp-content/uploads/2023/12/How-to-Preserve-Your-Family-History-Photos-Instagram-Post.png
ORGANIZER;CN="Friends of the Library":MAILTO:library@dubcolib.org
END:VEVENT
BEGIN:VEVENT
DTSTART;TZID=America/Chicago:20240129T173000
DTEND;TZID=America/Chicago:20240129T183000
DTSTAMP:20260425T071619
CREATED:20231209T173847Z
LAST-MODIFIED:20231209T180710Z
UID:10001479-1706549400-1706553000@www.dubcolib.org
SUMMARY:Craft Club - Pine Cone Snowy Owl
DESCRIPTION:(Ages 16+) Join us for this monthly crafting program. Registration recommended\, drop-ins welcome as supplies last. January’s craft is Pine Cone Snowy Owls
URL:https://www.dubcolib.org/event/craft-club-pine-cone-snowy-owl/
LOCATION:Asbury Branch\, 5290 Grand Meadow Drive\, Asbury\, Iowa\, 52002
CATEGORIES:Adults
ATTACH;FMTTYPE=image/png:https://www.dubcolib.org/wp-content/uploads/2023/12/Copy-of-Storytime-March-May-2023-Facebook-Post-4.png
ORGANIZER;CN="Teen & Adult Programming Librarian":MAILTO:jennm@dubcolib.org
END:VEVENT
END:VCALENDAR