BEGIN:VCALENDAR
VERSION:2.0
PRODID:-//Dubuque County Library District - ECPv6.15.20//NONSGML v1.0//EN
CALSCALE:GREGORIAN
METHOD:PUBLISH
X-WR-CALNAME:Dubuque County Library District
X-ORIGINAL-URL:https://www.dubcolib.org
X-WR-CALDESC:Events for Dubuque County Library District
REFRESH-INTERVAL;VALUE=DURATION:PT1H
X-Robots-Tag:noindex
X-PUBLISHED-TTL:PT1H
BEGIN:VTIMEZONE
TZID:America/Chicago
BEGIN:DAYLIGHT
TZOFFSETFROM:-0600
TZOFFSETTO:-0500
TZNAME:CDT
DTSTART:20250309T080000
END:DAYLIGHT
BEGIN:STANDARD
TZOFFSETFROM:-0500
TZOFFSETTO:-0600
TZNAME:CST
DTSTART:20251102T070000
END:STANDARD
BEGIN:DAYLIGHT
TZOFFSETFROM:-0600
TZOFFSETTO:-0500
TZNAME:CDT
DTSTART:20260308T080000
END:DAYLIGHT
BEGIN:STANDARD
TZOFFSETFROM:-0500
TZOFFSETTO:-0600
TZNAME:CST
DTSTART:20261101T070000
END:STANDARD
BEGIN:DAYLIGHT
TZOFFSETFROM:-0600
TZOFFSETTO:-0500
TZNAME:CDT
DTSTART:20270314T080000
END:DAYLIGHT
BEGIN:STANDARD
TZOFFSETFROM:-0500
TZOFFSETTO:-0600
TZNAME:CST
DTSTART:20271107T070000
END:STANDARD
END:VTIMEZONE
BEGIN:VEVENT
DTSTART;TZID=America/Chicago:20260504T000000
DTEND;TZID=America/Chicago:20260509T000000
DTSTAMP:20260420T093301
CREATED:20260409T170948Z
LAST-MODIFIED:20260409T182516Z
UID:10005456-1777852800-1778284800@www.dubcolib.org
SUMMARY:Teens @ the Library: Take and Make
DESCRIPTION:Pick up a kit to make your very own stress ball at home! Kits will be available for pickup between May 4 and May 9. Any kits not picked up by library close on May 9 will no longer be available. \nFor ages 13-17. Registration is required.
URL:https://www.dubcolib.org/event/teens-the-library-take-and-make/
CATEGORIES:Teens
ATTACH;FMTTYPE=image/jpeg:https://www.dubcolib.org/wp-content/uploads/2026/04/Black-Red-Modern-Simple-Bold-Typography-I-Love-Me-T-Shirt-1.jpg
END:VEVENT
BEGIN:VEVENT
DTSTART;TZID=America/Chicago:20260505T110000
DTEND;TZID=America/Chicago:20260505T120000
DTSTAMP:20260420T093301
CREATED:20260409T162925Z
LAST-MODIFIED:20260417T162502Z
UID:10005448-1777978800-1777982400@www.dubcolib.org
SUMMARY:Tai Chi
DESCRIPTION:Tai Chi consists of slow\, fluid\, gentle movements that are accessible for individuals at any fitness level. This twice weekly class is taught by a certified Tai Chi instructor and is suitable for beginners. Class is held Tuesday and Thursday mornings at 11 a.m. from May 5th to May 28th. RSVP is required. Registration for the first class registers you for the entire series. Participants must be able to attend the majority of classes.
URL:https://www.dubcolib.org/event/taichi26/
LOCATION:Asbury Branch\, 5290 Grand Meadow Drive\, Asbury\, Iowa\, 52002
CATEGORIES:Adults
ATTACH;FMTTYPE=image/jpeg:https://www.dubcolib.org/wp-content/uploads/2023/10/snack-on-science-4-x-3-in-17.jpeg
ORGANIZER;CN="Teen & Adult Programming Librarian":MAILTO:jennm@dubcolib.org
END:VEVENT
BEGIN:VEVENT
DTSTART;TZID=America/Chicago:20260505T163000
DTEND;TZID=America/Chicago:20260505T171500
DTSTAMP:20260420T093301
CREATED:20260410T183000Z
LAST-MODIFIED:20260410T190924Z
UID:10005459-1777998600-1778001300@www.dubcolib.org
SUMMARY:DCLD Kids: Coasters
DESCRIPTION:Celebrate someone special in your life by making them a personalized coaster! Perfect for a Mother’s Day gift. For ages 5-12.
URL:https://www.dubcolib.org/event/dcld-kids-coaster-2/
LOCATION:Epworth Branch\, 110 Bierman Road\, Epworth\, Iowa\, 52045
CATEGORIES:Kids
ATTACH;FMTTYPE=image/jpeg:https://www.dubcolib.org/wp-content/uploads/2026/04/Black-Red-Modern-Simple-Bold-Typography-I-Love-Me-T-Shirt-2.jpg
ORGANIZER;CN="Children's Librarian":MAILTO:LydiaS@dubcolib.org
END:VEVENT
BEGIN:VEVENT
DTSTART;TZID=America/Chicago:20260505T173000
DTEND;TZID=America/Chicago:20260505T190000
DTSTAMP:20260420T093301
CREATED:20260409T163724Z
LAST-MODIFIED:20260409T164309Z
UID:10005447-1778002200-1778007600@www.dubcolib.org
SUMMARY:Silent Book Club
DESCRIPTION:Readers and introverts unite! Join us for an hour of silent reading followed by half an hour of (optional) casual conversation. There’s no assigned reading\, and you can read whatever you like! All readers are welcome. If you’re an audiobook listener\, we ask that you wear headphones or earbuds. If you’d like to bring something to do with your hands while you listen\, that is welcome\, too! If you have questions\, please email gabbym@dubcolib.org. For teens and adults.
URL:https://www.dubcolib.org/event/silent-book-club-5/
LOCATION:Peosta Branch\, 8342 NICC Drive\, Peosta\, Iowa\, 52068
CATEGORIES:Adults,Teens
ATTACH;FMTTYPE=image/jpeg:https://www.dubcolib.org/wp-content/uploads/2025/12/Beige-Simple-Book-Club-Carousal-Instagram-Post-e1765219829240.jpg
ORGANIZER;CN="Teen & Adult Programming Librarian":MAILTO:jennm@dubcolib.org
END:VEVENT
END:VCALENDAR