BEGIN:VCALENDAR
VERSION:2.0
PRODID:-//Dubuque County Library District - ECPv6.15.20//NONSGML v1.0//EN
CALSCALE:GREGORIAN
METHOD:PUBLISH
X-WR-CALNAME:Dubuque County Library District
X-ORIGINAL-URL:https://www.dubcolib.org
X-WR-CALDESC:Events for Dubuque County Library District
REFRESH-INTERVAL;VALUE=DURATION:PT1H
X-Robots-Tag:noindex
X-PUBLISHED-TTL:PT1H
BEGIN:VTIMEZONE
TZID:America/Chicago
BEGIN:DAYLIGHT
TZOFFSETFROM:-0600
TZOFFSETTO:-0500
TZNAME:CDT
DTSTART:20250309T080000
END:DAYLIGHT
BEGIN:STANDARD
TZOFFSETFROM:-0500
TZOFFSETTO:-0600
TZNAME:CST
DTSTART:20251102T070000
END:STANDARD
BEGIN:DAYLIGHT
TZOFFSETFROM:-0600
TZOFFSETTO:-0500
TZNAME:CDT
DTSTART:20260308T080000
END:DAYLIGHT
BEGIN:STANDARD
TZOFFSETFROM:-0500
TZOFFSETTO:-0600
TZNAME:CST
DTSTART:20261101T070000
END:STANDARD
BEGIN:DAYLIGHT
TZOFFSETFROM:-0600
TZOFFSETTO:-0500
TZNAME:CDT
DTSTART:20270314T080000
END:DAYLIGHT
BEGIN:STANDARD
TZOFFSETFROM:-0500
TZOFFSETTO:-0600
TZNAME:CST
DTSTART:20271107T070000
END:STANDARD
END:VTIMEZONE
BEGIN:VEVENT
DTSTART;TZID=America/Chicago:20260421T163000
DTEND;TZID=America/Chicago:20260421T171500
DTSTAMP:20260421T220658
CREATED:20260306T172659Z
LAST-MODIFIED:20260331T171412Z
UID:10005426-1776789000-1776791700@www.dubcolib.org
SUMMARY:DCLD Kids: Rock Painting
DESCRIPTION:Rock painting to celebrate spring! For kids 5-12.
URL:https://www.dubcolib.org/event/dcld-kids-rock-painting/
LOCATION:Epworth Branch\, 110 Bierman Road\, Epworth\, Iowa\, 52045
CATEGORIES:Kids
ATTACH;FMTTYPE=image/jpeg:https://www.dubcolib.org/wp-content/uploads/2026/03/rock-painting-ideas.jpg
ORGANIZER;CN="Children's Librarian":MAILTO:LydiaS@dubcolib.org
END:VEVENT
BEGIN:VEVENT
DTSTART;TZID=America/Chicago:20260421T170000
DTEND;TZID=America/Chicago:20260421T180000
DTSTAMP:20260421T220658
CREATED:20260203T221242Z
LAST-MODIFIED:20260203T221242Z
UID:10005345-1776790800-1776794400@www.dubcolib.org
SUMMARY:Ukulele for Absolute Beginners
DESCRIPTION:Interested in learning ukulele? Join us for an introductory class on beginner chords to get you started! Instruments provided. Teens and adults welcome. RSVP required.
URL:https://www.dubcolib.org/event/ukulele-for-absolute-beginners-4/
LOCATION:Farley Branch\, 206 1st Street North\, Farley\, IA\, 52046
CATEGORIES:Adults,Teens
ATTACH;FMTTYPE=image/jpeg:https://www.dubcolib.org/wp-content/uploads/2026/02/uke-jam-e1770156334605.jpg
ORGANIZER;CN="Teen & Adult Programming Librarian":MAILTO:jennm@dubcolib.org
END:VEVENT
BEGIN:VEVENT
DTSTART;TZID=America/Chicago:20260421T173000
DTEND;TZID=America/Chicago:20260421T183000
DTSTAMP:20260421T220658
CREATED:20250627T170550Z
LAST-MODIFIED:20250627T170550Z
UID:10004511-1776792600-1776796200@www.dubcolib.org
SUMMARY:Dubuque County Library District Board of Trustees Meeting
DESCRIPTION:The Board of Trustees will hold their monthly meeting. The agenda for this meeting and minutes from previous meetings can be found online.
URL:https://www.dubcolib.org/event/dubuque-county-library-district-board-of-trustees-meeting-19/
LOCATION:Peosta Branch\, 8342 NICC Drive\, Peosta\, Iowa\, 52068
CATEGORIES:All Ages
ATTACH;FMTTYPE=image/png:https://www.dubcolib.org/wp-content/uploads/2024/08/Website-Resolution-53.png
END:VEVENT
END:VCALENDAR