BEGIN:VCALENDAR
VERSION:2.0
PRODID:-//Dubuque County Library District - ECPv6.15.20//NONSGML v1.0//EN
CALSCALE:GREGORIAN
METHOD:PUBLISH
X-WR-CALNAME:Dubuque County Library District
X-ORIGINAL-URL:https://www.dubcolib.org
X-WR-CALDESC:Events for Dubuque County Library District
REFRESH-INTERVAL;VALUE=DURATION:PT1H
X-Robots-Tag:noindex
X-PUBLISHED-TTL:PT1H
BEGIN:VTIMEZONE
TZID:America/Chicago
BEGIN:DAYLIGHT
TZOFFSETFROM:-0600
TZOFFSETTO:-0500
TZNAME:CDT
DTSTART:20250309T080000
END:DAYLIGHT
BEGIN:STANDARD
TZOFFSETFROM:-0500
TZOFFSETTO:-0600
TZNAME:CST
DTSTART:20251102T070000
END:STANDARD
BEGIN:DAYLIGHT
TZOFFSETFROM:-0600
TZOFFSETTO:-0500
TZNAME:CDT
DTSTART:20260308T080000
END:DAYLIGHT
BEGIN:STANDARD
TZOFFSETFROM:-0500
TZOFFSETTO:-0600
TZNAME:CST
DTSTART:20261101T070000
END:STANDARD
BEGIN:DAYLIGHT
TZOFFSETFROM:-0600
TZOFFSETTO:-0500
TZNAME:CDT
DTSTART:20270314T080000
END:DAYLIGHT
BEGIN:STANDARD
TZOFFSETFROM:-0500
TZOFFSETTO:-0600
TZNAME:CST
DTSTART:20271107T070000
END:STANDARD
END:VTIMEZONE
BEGIN:VEVENT
DTSTART;TZID=America/Chicago:20260330T161500
DTEND;TZID=America/Chicago:20260330T170000
DTSTAMP:20260421T080257
CREATED:20260211T230907Z
LAST-MODIFIED:20260211T231011Z
UID:10005397-1774887300-1774890000@www.dubcolib.org
SUMMARY:Egg Decorating
DESCRIPTION:Celebrate spring with some egg-tastic fun at the library. A limited amount of wooden eggs will be available\, attendees are welcome to to bring their own hardboiled eggs from home. For children and families.
URL:https://www.dubcolib.org/event/egg-decorating-5/
LOCATION:Peosta Branch\, 8342 NICC Drive\, Peosta\, Iowa\, 52068
CATEGORIES:Kids
ATTACH;FMTTYPE=image/jpeg:https://www.dubcolib.org/wp-content/uploads/2025/02/Website-Resolution-56.jpg
ORGANIZER;CN="Children's Librarian":MAILTO:LydiaS@dubcolib.org
END:VEVENT
BEGIN:VEVENT
DTSTART;TZID=America/Chicago:20260330T180000
DTEND;TZID=America/Chicago:20260330T193000
DTSTAMP:20260421T080257
CREATED:20260128T202642Z
LAST-MODIFIED:20260128T202642Z
UID:10005307-1774893600-1774899000@www.dubcolib.org
SUMMARY:Unconditional Surrender: A Visit with Ulysses S. Grant
DESCRIPTION:This one-man show is an informative\, humorous and touching portrayal of the victorious General whose strategy and tenacity won the Civil War\, the President who struggled to rebuild his nation after the war\, and the husband and father whose final efforts were devoted to the financial support of his wife and family. \nStarring Peter J. Grady\, this performance runs 60 minutes\, and features period music\, photographs and cartoons as Grant reviews his life as he struggles to complete his memoirs just days before his death. \nRSVP is recommended. \nDCLD received funding from Humanities Iowa\, a private nonprofit\, to host this program. If you are a person with a disability who requires special assistance\, please call the library in advance.
URL:https://www.dubcolib.org/event/grant/
LOCATION:Asbury Branch\, 5290 Grand Meadow Drive\, Asbury\, Iowa\, 52002
CATEGORIES:Adults
ATTACH;FMTTYPE=image/jpeg:https://www.dubcolib.org/wp-content/uploads/2026/01/Website-Sliders-43.jpg
ORGANIZER;CN="Teen & Adult Programming Librarian":MAILTO:jennm@dubcolib.org
END:VEVENT
END:VCALENDAR