BEGIN:VCALENDAR
VERSION:2.0
PRODID:-//Dubuque County Library District - ECPv6.15.20//NONSGML v1.0//EN
CALSCALE:GREGORIAN
METHOD:PUBLISH
X-ORIGINAL-URL:https://www.dubcolib.org
X-WR-CALDESC:Events for Dubuque County Library District
REFRESH-INTERVAL;VALUE=DURATION:PT1H
X-Robots-Tag:noindex
X-PUBLISHED-TTL:PT1H
BEGIN:VTIMEZONE
TZID:America/Chicago
BEGIN:DAYLIGHT
TZOFFSETFROM:-0600
TZOFFSETTO:-0500
TZNAME:CDT
DTSTART:20250309T080000
END:DAYLIGHT
BEGIN:STANDARD
TZOFFSETFROM:-0500
TZOFFSETTO:-0600
TZNAME:CST
DTSTART:20251102T070000
END:STANDARD
BEGIN:DAYLIGHT
TZOFFSETFROM:-0600
TZOFFSETTO:-0500
TZNAME:CDT
DTSTART:20260308T080000
END:DAYLIGHT
BEGIN:STANDARD
TZOFFSETFROM:-0500
TZOFFSETTO:-0600
TZNAME:CST
DTSTART:20261101T070000
END:STANDARD
BEGIN:DAYLIGHT
TZOFFSETFROM:-0600
TZOFFSETTO:-0500
TZNAME:CDT
DTSTART:20270314T080000
END:DAYLIGHT
BEGIN:STANDARD
TZOFFSETFROM:-0500
TZOFFSETTO:-0600
TZNAME:CST
DTSTART:20271107T070000
END:STANDARD
END:VTIMEZONE
BEGIN:VEVENT
DTSTART;TZID=America/Chicago:20260328T100000
DTEND;TZID=America/Chicago:20260328T120000
DTSTAMP:20260420T021158
CREATED:20260115T195111Z
LAST-MODIFIED:20260319T201447Z
UID:10005304-1774692000-1774699200@www.dubcolib.org
SUMMARY:Puzzle Palooza - Competition & Fundraiser
DESCRIPTION:Join us for Puzzle Palooza – a special puzzle fundraising event with the Friends of the Library.\nEach team will have 2 hours to complete the same 500-piece puzzle. The first team to finish wins!\nPrizes will be awarded to the winners. Each team keeps their event puzzle as well!\nSpace is limited (12 teams max) $60 per team of (4) people. Participants must be ages 13+. Register 1 person from your team as a captain ahead of the event. This will reserve your team’s spot in the competition. \nCheck in starts at 9:30. Puzzling begins at 10 am.\nRegistration is Required.  \nAll funds from this event directly benefit the Dubuque County Library District for an enhanced library experience for our community\, ensuring up-to-date resources\, varied programs\, and an inclusive space for all ages!
URL:https://www.dubcolib.org/event/puzzlepalooza/
LOCATION:Asbury Branch\, 5290 Grand Meadow Drive\, Asbury\, Iowa\, 52002
CATEGORIES:Adults,Teens
ATTACH;FMTTYPE=image/png:https://www.dubcolib.org/wp-content/uploads/2024/10/Copy-of-Puzzle-Palooza-2.png
ORGANIZER;CN="Friends of the Library":MAILTO:library@dubcolib.org
END:VEVENT
BEGIN:VEVENT
DTSTART;TZID=America/Chicago:20260328T103000
DTEND;TZID=America/Chicago:20260328T110000
DTSTAMP:20260420T021158
CREATED:20260203T232321Z
LAST-MODIFIED:20260205T180906Z
UID:10005361-1774693800-1774695600@www.dubcolib.org
SUMMARY:𝐁𝐞𝐫𝐫𝐲 𝐒𝐨𝐧𝐠 𝐒𝐭𝐨𝐫𝐲𝐭𝐢𝐦𝐞: 𝐃𝐮𝐛𝐮𝐪𝐮𝐞 𝐂𝐨𝐮𝐧𝐭𝐲 𝐑𝐞𝐚𝐝𝐬 𝐊𝐢𝐝𝐬 𝟐𝟎𝟐𝟔
DESCRIPTION:Celebrate the 2026 Dubuque County Reads Kids book at these Special Storytimes featuring Michaela Goade’s 𝐁𝐞𝐫𝐫𝐲 𝐒𝐨𝐧𝐠.\n\nCaldecott Medalist Michaela Goade’s first self-authored picture book is a gorgeous celebration of the land she knows well and the powerful wisdom of elders.\n\n𝐃𝐮𝐛𝐮𝐪𝐮𝐞 𝐂𝐨𝐮𝐧𝐭𝐲 𝐋𝐢𝐛𝐫𝐚𝐫𝐲 𝐃𝐢𝐬𝐭𝐫𝐢𝐜𝐭 – 𝐀𝐬𝐛𝐮𝐫𝐲: March 28th @ 10:30 AM  in the Children’s Area\n\nDubuque County Reads for Kids makes reading fun and interactive! Children and families can explore this year’s featured book through hands-on activities\, storytimes\, and creative projects. Our goal is to nurture a love of reading while building connections across the community—because big ideas start with little readers.​Attendees will receive a Free Copy of 𝐁𝐞𝐫𝐫𝐲 𝐒𝐨𝐧𝐠 by Michaela Goade\, while supplies last.
URL:https://www.dubcolib.org/event/dcrkids26/
LOCATION:Asbury Branch\, 5290 Grand Meadow Drive\, Asbury\, Iowa\, 52002
CATEGORIES:Kids,Preschoolers
ATTACH;FMTTYPE=image/jpeg:https://www.dubcolib.org/wp-content/uploads/2026/02/621676893_1345604427610272_3063509333809474164_n.jpg
ORGANIZER;CN="Community Engagement Librarian":MAILTO:LydiaS@dubcolib.org
END:VEVENT
END:VCALENDAR