BEGIN:VCALENDAR
VERSION:2.0
PRODID:-//Dubuque County Library District - ECPv6.15.20//NONSGML v1.0//EN
CALSCALE:GREGORIAN
METHOD:PUBLISH
X-WR-CALNAME:Dubuque County Library District
X-ORIGINAL-URL:https://www.dubcolib.org
X-WR-CALDESC:Events for Dubuque County Library District
REFRESH-INTERVAL;VALUE=DURATION:PT1H
X-Robots-Tag:noindex
X-PUBLISHED-TTL:PT1H
BEGIN:VTIMEZONE
TZID:America/Chicago
BEGIN:DAYLIGHT
TZOFFSETFROM:-0600
TZOFFSETTO:-0500
TZNAME:CDT
DTSTART:20250309T080000
END:DAYLIGHT
BEGIN:STANDARD
TZOFFSETFROM:-0500
TZOFFSETTO:-0600
TZNAME:CST
DTSTART:20251102T070000
END:STANDARD
BEGIN:DAYLIGHT
TZOFFSETFROM:-0600
TZOFFSETTO:-0500
TZNAME:CDT
DTSTART:20260308T080000
END:DAYLIGHT
BEGIN:STANDARD
TZOFFSETFROM:-0500
TZOFFSETTO:-0600
TZNAME:CST
DTSTART:20261101T070000
END:STANDARD
BEGIN:DAYLIGHT
TZOFFSETFROM:-0600
TZOFFSETTO:-0500
TZNAME:CDT
DTSTART:20270314T080000
END:DAYLIGHT
BEGIN:STANDARD
TZOFFSETFROM:-0500
TZOFFSETTO:-0600
TZNAME:CST
DTSTART:20271107T070000
END:STANDARD
END:VTIMEZONE
BEGIN:VEVENT
DTSTART;TZID=America/Chicago:20260326T093000
DTEND;TZID=America/Chicago:20260326T100000
DTSTAMP:20260420T184539
CREATED:20251210T195643Z
LAST-MODIFIED:20260303T174546Z
UID:10005262-1774517400-1774519200@www.dubcolib.org
SUMMARY:Baby Storytime
DESCRIPTION:A short program of interactive play designed for children 0 -24 months. There will be songs\, fingerplay and reading\, followed by a time of open play and making friends.\n\nPlease note: Storytime is automatically cancelled when local schools are closed or delayed due to weather.
URL:https://www.dubcolib.org/event/baby-storytime-2/2026-03-26/
LOCATION:Asbury Branch\, 5290 Grand Meadow Drive\, Asbury\, Iowa\, 52002
CATEGORIES:Babies & Toddlers
ATTACH;FMTTYPE=image/jpeg:https://www.dubcolib.org/wp-content/uploads/2025/04/Summer-2025-5.jpg
END:VEVENT
BEGIN:VEVENT
DTSTART;TZID=America/Chicago:20260326T161500
DTEND;TZID=America/Chicago:20260326T170000
DTSTAMP:20260420T184539
CREATED:20251209T161657Z
LAST-MODIFIED:20260102T170136Z
UID:10005112-1774541700-1774544400@www.dubcolib.org
SUMMARY:Early Elementary Book Club
DESCRIPTION:New Library Book Club for 1st – 3rd graders! \nJanuary’s book – Disaster Squad: Wildfire Rescue\nFebruary’s book – Zoey and Sassafras: Dragons and Marshmallows\nMarch’s book – The Last Firehawk: The Ember Stone\nApril’s book – The Boxcar Children\, No. 1\nBooks can be picked up at the Asbury branch starting January 2nd. \nRSVP Required: CLICK HERE
URL:https://www.dubcolib.org/event/elembookclub/2026-03-26/
LOCATION:Asbury Branch\, 5290 Grand Meadow Drive\, Asbury\, Iowa\, 52002
CATEGORIES:Kids
ATTACH;FMTTYPE=image/jpeg:https://www.dubcolib.org/wp-content/uploads/2025/12/newsletter-for-instagram-12.jpg
ORGANIZER;CN="Children's Librarian":MAILTO:LydiaS@dubcolib.org
END:VEVENT
BEGIN:VEVENT
DTSTART;TZID=America/Chicago:20260326T171500
DTEND;TZID=America/Chicago:20260326T180000
DTSTAMP:20260420T184539
CREATED:20251209T161700Z
LAST-MODIFIED:20260102T170554Z
UID:10005108-1774545300-1774548000@www.dubcolib.org
SUMMARY:Tween Book Club
DESCRIPTION:New Library Book Club for 4th – 6th graders! \nJanuary’s book – Insignificant Events in the Life of a Cactus\nFebruary’s book – The One and Only Ivan\nMarch’s book – From the Mixed-Up Files of Mrs. Basil E. Frankweiler\nApril’s book – Because of Winn-Dixie\nBooks can be picked up at the Asbury branch starting January 2nd. \nRSVP Required: CLICK HERE
URL:https://www.dubcolib.org/event/tweenbookclub/2026-03-26/
LOCATION:Asbury Branch\, 5290 Grand Meadow Drive\, Asbury\, Iowa\, 52002
CATEGORIES:Kids
ATTACH;FMTTYPE=image/jpeg:https://www.dubcolib.org/wp-content/uploads/2025/12/newsletter-for-instagram-13.jpg
ORGANIZER;CN="Children's Librarian":MAILTO:LydiaS@dubcolib.org
END:VEVENT
BEGIN:VEVENT
DTSTART;TZID=America/Chicago:20260326T173000
DTEND;TZID=America/Chicago:20260326T183000
DTSTAMP:20260420T184539
CREATED:20260203T234307Z
LAST-MODIFIED:20260203T234338Z
UID:10005338-1774546200-1774549800@www.dubcolib.org
SUMMARY:Craft Club: Terracotta Pot Painting
DESCRIPTION:Get ready for spring by painting your own terracotta pot! You’ll also get to choose some herb seeds to take home with you.  RSVP encouraged\, walk-ins welcome while supplies last. For teens and adults.
URL:https://www.dubcolib.org/event/craft-club-terracotta-pot-painting-2/
LOCATION:Peosta Branch\, 8342 NICC Drive\, Peosta\, Iowa\, 52068
CATEGORIES:Adults,Teens
ATTACH;FMTTYPE=image/jpeg:https://www.dubcolib.org/wp-content/uploads/2026/02/Header-1_4a0bf89f-f4c8-42a6-9d76-c5b47fcaf259.jpg
ORGANIZER;CN="Teen & Adult Programming Librarian":MAILTO:jennm@dubcolib.org
END:VEVENT
BEGIN:VEVENT
DTSTART;TZID=America/Chicago:20260326T183000
DTEND;TZID=America/Chicago:20260326T203000
DTSTAMP:20260420T184539
CREATED:20260115T195233Z
LAST-MODIFIED:20260115T210419Z
UID:10005305-1774549800-1774557000@www.dubcolib.org
SUMMARY:Puzzle Palooza - Competition & Fundraiser @ Locals
DESCRIPTION:Join us for Puzzle Palooza – a special puzzle fundraising event with the Friends of the Library held at Locals Bar in Epworth\nEach team will have 2 hours to complete the same 500-piece puzzle. The first team to finish wins!\nPrizes will be awarded to the winners. The teams get to keep their event puzzle as well!\nSpace is limited (12 teams max) $60 per team of (4) people. Participants must be ages 21+. Register 1 person from your team as a captain ahead of the event. This will reserve your team’s spot in the competition.\nCheck in starts at 6:00. Puzzling begins at 6:30 pm.\nRegistration is Required.  \nAll funds from this event directly benefit the Dubuque County Library District for an enhanced library experience for our community\, ensuring up-to-date resources\, varied programs\, and an inclusive space for all ages!
URL:https://www.dubcolib.org/event/puzzle-palooza-competition-fundraiser-locals/
LOCATION:Off-Site: Locals\, 107 W Main St\, Epworth\, IA\, 52045
CATEGORIES:Adults
ATTACH;FMTTYPE=image/png:https://www.dubcolib.org/wp-content/uploads/2024/10/Copy-of-Puzzle-Palooza-3.png
ORGANIZER;CN="Friends of the Library":MAILTO:library@dubcolib.org
END:VEVENT
END:VCALENDAR