BEGIN:VCALENDAR
VERSION:2.0
PRODID:-//Dubuque County Library District - ECPv6.15.20//NONSGML v1.0//EN
CALSCALE:GREGORIAN
METHOD:PUBLISH
X-ORIGINAL-URL:https://www.dubcolib.org
X-WR-CALDESC:Events for Dubuque County Library District
REFRESH-INTERVAL;VALUE=DURATION:PT1H
X-Robots-Tag:noindex
X-PUBLISHED-TTL:PT1H
BEGIN:VTIMEZONE
TZID:America/Chicago
BEGIN:DAYLIGHT
TZOFFSETFROM:-0600
TZOFFSETTO:-0500
TZNAME:CDT
DTSTART:20250309T080000
END:DAYLIGHT
BEGIN:STANDARD
TZOFFSETFROM:-0500
TZOFFSETTO:-0600
TZNAME:CST
DTSTART:20251102T070000
END:STANDARD
BEGIN:DAYLIGHT
TZOFFSETFROM:-0600
TZOFFSETTO:-0500
TZNAME:CDT
DTSTART:20260308T080000
END:DAYLIGHT
BEGIN:STANDARD
TZOFFSETFROM:-0500
TZOFFSETTO:-0600
TZNAME:CST
DTSTART:20261101T070000
END:STANDARD
BEGIN:DAYLIGHT
TZOFFSETFROM:-0600
TZOFFSETTO:-0500
TZNAME:CDT
DTSTART:20270314T080000
END:DAYLIGHT
BEGIN:STANDARD
TZOFFSETFROM:-0500
TZOFFSETTO:-0600
TZNAME:CST
DTSTART:20271107T070000
END:STANDARD
END:VTIMEZONE
BEGIN:VEVENT
DTSTART;TZID=America/Chicago:20260203T090000
DTEND;TZID=America/Chicago:20260203T093000
DTSTAMP:20260419T164709
CREATED:20251210T194017Z
LAST-MODIFIED:20260203T232859Z
UID:10005142-1770109200-1770111000@www.dubcolib.org
SUMMARY:Peosta Storytime
DESCRIPTION:Join Teresa for a time of stories\, songs\, fingerplay\, wiggles\, and hands-on activities. Designed for ages 2.5 to 4. \nPlease note: Storytime is automatically cancelled when local schools are closed or delayed due to weather.
URL:https://www.dubcolib.org/event/peosta-storytime-4/2026-02-03/
LOCATION:Peosta Branch\, 8342 NICC Drive\, Peosta\, Iowa\, 52068
CATEGORIES:Preschoolers
ATTACH;FMTTYPE=image/jpeg:https://www.dubcolib.org/wp-content/uploads/2025/04/Summer-2025-7.jpg
END:VEVENT
BEGIN:VEVENT
DTSTART;TZID=America/Chicago:20260203T100000
DTEND;TZID=America/Chicago:20260203T103000
DTSTAMP:20260419T164709
CREATED:20251210T193105Z
LAST-MODIFIED:20260303T173043Z
UID:10005126-1770112800-1770114600@www.dubcolib.org
SUMMARY:Farley Storytime
DESCRIPTION:Join Teresa for a time of stories\, songs\, fingerplay\, wiggles\, and hands-on activities. Designed for ages 2.5 to 4. \nPlease note: Storytime is automatically cancelled when local schools are closed or delayed due to weather.
URL:https://www.dubcolib.org/event/farleystorytime/2026-02-03/
LOCATION:Farley Branch\, 206 1st Street North\, Farley\, IA\, 52046
CATEGORIES:Preschoolers
ATTACH;FMTTYPE=image/jpeg:https://www.dubcolib.org/wp-content/uploads/2025/04/Summer-2025-7.jpg
END:VEVENT
BEGIN:VEVENT
DTSTART;TZID=America/Chicago:20260203T163000
DTEND;TZID=America/Chicago:20260203T170000
DTSTAMP:20260419T164709
CREATED:20260112T193504Z
LAST-MODIFIED:20260112T193504Z
UID:10005286-1770136200-1770138000@www.dubcolib.org
SUMMARY:DCLD Kids: Tissue Paper Heart
DESCRIPTION:Celebrate Valentine’s Day by making a tissue paper heart!
URL:https://www.dubcolib.org/event/dcld-kids-tissue-paper-heart-4/
LOCATION:Epworth Branch\, 110 Bierman Road\, Epworth\, Iowa\, 52045
CATEGORIES:Kids
ATTACH;FMTTYPE=image/avif:https://www.dubcolib.org/wp-content/uploads/2026/01/t-tc-1670964441-tissue-paper-heart-wreath-valentines-day-crafts_ver_1-e1767897260298.avif
ORGANIZER;CN="Children's Librarian":MAILTO:LydiaS@dubcolib.org
END:VEVENT
BEGIN:VEVENT
DTSTART;TZID=America/Chicago:20260203T173000
DTEND;TZID=America/Chicago:20260203T190000
DTSTAMP:20260419T164709
CREATED:20260108T174350Z
LAST-MODIFIED:20260108T174350Z
UID:10005280-1770139800-1770145200@www.dubcolib.org
SUMMARY:Silent Book Club
DESCRIPTION:Readers and introverts unite! Join us for an hour of silent reading followed by half an hour of (optional) casual conversation. There’s no assigned book\, and you can read whatever you like! All readers are welcome. (If you’re an audiobook listener\, we ask that you wear headphones or earbuds.) If you’d like to bring a craft\, or something to do with your hands while you listen\, that is welcome\, too! For teens and adults. If you have questions\, please email gabbym@dubcolib.org.
URL:https://www.dubcolib.org/event/silent-book-club-2/
LOCATION:Peosta Branch\, 8342 NICC Drive\, Peosta\, Iowa\, 52068
CATEGORIES:Adults,Teens
ATTACH;FMTTYPE=image/jpeg:https://www.dubcolib.org/wp-content/uploads/2025/12/Beige-Simple-Book-Club-Carousal-Instagram-Post-e1765219829240.jpg
ORGANIZER;CN="Teen & Adult Programming Librarian":MAILTO:jennm@dubcolib.org
END:VEVENT
END:VCALENDAR