BEGIN:VCALENDAR
VERSION:2.0
PRODID:-//Dubuque County Library District - ECPv6.15.20//NONSGML v1.0//EN
CALSCALE:GREGORIAN
METHOD:PUBLISH
X-ORIGINAL-URL:https://www.dubcolib.org
X-WR-CALDESC:Events for Dubuque County Library District
REFRESH-INTERVAL;VALUE=DURATION:PT1H
X-Robots-Tag:noindex
X-PUBLISHED-TTL:PT1H
BEGIN:VTIMEZONE
TZID:America/Chicago
BEGIN:DAYLIGHT
TZOFFSETFROM:-0600
TZOFFSETTO:-0500
TZNAME:CDT
DTSTART:20240310T080000
END:DAYLIGHT
BEGIN:STANDARD
TZOFFSETFROM:-0500
TZOFFSETTO:-0600
TZNAME:CST
DTSTART:20241103T070000
END:STANDARD
BEGIN:DAYLIGHT
TZOFFSETFROM:-0600
TZOFFSETTO:-0500
TZNAME:CDT
DTSTART:20250309T080000
END:DAYLIGHT
BEGIN:STANDARD
TZOFFSETFROM:-0500
TZOFFSETTO:-0600
TZNAME:CST
DTSTART:20251102T070000
END:STANDARD
BEGIN:DAYLIGHT
TZOFFSETFROM:-0600
TZOFFSETTO:-0500
TZNAME:CDT
DTSTART:20260308T080000
END:DAYLIGHT
BEGIN:STANDARD
TZOFFSETFROM:-0500
TZOFFSETTO:-0600
TZNAME:CST
DTSTART:20261101T070000
END:STANDARD
END:VTIMEZONE
BEGIN:VEVENT
DTSTART;TZID=America/Chicago:20250514T090000
DTEND;TZID=America/Chicago:20250514T093000
DTSTAMP:20260423T045425
CREATED:20241204T220750Z
LAST-MODIFIED:20250213T183424Z
UID:10003874-1747213200-1747215000@www.dubcolib.org
SUMMARY:Baby & Toddler Storytime
DESCRIPTION:Songs\, stories and socializing for children 0-2 and their big siblings and caregivers.
URL:https://www.dubcolib.org/event/baby-toddler-storytime-13/2025-05-14/
LOCATION:Asbury Branch\, 5290 Grand Meadow Drive\, Asbury\, Iowa\, 52002
CATEGORIES:Babies & Toddlers
ATTACH;FMTTYPE=image/jpeg:https://www.dubcolib.org/wp-content/uploads/2024/05/Website-Resolution-21.jpg
ORGANIZER;CN="Teresa Jack":MAILTO:teresaj@dubcolib.org
END:VEVENT
BEGIN:VEVENT
DTSTART;TZID=America/Chicago:20250514T100000
DTEND;TZID=America/Chicago:20250514T103000
DTSTAMP:20260423T045425
CREATED:20241204T220433Z
LAST-MODIFIED:20250213T183125Z
UID:10003908-1747216800-1747218600@www.dubcolib.org
SUMMARY:Asbury Storytime
DESCRIPTION:Join Ms. Teresa for a half hour with some reading\, rhymes\, and playing with friends. Designed for children 2.5 – 5\, but younger and older siblings or friends are welcome.
URL:https://www.dubcolib.org/event/asbury-storytime/2025-05-14/
LOCATION:Asbury Branch\, 5290 Grand Meadow Drive\, Asbury\, Iowa\, 52002
CATEGORIES:Preschoolers
ATTACH;FMTTYPE=image/jpeg:https://www.dubcolib.org/wp-content/uploads/2024/05/Website-Resolution-20.jpg
ORGANIZER;CN="Teresa Jack":MAILTO:teresaj@dubcolib.org
END:VEVENT
BEGIN:VEVENT
DTSTART;TZID=America/Chicago:20250514T150000
DTEND;TZID=America/Chicago:20250514T153000
DTSTAMP:20260423T045425
CREATED:20250409T194455Z
LAST-MODIFIED:20250409T223229Z
UID:10004079-1747234800-1747236600@www.dubcolib.org
SUMMARY:Kids Craft Club: Personalized Picture Frames
DESCRIPTION:Join us for a monthly craft project for kids! In May we’re making personalized picture frames\, perfect for a Mother’s Day gift!
URL:https://www.dubcolib.org/event/kids-crafts-club-personalized-picture-frames-4/
LOCATION:Peosta Branch\, 8342 NICC Drive\, Peosta\, Iowa\, 52068
CATEGORIES:Kids
ATTACH;FMTTYPE=image/jpeg:https://www.dubcolib.org/wp-content/uploads/2025/04/Website-Resolution-62.jpg
ORGANIZER;CN="Children's Librarian":MAILTO:LydiaS@dubcolib.org
END:VEVENT
BEGIN:VEVENT
DTSTART;TZID=America/Chicago:20250514T170000
DTEND;TZID=America/Chicago:20250514T180000
DTSTAMP:20260423T045425
CREATED:20250408T214651Z
LAST-MODIFIED:20250409T214418Z
UID:10004085-1747242000-1747245600@www.dubcolib.org
SUMMARY:Teen Mario Kart Tournament
DESCRIPTION:Compete to win the title of Fastest Racer! Snacks will be provided. For ages 12-18.
URL:https://www.dubcolib.org/event/mario-kart-tournament/
LOCATION:Asbury Branch\, 5290 Grand Meadow Drive\, Asbury\, Iowa\, 52002
CATEGORIES:Teens
ATTACH;FMTTYPE=image/jpeg:https://www.dubcolib.org/wp-content/uploads/2024/02/a-better-look-on-gba-peach-circuit-remake-for-mario-kart-v0-g5qhkfyeo82b1.jpg
ORGANIZER;CN="Teen & Adult Programming Librarian":MAILTO:jennm@dubcolib.org
END:VEVENT
END:VCALENDAR