BEGIN:VCALENDAR
VERSION:2.0
PRODID:-//Dubuque County Library District - ECPv6.15.20//NONSGML v1.0//EN
CALSCALE:GREGORIAN
METHOD:PUBLISH
X-WR-CALNAME:Dubuque County Library District
X-ORIGINAL-URL:https://www.dubcolib.org
X-WR-CALDESC:Events for Dubuque County Library District
REFRESH-INTERVAL;VALUE=DURATION:PT1H
X-Robots-Tag:noindex
X-PUBLISHED-TTL:PT1H
BEGIN:VTIMEZONE
TZID:America/Chicago
BEGIN:DAYLIGHT
TZOFFSETFROM:-0600
TZOFFSETTO:-0500
TZNAME:CDT
DTSTART:20230312T080000
END:DAYLIGHT
BEGIN:STANDARD
TZOFFSETFROM:-0500
TZOFFSETTO:-0600
TZNAME:CST
DTSTART:20231105T070000
END:STANDARD
BEGIN:DAYLIGHT
TZOFFSETFROM:-0600
TZOFFSETTO:-0500
TZNAME:CDT
DTSTART:20240310T080000
END:DAYLIGHT
BEGIN:STANDARD
TZOFFSETFROM:-0500
TZOFFSETTO:-0600
TZNAME:CST
DTSTART:20241103T070000
END:STANDARD
BEGIN:DAYLIGHT
TZOFFSETFROM:-0600
TZOFFSETTO:-0500
TZNAME:CDT
DTSTART:20250309T080000
END:DAYLIGHT
BEGIN:STANDARD
TZOFFSETFROM:-0500
TZOFFSETTO:-0600
TZNAME:CST
DTSTART:20251102T070000
END:STANDARD
END:VTIMEZONE
BEGIN:VEVENT
DTSTART;TZID=America/Chicago:20241114T163000
DTEND;TZID=America/Chicago:20241114T173000
DTSTAMP:20260419T070314
CREATED:20240925T174646Z
LAST-MODIFIED:20240925T174646Z
UID:10003417-1731601800-1731605400@www.dubcolib.org
SUMMARY:Nature Squad: Pinecone Bird Feeders
DESCRIPTION:Nature Squad: Bringing the fun of the outdoors into the library! Join us for hands-on nature-themed activities that will spark kids’ love for the natural world and encourage them to explore nature. In November we’re making pinecone bird feeders.
URL:https://www.dubcolib.org/event/nature-squad-pinecone-bird-feeders-2/
LOCATION:Asbury Branch\, 5290 Grand Meadow Drive\, Asbury\, Iowa\, 52002
CATEGORIES:Kids
ATTACH;FMTTYPE=image/jpeg:https://www.dubcolib.org/wp-content/uploads/2024/09/Website-Resolution-.jpg
ORGANIZER;CN="Children's Librarian":MAILTO:LydiaS@dubcolib.org
END:VEVENT
BEGIN:VEVENT
DTSTART;TZID=America/Chicago:20241114T180000
DTEND;TZID=America/Chicago:20241114T190000
DTSTAMP:20260419T070314
CREATED:20240925T174806Z
LAST-MODIFIED:20240925T174807Z
UID:10003395-1731607200-1731610800@www.dubcolib.org
SUMMARY:No Pressure Book Club
DESCRIPTION:Welcome to the No Pressure Book Club\, a friendly space to chat about whatever books have captured your imagination lately. Join fellow book lovers for engaging conversations and insightful recommendations.
URL:https://www.dubcolib.org/event/no-pressure-book-club-13/
LOCATION:Holy Cross Branch\, 895 Main Street\, Holy Cross\, Iowa\, 52053
CATEGORIES:Adults
ATTACH;FMTTYPE=image/png:https://www.dubcolib.org/wp-content/uploads/2024/02/Minimalist-Book-Library-Logo-9.png
ORGANIZER;CN="John Bogdal":MAILTO:JohnB@dubcolib.org
END:VEVENT
END:VCALENDAR