BEGIN:VCALENDAR
VERSION:2.0
PRODID:-//Dubuque County Library District - ECPv6.15.20//NONSGML v1.0//EN
CALSCALE:GREGORIAN
METHOD:PUBLISH
X-WR-CALNAME:Dubuque County Library District
X-ORIGINAL-URL:https://www.dubcolib.org
X-WR-CALDESC:Events for Dubuque County Library District
REFRESH-INTERVAL;VALUE=DURATION:PT1H
X-Robots-Tag:noindex
X-PUBLISHED-TTL:PT1H
BEGIN:VTIMEZONE
TZID:America/Chicago
BEGIN:DAYLIGHT
TZOFFSETFROM:-0600
TZOFFSETTO:-0500
TZNAME:CDT
DTSTART:20230312T080000
END:DAYLIGHT
BEGIN:STANDARD
TZOFFSETFROM:-0500
TZOFFSETTO:-0600
TZNAME:CST
DTSTART:20231105T070000
END:STANDARD
BEGIN:DAYLIGHT
TZOFFSETFROM:-0600
TZOFFSETTO:-0500
TZNAME:CDT
DTSTART:20240310T080000
END:DAYLIGHT
BEGIN:STANDARD
TZOFFSETFROM:-0500
TZOFFSETTO:-0600
TZNAME:CST
DTSTART:20241103T070000
END:STANDARD
BEGIN:DAYLIGHT
TZOFFSETFROM:-0600
TZOFFSETTO:-0500
TZNAME:CDT
DTSTART:20250309T080000
END:DAYLIGHT
BEGIN:STANDARD
TZOFFSETFROM:-0500
TZOFFSETTO:-0600
TZNAME:CST
DTSTART:20251102T070000
END:STANDARD
END:VTIMEZONE
BEGIN:VEVENT
DTSTART;TZID=America/Chicago:20241106T090000
DTEND;TZID=America/Chicago:20241106T093000
DTSTAMP:20260419T211658
CREATED:20240812T223215Z
LAST-MODIFIED:20241009T150535Z
UID:10003248-1730883600-1730885400@www.dubcolib.org
SUMMARY:Baby & Toddler Storytime
DESCRIPTION:Songs\, stories and socializing for children 0-2 and their big siblings and caregivers.
URL:https://www.dubcolib.org/event/baby-toddler-storytime-12/2024-11-06/
LOCATION:Asbury Branch\, 5290 Grand Meadow Drive\, Asbury\, Iowa\, 52002
CATEGORIES:Babies & Toddlers
ATTACH;FMTTYPE=image/png:https://www.dubcolib.org/wp-content/uploads/2023/12/Website-Resolution-8.png
ORGANIZER;CN="Teresa Jack":MAILTO:teresaj@dubcolib.org
END:VEVENT
BEGIN:VEVENT
DTSTART;TZID=America/Chicago:20241106T100000
DTEND;TZID=America/Chicago:20241106T103000
DTSTAMP:20260419T211658
CREATED:20240809T202437Z
LAST-MODIFIED:20241009T150607Z
UID:10002865-1730887200-1730889000@www.dubcolib.org
SUMMARY:Storytime
DESCRIPTION:Join Ms. Teresa for a half hour with some reading\, rhymes\, and playing with friends. Designed for children 2.5 – 5\, but younger and older siblings or friends are welcome.
URL:https://www.dubcolib.org/event/storytime-23/2024-11-06/
LOCATION:Asbury Branch\, 5290 Grand Meadow Drive\, Asbury\, Iowa\, 52002
CATEGORIES:Preschoolers
ATTACH;FMTTYPE=image/jpeg:https://www.dubcolib.org/wp-content/uploads/2024/05/Website-Resolution-20.jpg
ORGANIZER;CN="Teresa Jack":MAILTO:teresaj@dubcolib.org
END:VEVENT
BEGIN:VEVENT
DTSTART;TZID=America/Chicago:20241106T143000
DTEND;TZID=America/Chicago:20241106T160000
DTSTAMP:20260419T211658
CREATED:20241008T184608Z
LAST-MODIFIED:20241105T205719Z
UID:10003492-1730903400-1730908800@www.dubcolib.org
SUMMARY:Early Out Play
DESCRIPTION:Drop-in between 2:30-4:00 for early out fun! Lego\, games\, crafts & more!
URL:https://www.dubcolib.org/event/early-out-play-6/2024-11-06/
LOCATION:Epworth Branch\, 110 Bierman Road\, Epworth\, Iowa\, 52045
CATEGORIES:Kids,Preschoolers
ATTACH;FMTTYPE=image/jpeg:https://www.dubcolib.org/wp-content/uploads/2024/10/EARLY-OUT-24-x-18-in.jpg
ORGANIZER;CN="Teresa Jack":MAILTO:teresaj@dubcolib.org
END:VEVENT
BEGIN:VEVENT
DTSTART;TZID=America/Chicago:20241106T163000
DTEND;TZID=America/Chicago:20241106T173000
DTSTAMP:20260419T211658
CREATED:20240907T171607Z
LAST-MODIFIED:20240907T171607Z
UID:10003413-1730910600-1730914200@www.dubcolib.org
SUMMARY:SNACKtivity
DESCRIPTION:SNACKtivity\, where creativity and fun come together through food! Join Ms. Julia to make Trail Mix.
URL:https://www.dubcolib.org/event/snacktivity-7/
LOCATION:Peosta Branch\, 8342 NICC Drive\, Peosta\, Iowa\, 52068
CATEGORIES:Kids
ATTACH;FMTTYPE=image/jpeg:https://www.dubcolib.org/wp-content/uploads/2024/09/Website-Resolution-69.jpg
ORGANIZER;CN="Children's Librarian":MAILTO:LydiaS@dubcolib.org
END:VEVENT
BEGIN:VEVENT
DTSTART;TZID=America/Chicago:20241106T163000
DTEND;TZID=America/Chicago:20241106T173000
DTSTAMP:20260419T211658
CREATED:20240909T144210Z
LAST-MODIFIED:20240909T144246Z
UID:10003389-1730910600-1730914200@www.dubcolib.org
SUMMARY:Chess Club
DESCRIPTION:Welcome to the timeless game of chess! Join us for engaging lessons where beginners and seasoned players alike can sharpen their skills and learn winning tactics and strategies.
URL:https://www.dubcolib.org/event/chess-club-22/
LOCATION:Asbury Branch\, 5290 Grand Meadow Drive\, Asbury\, Iowa\, 52002
CATEGORIES:Teens
ATTACH;FMTTYPE=image/png:https://www.dubcolib.org/wp-content/uploads/2024/03/Website-Resolution-3.png
ORGANIZER;CN="John Bogdal":MAILTO:JohnB@dubcolib.org
END:VEVENT
BEGIN:VEVENT
DTSTART;TZID=America/Chicago:20241106T180000
DTEND;TZID=America/Chicago:20241106T193000
DTSTAMP:20260419T211658
CREATED:20240925T180058Z
LAST-MODIFIED:20240925T180058Z
UID:10003390-1730916000-1730921400@www.dubcolib.org
SUMMARY:August Green Storyteller
DESCRIPTION:August Green is a talker by nature and a storyteller by trade\, with a unique blend of humor\, energy\, and relatability. “A modern day Andy Griffith with a twist of Garrison Keillor\,” August Green has developed a distinctive style that combines traditional storytelling methods steeped in Southern tradition while seasoning the pot with a distinctively Midwestern attitude. August Green brings a joyful energy to each show that leaves a lasting impression and specializes in comedy for seniors.
URL:https://www.dubcolib.org/event/august-green-storyteller/
LOCATION:Asbury Branch\, 5290 Grand Meadow Drive\, Asbury\, Iowa\, 52002
CATEGORIES:Adults
ATTACH;FMTTYPE=image/jpeg:https://www.dubcolib.org/wp-content/uploads/2024/09/Website-Resolution-3.jpg
ORGANIZER;CN="John Bogdal":MAILTO:JohnB@dubcolib.org
END:VEVENT
END:VCALENDAR