BEGIN:VCALENDAR
VERSION:2.0
PRODID:-//Dubuque County Library District - ECPv6.15.20//NONSGML v1.0//EN
CALSCALE:GREGORIAN
METHOD:PUBLISH
X-WR-CALNAME:Dubuque County Library District
X-ORIGINAL-URL:https://www.dubcolib.org
X-WR-CALDESC:Events for Dubuque County Library District
REFRESH-INTERVAL;VALUE=DURATION:PT1H
X-Robots-Tag:noindex
X-PUBLISHED-TTL:PT1H
BEGIN:VTIMEZONE
TZID:America/Chicago
BEGIN:DAYLIGHT
TZOFFSETFROM:-0600
TZOFFSETTO:-0500
TZNAME:CDT
DTSTART:20230312T080000
END:DAYLIGHT
BEGIN:STANDARD
TZOFFSETFROM:-0500
TZOFFSETTO:-0600
TZNAME:CST
DTSTART:20231105T070000
END:STANDARD
BEGIN:DAYLIGHT
TZOFFSETFROM:-0600
TZOFFSETTO:-0500
TZNAME:CDT
DTSTART:20240310T080000
END:DAYLIGHT
BEGIN:STANDARD
TZOFFSETFROM:-0500
TZOFFSETTO:-0600
TZNAME:CST
DTSTART:20241103T070000
END:STANDARD
BEGIN:DAYLIGHT
TZOFFSETFROM:-0600
TZOFFSETTO:-0500
TZNAME:CDT
DTSTART:20250309T080000
END:DAYLIGHT
BEGIN:STANDARD
TZOFFSETFROM:-0500
TZOFFSETTO:-0600
TZNAME:CST
DTSTART:20251102T070000
END:STANDARD
END:VTIMEZONE
BEGIN:VEVENT
DTSTART;TZID=America/Chicago:20241014T103000
DTEND;TZID=America/Chicago:20241014T110000
DTSTAMP:20260421T150728
CREATED:20240809T202925Z
LAST-MODIFIED:20241014T214621Z
UID:10003065-1728901800-1728903600@www.dubcolib.org
SUMMARY:Storytime
DESCRIPTION:Join Ms. Teresa for a half hour with some reading\, rhymes\, and playing with friends. Designed for children 2.5 – 5\, but younger and older siblings or friends are welcome.
URL:https://www.dubcolib.org/event/storytime-24/2024-10-14/
LOCATION:Epworth Branch\, 110 Bierman Road\, Epworth\, Iowa\, 52045
CATEGORIES:Preschoolers
ATTACH;FMTTYPE=image/jpeg:https://www.dubcolib.org/wp-content/uploads/2024/05/Website-Resolution-20.jpg
ORGANIZER;CN="Teresa Jack":MAILTO:teresaj@dubcolib.org
END:VEVENT
BEGIN:VEVENT
DTSTART;TZID=America/Chicago:20241014T163000
DTEND;TZID=America/Chicago:20241014T173000
DTSTAMP:20260421T150729
CREATED:20240909T171102Z
LAST-MODIFIED:20240917T210539Z
UID:10003428-1728923400-1728927000@www.dubcolib.org
SUMMARY:Nature Squad
DESCRIPTION:Nature Squad: Bringing the fun of the outdoors into the library! Join us for hands-on nature-themed activities that will spark kids’ love for the natural world and encourage them to explore nature. In October we’re making nature journals!
URL:https://www.dubcolib.org/event/nature-squad/
LOCATION:Peosta Branch\, 8342 NICC Drive\, Peosta\, Iowa\, 52068
CATEGORIES:Kids
ATTACH;FMTTYPE=image/jpeg:https://www.dubcolib.org/wp-content/uploads/2024/09/Website-Resolution-67.jpg
ORGANIZER;CN="Children's Librarian":MAILTO:LydiaS@dubcolib.org
END:VEVENT
BEGIN:VEVENT
DTSTART;TZID=America/Chicago:20241014T180000
DTEND;TZID=America/Chicago:20241014T190000
DTSTAMP:20260421T150729
CREATED:20240822T174409Z
LAST-MODIFIED:20240911T165712Z
UID:10003340-1728928800-1728932400@www.dubcolib.org
SUMMARY:Intro to Italian
DESCRIPTION:Master essential Italian phrases\, learn about the culture\, and explore a new language for FREE! This 3 week introductory course will cover everything from travel recommendations to ordering gelato and other phrases you’d need to to explore Italy like a local (or just show off at a local Italian restaurant!) \nFor ages 16+ RSVP recommended. Drop-ins welcome. RSVP for Week #1 (October 14th) registers you for the entire course.
URL:https://www.dubcolib.org/event/italian-for-travelers-3/
LOCATION:Asbury Branch\, 5290 Grand Meadow Drive\, Asbury\, Iowa\, 52002
CATEGORIES:Adults
ATTACH;FMTTYPE=image/png:https://www.dubcolib.org/wp-content/uploads/2024/08/Website-Resolution-60.png
ORGANIZER;CN="John Bogdal":MAILTO:JohnB@dubcolib.org
END:VEVENT
END:VCALENDAR