BEGIN:VCALENDAR
VERSION:2.0
PRODID:-//Dubuque County Library District - ECPv6.15.20//NONSGML v1.0//EN
CALSCALE:GREGORIAN
METHOD:PUBLISH
X-WR-CALNAME:Dubuque County Library District
X-ORIGINAL-URL:https://www.dubcolib.org
X-WR-CALDESC:Events for Dubuque County Library District
REFRESH-INTERVAL;VALUE=DURATION:PT1H
X-Robots-Tag:noindex
X-PUBLISHED-TTL:PT1H
BEGIN:VTIMEZONE
TZID:America/Chicago
BEGIN:DAYLIGHT
TZOFFSETFROM:-0600
TZOFFSETTO:-0500
TZNAME:CDT
DTSTART:20230312T080000
END:DAYLIGHT
BEGIN:STANDARD
TZOFFSETFROM:-0500
TZOFFSETTO:-0600
TZNAME:CST
DTSTART:20231105T070000
END:STANDARD
BEGIN:DAYLIGHT
TZOFFSETFROM:-0600
TZOFFSETTO:-0500
TZNAME:CDT
DTSTART:20240310T080000
END:DAYLIGHT
BEGIN:STANDARD
TZOFFSETFROM:-0500
TZOFFSETTO:-0600
TZNAME:CST
DTSTART:20241103T070000
END:STANDARD
BEGIN:DAYLIGHT
TZOFFSETFROM:-0600
TZOFFSETTO:-0500
TZNAME:CDT
DTSTART:20250309T080000
END:DAYLIGHT
BEGIN:STANDARD
TZOFFSETFROM:-0500
TZOFFSETTO:-0600
TZNAME:CST
DTSTART:20251102T070000
END:STANDARD
END:VTIMEZONE
BEGIN:VEVENT
DTSTART;TZID=America/Chicago:20240920T110000
DTEND;TZID=America/Chicago:20240920T120000
DTSTAMP:20260420T181923
CREATED:20240814T213223Z
LAST-MODIFIED:20240814T213350Z
UID:10003255-1726830000-1726833600@www.dubcolib.org
SUMMARY:Chair Yoga
DESCRIPTION:Come and stretch your body in the most relaxed way…from your chair!  You’ll get a full body strength and stretching workout from head to toe every time in only 60 minutes! The class runs September 13th – October 4th. RSVP for all 4 weeks HERE
URL:https://www.dubcolib.org/event/chair-yoga-6/2024-09-20/
LOCATION:Asbury Branch\, 5290 Grand Meadow Drive\, Asbury\, Iowa\, 52002
CATEGORIES:Adults
ATTACH;FMTTYPE=image/jpeg:https://www.dubcolib.org/wp-content/uploads/2024/04/Website-Resolution-15.jpg
ORGANIZER;CN="John Bogdal":MAILTO:JohnB@dubcolib.org
END:VEVENT
BEGIN:VEVENT
DTSTART;TZID=America/Chicago:20240920T163000
DTEND;TZID=America/Chicago:20240920T170000
DTSTAMP:20260420T181923
CREATED:20240814T220326Z
LAST-MODIFIED:20240814T220326Z
UID:10003311-1726849800-1726851600@www.dubcolib.org
SUMMARY:Kids Craft Club: Kites
DESCRIPTION:Join us for a monthly craft project for kids! In September we’re making paper plate kites.
URL:https://www.dubcolib.org/event/kids-craft-club-kites-2/
LOCATION:Farley Branch\, 206 1st Street North\, Farley\, IA\, 52046
CATEGORIES:Kids
ATTACH;FMTTYPE=image/jpeg:https://www.dubcolib.org/wp-content/uploads/2024/08/Website-Resolution-57.jpg
ORGANIZER;CN="Children's Librarian":MAILTO:LydiaS@dubcolib.org
END:VEVENT
END:VCALENDAR