BEGIN:VCALENDAR
VERSION:2.0
PRODID:-//Dubuque County Library District - ECPv6.15.20//NONSGML v1.0//EN
CALSCALE:GREGORIAN
METHOD:PUBLISH
X-ORIGINAL-URL:https://www.dubcolib.org
X-WR-CALDESC:Events for Dubuque County Library District
REFRESH-INTERVAL;VALUE=DURATION:PT1H
X-Robots-Tag:noindex
X-PUBLISHED-TTL:PT1H
BEGIN:VTIMEZONE
TZID:America/Chicago
BEGIN:DAYLIGHT
TZOFFSETFROM:-0600
TZOFFSETTO:-0500
TZNAME:CDT
DTSTART:20230312T080000
END:DAYLIGHT
BEGIN:STANDARD
TZOFFSETFROM:-0500
TZOFFSETTO:-0600
TZNAME:CST
DTSTART:20231105T070000
END:STANDARD
BEGIN:DAYLIGHT
TZOFFSETFROM:-0600
TZOFFSETTO:-0500
TZNAME:CDT
DTSTART:20240310T080000
END:DAYLIGHT
BEGIN:STANDARD
TZOFFSETFROM:-0500
TZOFFSETTO:-0600
TZNAME:CST
DTSTART:20241103T070000
END:STANDARD
BEGIN:DAYLIGHT
TZOFFSETFROM:-0600
TZOFFSETTO:-0500
TZNAME:CDT
DTSTART:20250309T080000
END:DAYLIGHT
BEGIN:STANDARD
TZOFFSETFROM:-0500
TZOFFSETTO:-0600
TZNAME:CST
DTSTART:20251102T070000
END:STANDARD
END:VTIMEZONE
BEGIN:VEVENT
DTSTART;TZID=America/Chicago:20240919T110000
DTEND;TZID=America/Chicago:20240919T120000
DTSTAMP:20260420T195334
CREATED:20240816T184853Z
LAST-MODIFIED:20241025T162047Z
UID:10003321-1726743600-1726747200@www.dubcolib.org
SUMMARY:Tai Chi
DESCRIPTION:Tai Chi consists of slow\, fluid\, gentle movements. It can be practiced almost anywhere and is accessible for individuals at any fitness level.\nThis 2 month twice weekly class is taught by a certified Tai Chi instructor and is suitable for beginners. Class is held Tuesday and Thursday mornings 11:00 – Noon September 3rd – October 31st. RSVP is required. RSVP HERE for all 16 classes.
URL:https://www.dubcolib.org/event/tai-chi-4/2024-09-19/
LOCATION:Asbury Branch\, 5290 Grand Meadow Drive\, Asbury\, Iowa\, 52002
CATEGORIES:Adults
ATTACH;FMTTYPE=image/png:https://www.dubcolib.org/wp-content/uploads/2024/02/4.png
ORGANIZER;CN="John Bogdal":MAILTO:JohnB@dubcolib.org
END:VEVENT
BEGIN:VEVENT
DTSTART;TZID=America/Chicago:20240919T163000
DTEND;TZID=America/Chicago:20240919T170000
DTSTAMP:20260420T195334
CREATED:20240814T220250Z
LAST-MODIFIED:20240814T220250Z
UID:10003310-1726763400-1726765200@www.dubcolib.org
SUMMARY:Kids Craft Club: Kites
DESCRIPTION:Join us for a monthly craft project for kids! In September we’re making paper plate kites.
URL:https://www.dubcolib.org/event/kids-craft-club-kites/
LOCATION:Asbury Branch\, 5290 Grand Meadow Drive\, Asbury\, Iowa\, 52002
CATEGORIES:Kids
ATTACH;FMTTYPE=image/jpeg:https://www.dubcolib.org/wp-content/uploads/2024/08/Website-Resolution-57.jpg
ORGANIZER;CN="Children's Librarian":MAILTO:LydiaS@dubcolib.org
END:VEVENT
BEGIN:VEVENT
DTSTART;TZID=America/Chicago:20240919T163000
DTEND;TZID=America/Chicago:20240919T173000
DTSTAMP:20260420T195334
CREATED:20240810T174910Z
LAST-MODIFIED:20240810T174910Z
UID:10002847-1726763400-1726767000@www.dubcolib.org
SUMMARY:Life Skills: Debate Club
DESCRIPTION:Unlock the power of your voice in our dynamic life skills library program\, where you’ll dive into engaging communication exercises and debate over fascinating pre-selected issues. Sharpen your wit\, boost your confidence\, and master the art of persuasion in a lively and supportive setting.
URL:https://www.dubcolib.org/event/life-skills-debate-club-3/
LOCATION:Farley Branch\, 206 1st Street North\, Farley\, IA\, 52046
CATEGORIES:Teens
ATTACH;FMTTYPE=image/jpeg:https://www.dubcolib.org/wp-content/uploads/2024/05/Website-Resolution-38.jpg
ORGANIZER;CN="John Bogdal":MAILTO:JohnB@dubcolib.org
END:VEVENT
END:VCALENDAR