BEGIN:VCALENDAR
VERSION:2.0
PRODID:-//Dubuque County Library District - ECPv6.15.20//NONSGML v1.0//EN
CALSCALE:GREGORIAN
METHOD:PUBLISH
X-ORIGINAL-URL:https://www.dubcolib.org
X-WR-CALDESC:Events for Dubuque County Library District
REFRESH-INTERVAL;VALUE=DURATION:PT1H
X-Robots-Tag:noindex
X-PUBLISHED-TTL:PT1H
BEGIN:VTIMEZONE
TZID:America/Chicago
BEGIN:DAYLIGHT
TZOFFSETFROM:-0600
TZOFFSETTO:-0500
TZNAME:CDT
DTSTART:20230312T080000
END:DAYLIGHT
BEGIN:STANDARD
TZOFFSETFROM:-0500
TZOFFSETTO:-0600
TZNAME:CST
DTSTART:20231105T070000
END:STANDARD
BEGIN:DAYLIGHT
TZOFFSETFROM:-0600
TZOFFSETTO:-0500
TZNAME:CDT
DTSTART:20240310T080000
END:DAYLIGHT
BEGIN:STANDARD
TZOFFSETFROM:-0500
TZOFFSETTO:-0600
TZNAME:CST
DTSTART:20241103T070000
END:STANDARD
BEGIN:DAYLIGHT
TZOFFSETFROM:-0600
TZOFFSETTO:-0500
TZNAME:CDT
DTSTART:20250309T080000
END:DAYLIGHT
BEGIN:STANDARD
TZOFFSETFROM:-0500
TZOFFSETTO:-0600
TZNAME:CST
DTSTART:20251102T070000
END:STANDARD
END:VTIMEZONE
BEGIN:VEVENT
DTSTART;TZID=America/Chicago:20240917T090000
DTEND;TZID=America/Chicago:20240917T093000
DTSTAMP:20260421T021611
CREATED:20240809T180614Z
LAST-MODIFIED:20241029T150903Z
UID:10002926-1726563600-1726565400@www.dubcolib.org
SUMMARY:Storytime
DESCRIPTION:Join Ms. Teresa for a half hour with some reading\, rhymes\, and playing with friends. Designed for children 2.5 – 5\, but younger and older siblings or friends are welcome.
URL:https://www.dubcolib.org/event/storytime-22/2024-09-17/
LOCATION:Peosta Branch\, 8342 NICC Drive\, Peosta\, Iowa\, 52068
CATEGORIES:Preschoolers
ATTACH;FMTTYPE=image/jpeg:https://www.dubcolib.org/wp-content/uploads/2024/05/Website-Resolution-20.jpg
ORGANIZER;CN="Teresa Jack":MAILTO:teresaj@dubcolib.org
END:VEVENT
BEGIN:VEVENT
DTSTART;TZID=America/Chicago:20240917T100000
DTEND;TZID=America/Chicago:20240917T103000
DTSTAMP:20260421T021611
CREATED:20240809T204045Z
LAST-MODIFIED:20240812T221806Z
UID:10003193-1726567200-1726569000@www.dubcolib.org
SUMMARY:Storytime
DESCRIPTION:Join Ms. Teresa for a half hour with some reading\, rhymes\, and playing with friends. Designed for children 2.5 – 5\, but younger and older siblings or friends are welcome.
URL:https://www.dubcolib.org/event/storytime-25/2024-09-17/
LOCATION:Farley Branch\, 206 1st Street North\, Farley\, IA\, 52046
CATEGORIES:Preschoolers
ATTACH;FMTTYPE=image/jpeg:https://www.dubcolib.org/wp-content/uploads/2024/05/Website-Resolution-20.jpg
ORGANIZER;CN="Teresa Jack":MAILTO:teresaj@dubcolib.org
END:VEVENT
BEGIN:VEVENT
DTSTART;TZID=America/Chicago:20240917T110000
DTEND;TZID=America/Chicago:20240917T120000
DTSTAMP:20260421T021611
CREATED:20240816T184853Z
LAST-MODIFIED:20241025T162047Z
UID:10003320-1726570800-1726574400@www.dubcolib.org
SUMMARY:Tai Chi
DESCRIPTION:Tai Chi consists of slow\, fluid\, gentle movements. It can be practiced almost anywhere and is accessible for individuals at any fitness level.\nThis 2 month twice weekly class is taught by a certified Tai Chi instructor and is suitable for beginners. Class is held Tuesday and Thursday mornings 11:00 – Noon September 3rd – October 31st. RSVP is required. RSVP HERE for all 16 classes.
URL:https://www.dubcolib.org/event/tai-chi-4/2024-09-17/
LOCATION:Asbury Branch\, 5290 Grand Meadow Drive\, Asbury\, Iowa\, 52002
CATEGORIES:Adults
ATTACH;FMTTYPE=image/png:https://www.dubcolib.org/wp-content/uploads/2024/02/4.png
ORGANIZER;CN="John Bogdal":MAILTO:JohnB@dubcolib.org
END:VEVENT
BEGIN:VEVENT
DTSTART;TZID=America/Chicago:20240917T163000
DTEND;TZID=America/Chicago:20240917T173000
DTSTAMP:20260421T021611
CREATED:20240810T174858Z
LAST-MODIFIED:20240810T174858Z
UID:10002845-1726590600-1726594200@www.dubcolib.org
SUMMARY:Life Skills: Debate Club
DESCRIPTION:Unlock the power of your voice in our dynamic life skills library program\, where you’ll dive into engaging communication exercises and debate over fascinating pre-selected issues. Sharpen your wit\, boost your confidence\, and master the art of persuasion in a lively and supportive setting.
URL:https://www.dubcolib.org/event/life-skills-debate-club-2/
LOCATION:Peosta Branch\, 8342 NICC Drive\, Peosta\, Iowa\, 52068
CATEGORIES:Teens
ATTACH;FMTTYPE=image/jpeg:https://www.dubcolib.org/wp-content/uploads/2024/05/Website-Resolution-38.jpg
ORGANIZER;CN="John Bogdal":MAILTO:JohnB@dubcolib.org
END:VEVENT
BEGIN:VEVENT
DTSTART;TZID=America/Chicago:20240917T173000
DTEND;TZID=America/Chicago:20240917T183000
DTSTAMP:20260421T021611
CREATED:20240802T224656Z
LAST-MODIFIED:20240913T161318Z
UID:10002809-1726594200-1726597800@www.dubcolib.org
SUMMARY:Dubuque County Library District Board of Trustees Meeting
DESCRIPTION:The Board of Trustees will hold their monthly meeting. The agenda for this meeting and minutes from previous meetings can be found online. This meeting will be held at the Future Farley Library Branch: 502 2nd Ave. SW\, Farley\, IA 52046
URL:https://www.dubcolib.org/event/dubuque-county-library-district-board-of-trustees-meeting/
LOCATION:Farley Branch\, 206 1st Street North\, Farley\, IA\, 52046
CATEGORIES:All Ages
ATTACH;FMTTYPE=image/png:https://www.dubcolib.org/wp-content/uploads/2024/08/Website-Resolution-53.png
END:VEVENT
END:VCALENDAR