BEGIN:VCALENDAR
VERSION:2.0
PRODID:-//Dubuque County Library District - ECPv6.15.20//NONSGML v1.0//EN
CALSCALE:GREGORIAN
METHOD:PUBLISH
X-ORIGINAL-URL:https://www.dubcolib.org
X-WR-CALDESC:Events for Dubuque County Library District
REFRESH-INTERVAL;VALUE=DURATION:PT1H
X-Robots-Tag:noindex
X-PUBLISHED-TTL:PT1H
BEGIN:VTIMEZONE
TZID:America/Chicago
BEGIN:DAYLIGHT
TZOFFSETFROM:-0600
TZOFFSETTO:-0500
TZNAME:CDT
DTSTART:20230312T080000
END:DAYLIGHT
BEGIN:STANDARD
TZOFFSETFROM:-0500
TZOFFSETTO:-0600
TZNAME:CST
DTSTART:20231105T070000
END:STANDARD
BEGIN:DAYLIGHT
TZOFFSETFROM:-0600
TZOFFSETTO:-0500
TZNAME:CDT
DTSTART:20240310T080000
END:DAYLIGHT
BEGIN:STANDARD
TZOFFSETFROM:-0500
TZOFFSETTO:-0600
TZNAME:CST
DTSTART:20241103T070000
END:STANDARD
BEGIN:DAYLIGHT
TZOFFSETFROM:-0600
TZOFFSETTO:-0500
TZNAME:CDT
DTSTART:20250309T080000
END:DAYLIGHT
BEGIN:STANDARD
TZOFFSETFROM:-0500
TZOFFSETTO:-0600
TZNAME:CST
DTSTART:20251102T070000
END:STANDARD
END:VTIMEZONE
BEGIN:VEVENT
DTSTART;TZID=America/Chicago:20240827T160000
DTEND;TZID=America/Chicago:20240827T163000
DTSTAMP:20260422T093330
CREATED:20240720T155334Z
LAST-MODIFIED:20240814T222213Z
UID:10002800-1724774400-1724776200@www.dubcolib.org
SUMMARY:Kids Craft Club - Diamond Art
DESCRIPTION:Join us for a monthly craft project for kids! In August we’re making diamond art!
URL:https://www.dubcolib.org/event/kids-craft-club-diamond-art-3/
LOCATION:Farley Branch\, 206 1st Street North\, Farley\, IA\, 52046
CATEGORIES:Kids
ATTACH;FMTTYPE=image/jpeg:https://www.dubcolib.org/wp-content/uploads/2024/07/Website-Resolution-48.jpg
ORGANIZER;CN="Children's Librarian":MAILTO:LydiaS@dubcolib.org
END:VEVENT
BEGIN:VEVENT
DTSTART;TZID=America/Chicago:20240827T163000
DTEND;TZID=America/Chicago:20240827T173000
DTSTAMP:20260422T093330
CREATED:20240720T151823Z
LAST-MODIFIED:20240720T151823Z
UID:10002795-1724776200-1724779800@www.dubcolib.org
SUMMARY:Chess Club
DESCRIPTION:Welcome to the timeless game of chess! Join us for engaging lessons where beginners and seasoned players alike can sharpen their skills and learn winning tactics and strategies.
URL:https://www.dubcolib.org/event/chess-club-14/
LOCATION:Peosta Branch\, 8342 NICC Drive\, Peosta\, Iowa\, 52068
CATEGORIES:Teens
ATTACH;FMTTYPE=image/png:https://www.dubcolib.org/wp-content/uploads/2024/03/Website-Resolution-3.png
ORGANIZER;CN="John Bogdal":MAILTO:JohnB@dubcolib.org
END:VEVENT
END:VCALENDAR