BEGIN:VCALENDAR
VERSION:2.0
PRODID:-//Dubuque County Library District - ECPv6.15.20//NONSGML v1.0//EN
CALSCALE:GREGORIAN
METHOD:PUBLISH
X-WR-CALNAME:Dubuque County Library District
X-ORIGINAL-URL:https://www.dubcolib.org
X-WR-CALDESC:Events for Dubuque County Library District
REFRESH-INTERVAL;VALUE=DURATION:PT1H
X-Robots-Tag:noindex
X-PUBLISHED-TTL:PT1H
BEGIN:VTIMEZONE
TZID:America/Chicago
BEGIN:DAYLIGHT
TZOFFSETFROM:-0600
TZOFFSETTO:-0500
TZNAME:CDT
DTSTART:20230312T080000
END:DAYLIGHT
BEGIN:STANDARD
TZOFFSETFROM:-0500
TZOFFSETTO:-0600
TZNAME:CST
DTSTART:20231105T070000
END:STANDARD
BEGIN:DAYLIGHT
TZOFFSETFROM:-0600
TZOFFSETTO:-0500
TZNAME:CDT
DTSTART:20240310T080000
END:DAYLIGHT
BEGIN:STANDARD
TZOFFSETFROM:-0500
TZOFFSETTO:-0600
TZNAME:CST
DTSTART:20241103T070000
END:STANDARD
BEGIN:DAYLIGHT
TZOFFSETFROM:-0600
TZOFFSETTO:-0500
TZNAME:CDT
DTSTART:20250309T080000
END:DAYLIGHT
BEGIN:STANDARD
TZOFFSETFROM:-0500
TZOFFSETTO:-0600
TZNAME:CST
DTSTART:20251102T070000
END:STANDARD
END:VTIMEZONE
BEGIN:VEVENT
DTSTART;TZID=America/Chicago:20240826T163000
DTEND;TZID=America/Chicago:20240826T170000
DTSTAMP:20260419T193914
CREATED:20240720T155310Z
LAST-MODIFIED:20240813T234737Z
UID:10002801-1724689800-1724691600@www.dubcolib.org
SUMMARY:Kids Craft Club - Diamond Art
DESCRIPTION:Join us for a monthly craft project for kids! In August we’re making diamond art!
URL:https://www.dubcolib.org/event/kids-craft-club-diamond-art-2/
LOCATION:Holy Cross Branch\, 895 Main Street\, Holy Cross\, Iowa\, 52053
CATEGORIES:Kids
ATTACH;FMTTYPE=image/jpeg:https://www.dubcolib.org/wp-content/uploads/2024/07/Website-Resolution-48.jpg
ORGANIZER;CN="Children's Librarian":MAILTO:LydiaS@dubcolib.org
END:VEVENT
BEGIN:VEVENT
DTSTART;TZID=America/Chicago:20240826T180000
DTEND;TZID=America/Chicago:20240826T190000
DTSTAMP:20260419T193914
CREATED:20240720T173845Z
LAST-MODIFIED:20240729T183100Z
UID:10002794-1724695200-1724698800@www.dubcolib.org
SUMMARY:Craft Club
DESCRIPTION:Join us for this monthly crafting program. August’s craft is Map Coasters. Designed for adults\, teens welcome. Registration recommended\, drop-ins welcome as supplies last.
URL:https://www.dubcolib.org/event/adult-craft-club-8/
LOCATION:Holy Cross Branch\, 895 Main Street\, Holy Cross\, Iowa\, 52053
CATEGORIES:Adults
ATTACH;FMTTYPE=image/jpeg:https://www.dubcolib.org/wp-content/uploads/2024/07/Adult-Craft-Club-Facebook-Event-Cover-1920-x-1080-px-9.jpg
ORGANIZER;CN="John Bogdal":MAILTO:JohnB@dubcolib.org
END:VEVENT
END:VCALENDAR