BEGIN:VCALENDAR
VERSION:2.0
PRODID:-//Dubuque County Library District - ECPv6.15.20//NONSGML v1.0//EN
CALSCALE:GREGORIAN
METHOD:PUBLISH
X-WR-CALNAME:Dubuque County Library District
X-ORIGINAL-URL:https://www.dubcolib.org
X-WR-CALDESC:Events for Dubuque County Library District
REFRESH-INTERVAL;VALUE=DURATION:PT1H
X-Robots-Tag:noindex
X-PUBLISHED-TTL:PT1H
BEGIN:VTIMEZONE
TZID:America/Chicago
BEGIN:DAYLIGHT
TZOFFSETFROM:-0600
TZOFFSETTO:-0500
TZNAME:CDT
DTSTART:20230312T080000
END:DAYLIGHT
BEGIN:STANDARD
TZOFFSETFROM:-0500
TZOFFSETTO:-0600
TZNAME:CST
DTSTART:20231105T070000
END:STANDARD
BEGIN:DAYLIGHT
TZOFFSETFROM:-0600
TZOFFSETTO:-0500
TZNAME:CDT
DTSTART:20240310T080000
END:DAYLIGHT
BEGIN:STANDARD
TZOFFSETFROM:-0500
TZOFFSETTO:-0600
TZNAME:CST
DTSTART:20241103T070000
END:STANDARD
BEGIN:DAYLIGHT
TZOFFSETFROM:-0600
TZOFFSETTO:-0500
TZNAME:CDT
DTSTART:20250309T080000
END:DAYLIGHT
BEGIN:STANDARD
TZOFFSETFROM:-0500
TZOFFSETTO:-0600
TZNAME:CST
DTSTART:20251102T070000
END:STANDARD
END:VTIMEZONE
BEGIN:VEVENT
DTSTART;TZID=America/Chicago:20240822T160000
DTEND;TZID=America/Chicago:20240822T160000
DTSTAMP:20260422T093147
CREATED:20240720T163332Z
LAST-MODIFIED:20240723T221518Z
UID:10002803-1724342400-1724342400@www.dubcolib.org
SUMMARY:Kids Craft Club - Diamond Art
DESCRIPTION:Join us for a monthly craft project for kids! In August we’re making diamond art!
URL:https://www.dubcolib.org/event/kids-craft-club-diamond-art-5/
LOCATION:Asbury Branch\, 5290 Grand Meadow Drive\, Asbury\, Iowa\, 52002
CATEGORIES:Kids
ATTACH;FMTTYPE=image/jpeg:https://www.dubcolib.org/wp-content/uploads/2024/07/Website-Resolution-48.jpg
ORGANIZER;CN="Kayla Ferguson":MAILTO:kaylaf@dubcolib.org
END:VEVENT
BEGIN:VEVENT
DTSTART;TZID=America/Chicago:20240822T163000
DTEND;TZID=America/Chicago:20240822T173000
DTSTAMP:20260422T093147
CREATED:20240720T151736Z
LAST-MODIFIED:20240720T151752Z
UID:10002792-1724344200-1724347800@www.dubcolib.org
SUMMARY:Ukulele Jam
DESCRIPTION:Interested in learning the ukulele? Join us for fun-filled workshops where you’ll learn to play catchy tunes. No prior experience required Ð just bring your enthusiasm and your ukulele\, or borrow one of ours! Registration required. (library ukuleles limited)
URL:https://www.dubcolib.org/event/ukulele-jam-7/
LOCATION:Peosta Branch\, 8342 NICC Drive\, Peosta\, Iowa\, 52068
CATEGORIES:Teens
ATTACH;FMTTYPE=image/jpeg:https://www.dubcolib.org/wp-content/uploads/2024/05/Website-Resolution-30.jpg
ORGANIZER;CN="John Bogdal":MAILTO:JohnB@dubcolib.org
END:VEVENT
END:VCALENDAR