BEGIN:VCALENDAR
VERSION:2.0
PRODID:-//Dubuque County Library District - ECPv6.15.20//NONSGML v1.0//EN
CALSCALE:GREGORIAN
METHOD:PUBLISH
X-ORIGINAL-URL:https://www.dubcolib.org
X-WR-CALDESC:Events for Dubuque County Library District
REFRESH-INTERVAL;VALUE=DURATION:PT1H
X-Robots-Tag:noindex
X-PUBLISHED-TTL:PT1H
BEGIN:VTIMEZONE
TZID:America/Chicago
BEGIN:DAYLIGHT
TZOFFSETFROM:-0600
TZOFFSETTO:-0500
TZNAME:CDT
DTSTART:20230312T080000
END:DAYLIGHT
BEGIN:STANDARD
TZOFFSETFROM:-0500
TZOFFSETTO:-0600
TZNAME:CST
DTSTART:20231105T070000
END:STANDARD
BEGIN:DAYLIGHT
TZOFFSETFROM:-0600
TZOFFSETTO:-0500
TZNAME:CDT
DTSTART:20240310T080000
END:DAYLIGHT
BEGIN:STANDARD
TZOFFSETFROM:-0500
TZOFFSETTO:-0600
TZNAME:CST
DTSTART:20241103T070000
END:STANDARD
BEGIN:DAYLIGHT
TZOFFSETFROM:-0600
TZOFFSETTO:-0500
TZNAME:CDT
DTSTART:20250309T080000
END:DAYLIGHT
BEGIN:STANDARD
TZOFFSETFROM:-0500
TZOFFSETTO:-0600
TZNAME:CST
DTSTART:20251102T070000
END:STANDARD
END:VTIMEZONE
BEGIN:VEVENT
DTSTART;TZID=America/Chicago:20240819T100000
DTEND;TZID=America/Chicago:20240819T103000
DTSTAMP:20260419T230236
CREATED:20240720T164238Z
LAST-MODIFIED:20240720T164238Z
UID:10002804-1724061600-1724063400@www.dubcolib.org
SUMMARY:Summer Smiles
DESCRIPTION:Learn about oral health from Lacey Sowle\, Registered Dental Hygienist with the Dubuque Visiting Nurse Association. Children will receive a free bag\, water bottle and oral hygiene supplies!
URL:https://www.dubcolib.org/event/summer-smiles-2/
LOCATION:Asbury Branch\, 5290 Grand Meadow Drive\, Asbury\, Iowa\, 52002
CATEGORIES:Kids
ATTACH;FMTTYPE=image/jpeg:https://www.dubcolib.org/wp-content/uploads/2024/07/Website-Resolution-51.jpg
ORGANIZER;CN="Children's Librarian":MAILTO:LydiaS@dubcolib.org
END:VEVENT
BEGIN:VEVENT
DTSTART;TZID=America/Chicago:20240819T163000
DTEND;TZID=America/Chicago:20240819T173000
DTSTAMP:20260419T230236
CREATED:20240720T162625Z
LAST-MODIFIED:20240720T162625Z
UID:10002788-1724085000-1724088600@www.dubcolib.org
SUMMARY:Aviation Day: Paper Airplanes
DESCRIPTION:Celebrate Aviation Day with a paper plane workshop. Learn the art of paper plane design\, explore aerodynamics\, and put your creations to the test in friendly competitions.
URL:https://www.dubcolib.org/event/aviation-day-paper-airplanes/
LOCATION:Asbury Branch\, 5290 Grand Meadow Drive\, Asbury\, Iowa\, 52002
CATEGORIES:Teens
ATTACH;FMTTYPE=image/png:https://www.dubcolib.org/wp-content/uploads/2024/02/Untitled-design-35.png
ORGANIZER;CN="John Bogdal":MAILTO:JohnB@dubcolib.org
END:VEVENT
BEGIN:VEVENT
DTSTART;TZID=America/Chicago:20240819T180000
DTEND;TZID=America/Chicago:20240819T190000
DTSTAMP:20260419T230236
CREATED:20240720T162824Z
LAST-MODIFIED:20240813T192441Z
UID:10002789-1724090400-1724094000@www.dubcolib.org
SUMMARY:Back to School: Organizer Jessi
DESCRIPTION:Join professional organizer Jessi Bushman\, who will guide you through creating a personalized schedule\, prioritizing tasks\, and streamlining school prep. From arranging transportation and after-school programs to finalizing school supplies and sports gear\, Jessi will help ensure a smooth start to the academic year. \nBack in Session: Getting Organized for the new school year!
URL:https://www.dubcolib.org/event/back-to-school-organizer-jessi/
LOCATION:Asbury Branch\, 5290 Grand Meadow Drive\, Asbury\, Iowa\, 52002
CATEGORIES:Adults
ATTACH;FMTTYPE=image/png:https://www.dubcolib.org/wp-content/uploads/2024/02/8.png
ORGANIZER;CN="John Bogdal":MAILTO:JohnB@dubcolib.org
END:VEVENT
END:VCALENDAR