BEGIN:VCALENDAR
VERSION:2.0
PRODID:-//Dubuque County Library District - ECPv6.15.20//NONSGML v1.0//EN
CALSCALE:GREGORIAN
METHOD:PUBLISH
X-ORIGINAL-URL:https://www.dubcolib.org
X-WR-CALDESC:Events for Dubuque County Library District
REFRESH-INTERVAL;VALUE=DURATION:PT1H
X-Robots-Tag:noindex
X-PUBLISHED-TTL:PT1H
BEGIN:VTIMEZONE
TZID:America/Chicago
BEGIN:DAYLIGHT
TZOFFSETFROM:-0600
TZOFFSETTO:-0500
TZNAME:CDT
DTSTART:20230312T080000
END:DAYLIGHT
BEGIN:STANDARD
TZOFFSETFROM:-0500
TZOFFSETTO:-0600
TZNAME:CST
DTSTART:20231105T070000
END:STANDARD
BEGIN:DAYLIGHT
TZOFFSETFROM:-0600
TZOFFSETTO:-0500
TZNAME:CDT
DTSTART:20240310T080000
END:DAYLIGHT
BEGIN:STANDARD
TZOFFSETFROM:-0500
TZOFFSETTO:-0600
TZNAME:CST
DTSTART:20241103T070000
END:STANDARD
BEGIN:DAYLIGHT
TZOFFSETFROM:-0600
TZOFFSETTO:-0500
TZNAME:CDT
DTSTART:20250309T080000
END:DAYLIGHT
BEGIN:STANDARD
TZOFFSETFROM:-0500
TZOFFSETTO:-0600
TZNAME:CST
DTSTART:20251102T070000
END:STANDARD
END:VTIMEZONE
BEGIN:VEVENT
DTSTART;TZID=America/Chicago:20240725T130000
DTEND;TZID=America/Chicago:20240725T140000
DTSTAMP:20260423T030534
CREATED:20240503T190003Z
LAST-MODIFIED:20240513T193148Z
UID:10002709-1721912400-1721916000@www.dubcolib.org
SUMMARY:Summer Adventures
DESCRIPTION:Stop by every week for snacks\, crafts\, games and more for kids in 1st – 5th grade. Please RSVP HERE
URL:https://www.dubcolib.org/event/summer-adventures-2/2024-07-25/
LOCATION:Peosta Branch\, 8342 NICC Drive\, Peosta\, Iowa\, 52068
CATEGORIES:Kids
ATTACH;FMTTYPE=image/jpeg:https://www.dubcolib.org/wp-content/uploads/2024/05/Website-Resolution-19.jpg
ORGANIZER;CN="Teresa Jack":MAILTO:teresaj@dubcolib.org
END:VEVENT
BEGIN:VEVENT
DTSTART;TZID=America/Chicago:20240725T143000
DTEND;TZID=America/Chicago:20240725T153000
DTSTAMP:20260423T030534
CREATED:20240503T190715Z
LAST-MODIFIED:20240513T182157Z
UID:10002701-1721917800-1721921400@www.dubcolib.org
SUMMARY:Summer Adventures
DESCRIPTION:Stop by every week for snacks\, crafts\, games and more for kids in 1st – 5th grade. Please RSVP HERE
URL:https://www.dubcolib.org/event/summer-adventures-3/2024-07-25/
LOCATION:Farley Branch\, 206 1st Street North\, Farley\, IA\, 52046
CATEGORIES:Kids
ATTACH;FMTTYPE=image/jpeg:https://www.dubcolib.org/wp-content/uploads/2024/05/Website-Resolution-19.jpg
ORGANIZER;CN="Teresa Jack":MAILTO:teresaj@dubcolib.org
END:VEVENT
BEGIN:VEVENT
DTSTART;TZID=America/Chicago:20240725T160000
DTEND;TZID=America/Chicago:20240725T170000
DTSTAMP:20260423T030534
CREATED:20240503T191003Z
LAST-MODIFIED:20240513T182134Z
UID:10002693-1721923200-1721926800@www.dubcolib.org
SUMMARY:Summer Adventures
DESCRIPTION:Stop by every week for snacks\, crafts\, games and more for kids in 1st – 5th grade. Please RSVP HERE
URL:https://www.dubcolib.org/event/summer-adventures-5/2024-07-25/
LOCATION:Holy Cross Branch\, 895 Main Street\, Holy Cross\, Iowa\, 52053
CATEGORIES:Kids
ATTACH;FMTTYPE=image/jpeg:https://www.dubcolib.org/wp-content/uploads/2024/05/Website-Resolution-19.jpg
ORGANIZER;CN="Teresa Jack":MAILTO:teresaj@dubcolib.org
END:VEVENT
BEGIN:VEVENT
DTSTART;TZID=America/Chicago:20240725T163000
DTEND;TZID=America/Chicago:20240725T173000
DTSTAMP:20260423T030534
CREATED:20240504T204239Z
LAST-MODIFIED:20240621T182444Z
UID:10002661-1721925000-1721928600@www.dubcolib.org
SUMMARY:Ukulele Jam
DESCRIPTION:Strum into summer with our beginner ukulele program at the library! Join us for fun-filled workshops where you’ll learn to play catchy tunes. No prior experience required – just bring your enthusiasm and your ukulele\, or borrow one of ours! RSVP required.
URL:https://www.dubcolib.org/event/ukulele-jam-2/
LOCATION:Farley Branch\, 206 1st Street North\, Farley\, IA\, 52046
CATEGORIES:Teens
ATTACH;FMTTYPE=image/jpeg:https://www.dubcolib.org/wp-content/uploads/2024/05/Website-Resolution-30.jpg
ORGANIZER;CN="John Bogdal":MAILTO:JohnB@dubcolib.org
END:VEVENT
END:VCALENDAR