BEGIN:VCALENDAR
VERSION:2.0
PRODID:-//Dubuque County Library District - ECPv6.15.20//NONSGML v1.0//EN
CALSCALE:GREGORIAN
METHOD:PUBLISH
X-ORIGINAL-URL:https://www.dubcolib.org
X-WR-CALDESC:Events for Dubuque County Library District
REFRESH-INTERVAL;VALUE=DURATION:PT1H
X-Robots-Tag:noindex
X-PUBLISHED-TTL:PT1H
BEGIN:VTIMEZONE
TZID:America/Chicago
BEGIN:DAYLIGHT
TZOFFSETFROM:-0600
TZOFFSETTO:-0500
TZNAME:CDT
DTSTART:20230312T080000
END:DAYLIGHT
BEGIN:STANDARD
TZOFFSETFROM:-0500
TZOFFSETTO:-0600
TZNAME:CST
DTSTART:20231105T070000
END:STANDARD
BEGIN:DAYLIGHT
TZOFFSETFROM:-0600
TZOFFSETTO:-0500
TZNAME:CDT
DTSTART:20240310T080000
END:DAYLIGHT
BEGIN:STANDARD
TZOFFSETFROM:-0500
TZOFFSETTO:-0600
TZNAME:CST
DTSTART:20241103T070000
END:STANDARD
BEGIN:DAYLIGHT
TZOFFSETFROM:-0600
TZOFFSETTO:-0500
TZNAME:CDT
DTSTART:20250309T080000
END:DAYLIGHT
BEGIN:STANDARD
TZOFFSETFROM:-0500
TZOFFSETTO:-0600
TZNAME:CST
DTSTART:20251102T070000
END:STANDARD
END:VTIMEZONE
BEGIN:VEVENT
DTSTART;TZID=America/Chicago:20240723T090000
DTEND;TZID=America/Chicago:20240723T093000
DTSTAMP:20260422T231012
CREATED:20240503T190129Z
LAST-MODIFIED:20240711T215334Z
UID:10002449-1721725200-1721727000@www.dubcolib.org
SUMMARY:Baby & Toddler Storytime
DESCRIPTION:Songs\, stories and time for playing with friends! For children 0-24 month and their older siblings.
URL:https://www.dubcolib.org/event/__trashed-78/2024-07-23/
LOCATION:Peosta Branch\, 8342 NICC Drive\, Peosta\, Iowa\, 52068
CATEGORIES:Babies & Toddlers
ATTACH;FMTTYPE=image/jpeg:https://www.dubcolib.org/wp-content/uploads/2024/05/Website-Resolution-21.jpg
ORGANIZER;CN="Teresa Jack":MAILTO:teresaj@dubcolib.org
END:VEVENT
BEGIN:VEVENT
DTSTART;TZID=America/Chicago:20240723T100000
DTEND;TZID=America/Chicago:20240723T103000
DTSTAMP:20260422T231012
CREATED:20240503T190129Z
LAST-MODIFIED:20240723T221451Z
UID:10002213-1721728800-1721730600@www.dubcolib.org
SUMMARY:Read! Have fun! Repeat!
DESCRIPTION:An exciting mixture of books\, songs\, juggling\, music\, dance\, messy art\, fingerplay\, scavenger hunts\, and large motor activities ! Programs are designed for children 2.5 – 5\, but younger and older siblings or friends are welcome and encouraged.
URL:https://www.dubcolib.org/event/__trashed-82/2024-07-23/
LOCATION:Farley Branch\, 206 1st Street North\, Farley\, IA\, 52046
CATEGORIES:Preschoolers
ATTACH;FMTTYPE=image/jpeg:https://www.dubcolib.org/wp-content/uploads/2024/05/Website-Resolution-20.jpg
ORGANIZER;CN="Teresa Jack":MAILTO:teresaj@dubcolib.org
END:VEVENT
BEGIN:VEVENT
DTSTART;TZID=America/Chicago:20240723T163000
DTEND;TZID=America/Chicago:20240723T173000
DTSTAMP:20260422T231012
CREATED:20240513T170600Z
LAST-MODIFIED:20240621T190434Z
UID:10002718-1721752200-1721755800@www.dubcolib.org
SUMMARY:Board Game Party
DESCRIPTION:Explore our collection of board games with friends\, or bring your favorite from home!
URL:https://www.dubcolib.org/event/board-game-party-5/
LOCATION:Peosta Branch\, 8342 NICC Drive\, Peosta\, Iowa\, 52068
CATEGORIES:All Ages
ATTACH;FMTTYPE=image/jpeg:https://www.dubcolib.org/wp-content/uploads/2024/05/Website-Resolution-41.jpg
ORGANIZER;CN="John Bogdal":MAILTO:JohnB@dubcolib.org
END:VEVENT
BEGIN:VEVENT
DTSTART;TZID=America/Chicago:20240723T180000
DTEND;TZID=America/Chicago:20240723T190000
DTSTAMP:20260422T231012
CREATED:20240506T195300Z
LAST-MODIFIED:20240506T195300Z
UID:10002659-1721757600-1721761200@www.dubcolib.org
SUMMARY:Adult Craft Club
DESCRIPTION:Join us for this monthly crafting program. RSVP recommended\, drop-ins welcome. July is candle holders. Designed for adults but teens welcome.
URL:https://www.dubcolib.org/event/adult-craft-club-7/
LOCATION:Peosta Branch\, 8342 NICC Drive\, Peosta\, Iowa\, 52068
CATEGORIES:Adults
ORGANIZER;CN="John Bogdal":MAILTO:JohnB@dubcolib.org
END:VEVENT
END:VCALENDAR