BEGIN:VCALENDAR
VERSION:2.0
PRODID:-//Dubuque County Library District - ECPv6.15.20//NONSGML v1.0//EN
CALSCALE:GREGORIAN
METHOD:PUBLISH
X-ORIGINAL-URL:https://www.dubcolib.org
X-WR-CALDESC:Events for Dubuque County Library District
REFRESH-INTERVAL;VALUE=DURATION:PT1H
X-Robots-Tag:noindex
X-PUBLISHED-TTL:PT1H
BEGIN:VTIMEZONE
TZID:America/Chicago
BEGIN:DAYLIGHT
TZOFFSETFROM:-0600
TZOFFSETTO:-0500
TZNAME:CDT
DTSTART:20230312T080000
END:DAYLIGHT
BEGIN:STANDARD
TZOFFSETFROM:-0500
TZOFFSETTO:-0600
TZNAME:CST
DTSTART:20231105T070000
END:STANDARD
BEGIN:DAYLIGHT
TZOFFSETFROM:-0600
TZOFFSETTO:-0500
TZNAME:CDT
DTSTART:20240310T080000
END:DAYLIGHT
BEGIN:STANDARD
TZOFFSETFROM:-0500
TZOFFSETTO:-0600
TZNAME:CST
DTSTART:20241103T070000
END:STANDARD
BEGIN:DAYLIGHT
TZOFFSETFROM:-0600
TZOFFSETTO:-0500
TZNAME:CDT
DTSTART:20250309T080000
END:DAYLIGHT
BEGIN:STANDARD
TZOFFSETFROM:-0500
TZOFFSETTO:-0600
TZNAME:CST
DTSTART:20251102T070000
END:STANDARD
END:VTIMEZONE
BEGIN:VEVENT
DTSTART;TZID=America/Chicago:20240702T090000
DTEND;TZID=America/Chicago:20240702T093000
DTSTAMP:20260422T051310
CREATED:20240503T190129Z
LAST-MODIFIED:20240711T215334Z
UID:10002448-1719910800-1719912600@www.dubcolib.org
SUMMARY:Baby & Toddler Storytime
DESCRIPTION:Songs\, stories and time for playing with friends! For children 0-24 month and their older siblings.
URL:https://www.dubcolib.org/event/__trashed-78/2024-07-02/
LOCATION:Peosta Branch\, 8342 NICC Drive\, Peosta\, Iowa\, 52068
CATEGORIES:Babies & Toddlers
ATTACH;FMTTYPE=image/jpeg:https://www.dubcolib.org/wp-content/uploads/2024/05/Website-Resolution-21.jpg
ORGANIZER;CN="Teresa Jack":MAILTO:teresaj@dubcolib.org
END:VEVENT
BEGIN:VEVENT
DTSTART;TZID=America/Chicago:20240702T100000
DTEND;TZID=America/Chicago:20240702T103000
DTSTAMP:20260422T051310
CREATED:20240503T205432Z
LAST-MODIFIED:20240723T221323Z
UID:10002391-1719914400-1719916200@www.dubcolib.org
SUMMARY:Read! Have fun! Repeat!
DESCRIPTION:An exciting mixture of books\, songs\, juggling\, music\, dance\, messy art\, fingerplay\, scavenger hunts\, large motor activities and more books! Programs are designed for children 2.5 – 5\, but younger and older siblings or friends are welcome and encouraged.
URL:https://www.dubcolib.org/event/read-have-fun-repeat-2/2024-07-02/
LOCATION:Holy Cross Branch\, 895 Main Street\, Holy Cross\, Iowa\, 52053
CATEGORIES:Preschoolers
ATTACH;FMTTYPE=image/jpeg:https://www.dubcolib.org/wp-content/uploads/2024/05/Website-Resolution-20.jpg
ORGANIZER;CN="Teresa Jack":MAILTO:teresaj@dubcolib.org
END:VEVENT
BEGIN:VEVENT
DTSTART;TZID=America/Chicago:20240702T163000
DTEND;TZID=America/Chicago:20240702T173000
DTSTAMP:20260422T051310
CREATED:20240504T221615Z
LAST-MODIFIED:20240504T221615Z
UID:10002644-1719937800-1719941400@www.dubcolib.org
SUMMARY:Balloon Car Racing
DESCRIPTION:Build a balloon-powered car from recycled materials\, then race them against your friends to see whose car travels the farthest!
URL:https://www.dubcolib.org/event/balloon-car-racing-2/
LOCATION:Peosta Branch\, 8342 NICC Drive\, Peosta\, Iowa\, 52068
CATEGORIES:Teens
ATTACH;FMTTYPE=image/png:https://www.dubcolib.org/wp-content/uploads/2024/05/Website-Resolution-36.png
ORGANIZER;CN="John Bogdal":MAILTO:JohnB@dubcolib.org
END:VEVENT
BEGIN:VEVENT
DTSTART;TZID=America/Chicago:20240702T180000
DTEND;TZID=America/Chicago:20240702T190000
DTSTAMP:20260422T051310
CREATED:20240504T222432Z
LAST-MODIFIED:20240504T222432Z
UID:10002645-1719943200-1719946800@www.dubcolib.org
SUMMARY:Cybersecurity w/ Dan Fleming
DESCRIPTION:Learn from cybersecurity expert Daniel Fleming as he shares invaluable insights and practical tips to bolster digital security. Gain essential knowledge to safeguard your online presence and navigate the digital landscape with confidence.
URL:https://www.dubcolib.org/event/cybersecurity-w-dan-fleming/
LOCATION:Peosta Branch\, 8342 NICC Drive\, Peosta\, Iowa\, 52068
CATEGORIES:Adults
ATTACH;FMTTYPE=image/jpeg:https://www.dubcolib.org/wp-content/uploads/2024/05/Website-Resolution-37.jpg
ORGANIZER;CN="John Bogdal":MAILTO:JohnB@dubcolib.org
END:VEVENT
END:VCALENDAR